BEGIN:VCALENDAR
VERSION:2.0
PRODID:-//AV8MAPS.COM - ECPv6.15.20//NONSGML v1.0//EN
CALSCALE:GREGORIAN
METHOD:PUBLISH
X-WR-CALNAME:AV8MAPS.COM
X-ORIGINAL-URL:https://av8maps.com
X-WR-CALDESC:Events for AV8MAPS.COM
REFRESH-INTERVAL;VALUE=DURATION:PT1H
X-Robots-Tag:noindex
X-PUBLISHED-TTL:PT1H
BEGIN:VTIMEZONE
TZID:America/New_York
BEGIN:DAYLIGHT
TZOFFSETFROM:-0500
TZOFFSETTO:-0400
TZNAME:EDT
DTSTART:20250309T070000
END:DAYLIGHT
BEGIN:STANDARD
TZOFFSETFROM:-0400
TZOFFSETTO:-0500
TZNAME:EST
DTSTART:20251102T060000
END:STANDARD
BEGIN:DAYLIGHT
TZOFFSETFROM:-0500
TZOFFSETTO:-0400
TZNAME:EDT
DTSTART:20260308T070000
END:DAYLIGHT
BEGIN:STANDARD
TZOFFSETFROM:-0400
TZOFFSETTO:-0500
TZNAME:EST
DTSTART:20261101T060000
END:STANDARD
BEGIN:DAYLIGHT
TZOFFSETFROM:-0500
TZOFFSETTO:-0400
TZNAME:EDT
DTSTART:20270314T070000
END:DAYLIGHT
BEGIN:STANDARD
TZOFFSETFROM:-0400
TZOFFSETTO:-0500
TZNAME:EST
DTSTART:20271107T060000
END:STANDARD
BEGIN:DAYLIGHT
TZOFFSETFROM:-0500
TZOFFSETTO:-0400
TZNAME:EDT
DTSTART:20280312T070000
END:DAYLIGHT
BEGIN:STANDARD
TZOFFSETFROM:-0400
TZOFFSETTO:-0500
TZNAME:EST
DTSTART:20281105T060000
END:STANDARD
BEGIN:DAYLIGHT
TZOFFSETFROM:-0500
TZOFFSETTO:-0400
TZNAME:EDT
DTSTART:20290311T070000
END:DAYLIGHT
BEGIN:STANDARD
TZOFFSETFROM:-0400
TZOFFSETTO:-0500
TZNAME:EST
DTSTART:20291104T060000
END:STANDARD
BEGIN:DAYLIGHT
TZOFFSETFROM:-0500
TZOFFSETTO:-0400
TZNAME:EDT
DTSTART:20300310T070000
END:DAYLIGHT
BEGIN:STANDARD
TZOFFSETFROM:-0400
TZOFFSETTO:-0500
TZNAME:EST
DTSTART:20301103T060000
END:STANDARD
BEGIN:DAYLIGHT
TZOFFSETFROM:-0500
TZOFFSETTO:-0400
TZNAME:EDT
DTSTART:20310309T070000
END:DAYLIGHT
BEGIN:STANDARD
TZOFFSETFROM:-0400
TZOFFSETTO:-0500
TZNAME:EST
DTSTART:20311102T060000
END:STANDARD
END:VTIMEZONE
BEGIN:VEVENT
DTSTART;TZID=America/New_York:20261121T120000
DTEND;TZID=America/New_York:20261121T160000
DTSTAMP:20260423T164754
CREATED:20251121T165007Z
LAST-MODIFIED:20251215T132345Z
UID:10005799-1795262400-1795276800@av8maps.com
SUMMARY:Annual Prestige Worldwide Open House (KLOT)
DESCRIPTION:Join us for our annual Open House event on November 22nd 11am-3pm at Lewis University Airport\, Hanger 104!\nWhat to expect:\nFREE catered lunch\nSocial hour\nPresentation about our flying club\n& FREE RAFFLES to include:\n-ANR Headset\n-Club Membership or $1000 account credit for members\n-Tailwheel endorsement/Decathlon Checkout\n–minus the instructor’s time\, up to 10 hours(members only)\n-Flight Review/IPC – with Scott Hall\n-Flight Review/IPC – with Steven Perrotta\n-Ram Mount for Tablet\n-Intro Flight/Acro Flight in Deacthlon\nAll Raffle limitations: Must be present to claim prize. Drawing will be at 1pm. Additional Raffle tickets available for $10
URL:https://av8maps.com/event/2025-prestige-worldwide-open-house/2026-11-21/
LOCATION:1 George J Michas Dr.\, 601 Iola Ave\, Romeoville\, IL\, United States
GEO:41.6504263;-88.0894099
X-APPLE-STRUCTURED-LOCATION;VALUE=URI;X-ADDRESS=1 George J Michas Dr. 601 Iola Ave Romeoville IL United States;X-APPLE-RADIUS=500;X-TITLE=601 Iola Ave:geo:-88.0894099,41.6504263
END:VEVENT
BEGIN:VEVENT
DTSTART;TZID=America/New_York:20271120T120000
DTEND;TZID=America/New_York:20271120T160000
DTSTAMP:20260423T164754
CREATED:20251121T165007Z
LAST-MODIFIED:20251215T132345Z
UID:10005800-1826712000-1826726400@av8maps.com
SUMMARY:Annual Prestige Worldwide Open House (KLOT)
DESCRIPTION:Join us for our annual Open House event on November 22nd 11am-3pm at Lewis University Airport\, Hanger 104!\nWhat to expect:\nFREE catered lunch\nSocial hour\nPresentation about our flying club\n& FREE RAFFLES to include:\n-ANR Headset\n-Club Membership or $1000 account credit for members\n-Tailwheel endorsement/Decathlon Checkout\n–minus the instructor’s time\, up to 10 hours(members only)\n-Flight Review/IPC – with Scott Hall\n-Flight Review/IPC – with Steven Perrotta\n-Ram Mount for Tablet\n-Intro Flight/Acro Flight in Deacthlon\nAll Raffle limitations: Must be present to claim prize. Drawing will be at 1pm. Additional Raffle tickets available for $10
URL:https://av8maps.com/event/2025-prestige-worldwide-open-house/2027-11-20/
LOCATION:1 George J Michas Dr.\, 601 Iola Ave\, Romeoville\, IL\, United States
GEO:41.6504263;-88.0894099
X-APPLE-STRUCTURED-LOCATION;VALUE=URI;X-ADDRESS=1 George J Michas Dr. 601 Iola Ave Romeoville IL United States;X-APPLE-RADIUS=500;X-TITLE=601 Iola Ave:geo:-88.0894099,41.6504263
END:VEVENT
BEGIN:VEVENT
DTSTART;TZID=America/New_York:20281118T120000
DTEND;TZID=America/New_York:20281118T160000
DTSTAMP:20260423T164754
CREATED:20251121T165007Z
LAST-MODIFIED:20251215T132345Z
UID:10005801-1858161600-1858176000@av8maps.com
SUMMARY:Annual Prestige Worldwide Open House (KLOT)
DESCRIPTION:Join us for our annual Open House event on November 22nd 11am-3pm at Lewis University Airport\, Hanger 104!\nWhat to expect:\nFREE catered lunch\nSocial hour\nPresentation about our flying club\n& FREE RAFFLES to include:\n-ANR Headset\n-Club Membership or $1000 account credit for members\n-Tailwheel endorsement/Decathlon Checkout\n–minus the instructor’s time\, up to 10 hours(members only)\n-Flight Review/IPC – with Scott Hall\n-Flight Review/IPC – with Steven Perrotta\n-Ram Mount for Tablet\n-Intro Flight/Acro Flight in Deacthlon\nAll Raffle limitations: Must be present to claim prize. Drawing will be at 1pm. Additional Raffle tickets available for $10
URL:https://av8maps.com/event/2025-prestige-worldwide-open-house/2028-11-18/
LOCATION:1 George J Michas Dr.\, 601 Iola Ave\, Romeoville\, IL\, United States
GEO:41.6504263;-88.0894099
X-APPLE-STRUCTURED-LOCATION;VALUE=URI;X-ADDRESS=1 George J Michas Dr. 601 Iola Ave Romeoville IL United States;X-APPLE-RADIUS=500;X-TITLE=601 Iola Ave:geo:-88.0894099,41.6504263
END:VEVENT
BEGIN:VEVENT
DTSTART;TZID=America/New_York:20291117T120000
DTEND;TZID=America/New_York:20291117T160000
DTSTAMP:20260423T164754
CREATED:20251121T165007Z
LAST-MODIFIED:20251215T132345Z
UID:10005802-1889611200-1889625600@av8maps.com
SUMMARY:Annual Prestige Worldwide Open House (KLOT)
DESCRIPTION:Join us for our annual Open House event on November 22nd 11am-3pm at Lewis University Airport\, Hanger 104!\nWhat to expect:\nFREE catered lunch\nSocial hour\nPresentation about our flying club\n& FREE RAFFLES to include:\n-ANR Headset\n-Club Membership or $1000 account credit for members\n-Tailwheel endorsement/Decathlon Checkout\n–minus the instructor’s time\, up to 10 hours(members only)\n-Flight Review/IPC – with Scott Hall\n-Flight Review/IPC – with Steven Perrotta\n-Ram Mount for Tablet\n-Intro Flight/Acro Flight in Deacthlon\nAll Raffle limitations: Must be present to claim prize. Drawing will be at 1pm. Additional Raffle tickets available for $10
URL:https://av8maps.com/event/2025-prestige-worldwide-open-house/2029-11-17/
LOCATION:1 George J Michas Dr.\, 601 Iola Ave\, Romeoville\, IL\, United States
GEO:41.6504263;-88.0894099
X-APPLE-STRUCTURED-LOCATION;VALUE=URI;X-ADDRESS=1 George J Michas Dr. 601 Iola Ave Romeoville IL United States;X-APPLE-RADIUS=500;X-TITLE=601 Iola Ave:geo:-88.0894099,41.6504263
END:VEVENT
BEGIN:VEVENT
DTSTART;TZID=America/New_York:20301116T120000
DTEND;TZID=America/New_York:20301116T160000
DTSTAMP:20260423T164754
CREATED:20251121T165007Z
LAST-MODIFIED:20251215T132345Z
UID:10005803-1921060800-1921075200@av8maps.com
SUMMARY:Annual Prestige Worldwide Open House (KLOT)
DESCRIPTION:Join us for our annual Open House event on November 22nd 11am-3pm at Lewis University Airport\, Hanger 104!\nWhat to expect:\nFREE catered lunch\nSocial hour\nPresentation about our flying club\n& FREE RAFFLES to include:\n-ANR Headset\n-Club Membership or $1000 account credit for members\n-Tailwheel endorsement/Decathlon Checkout\n–minus the instructor’s time\, up to 10 hours(members only)\n-Flight Review/IPC – with Scott Hall\n-Flight Review/IPC – with Steven Perrotta\n-Ram Mount for Tablet\n-Intro Flight/Acro Flight in Deacthlon\nAll Raffle limitations: Must be present to claim prize. Drawing will be at 1pm. Additional Raffle tickets available for $10
URL:https://av8maps.com/event/2025-prestige-worldwide-open-house/2030-11-16/
LOCATION:1 George J Michas Dr.\, 601 Iola Ave\, Romeoville\, IL\, United States
GEO:41.6504263;-88.0894099
X-APPLE-STRUCTURED-LOCATION;VALUE=URI;X-ADDRESS=1 George J Michas Dr. 601 Iola Ave Romeoville IL United States;X-APPLE-RADIUS=500;X-TITLE=601 Iola Ave:geo:-88.0894099,41.6504263
END:VEVENT
END:VCALENDAR