BEGIN:VCALENDAR
VERSION:2.0
PRODID:-//AV8MAPS.COM - ECPv6.15.20//NONSGML v1.0//EN
CALSCALE:GREGORIAN
METHOD:PUBLISH
X-WR-CALNAME:AV8MAPS.COM
X-ORIGINAL-URL:https://av8maps.com
X-WR-CALDESC:Events for AV8MAPS.COM
REFRESH-INTERVAL;VALUE=DURATION:PT1H
X-Robots-Tag:noindex
X-PUBLISHED-TTL:PT1H
BEGIN:VTIMEZONE
TZID:America/New_York
BEGIN:DAYLIGHT
TZOFFSETFROM:-0500
TZOFFSETTO:-0400
TZNAME:EDT
DTSTART:20250309T070000
END:DAYLIGHT
BEGIN:STANDARD
TZOFFSETFROM:-0400
TZOFFSETTO:-0500
TZNAME:EST
DTSTART:20251102T060000
END:STANDARD
BEGIN:DAYLIGHT
TZOFFSETFROM:-0500
TZOFFSETTO:-0400
TZNAME:EDT
DTSTART:20260308T070000
END:DAYLIGHT
BEGIN:STANDARD
TZOFFSETFROM:-0400
TZOFFSETTO:-0500
TZNAME:EST
DTSTART:20261101T060000
END:STANDARD
BEGIN:DAYLIGHT
TZOFFSETFROM:-0500
TZOFFSETTO:-0400
TZNAME:EDT
DTSTART:20270314T070000
END:DAYLIGHT
BEGIN:STANDARD
TZOFFSETFROM:-0400
TZOFFSETTO:-0500
TZNAME:EST
DTSTART:20271107T060000
END:STANDARD
END:VTIMEZONE
BEGIN:VEVENT
DTSTART;TZID=America/New_York:20260425T090000
DTEND;TZID=America/New_York:20260425T170000
DTSTAMP:20260422T195642
CREATED:20260127T004910Z
LAST-MODIFIED:20260127T004910Z
UID:10005968-1777107600-1777136400@av8maps.com
SUMMARY:EAA Chapter 1607 Monthly 4th Sat Pancake Breakfast (KRYW)
DESCRIPTION:Pancake Breakfast: 9:00am\, Every 4th Saturday (unless otherwise noted)\, February through October.
URL:https://av8maps.com/event/eaa-chapter-1607-monthly-4th-sat-pancake-breakfast-kryw/2026-04-25/
LOCATION:Rusty Allen Airport\, 206 Flightline Rd\, Lago Vista\, Texas\, 78645
ATTACH;FMTTYPE=image/png:https://av8maps.com/wp-content/uploads/2026/01/EAA-Chapter-1607.png
GEO:30.4569275;-97.9701846
X-APPLE-STRUCTURED-LOCATION;VALUE=URI;X-ADDRESS=Rusty Allen Airport 206 Flightline Rd Lago Vista Texas 78645;X-APPLE-RADIUS=500;X-TITLE=206 Flightline Rd:geo:-97.9701846,30.4569275
END:VEVENT
BEGIN:VEVENT
DTSTART;TZID=America/New_York:20260523T090000
DTEND;TZID=America/New_York:20260523T170000
DTSTAMP:20260422T195642
CREATED:20260127T004910Z
LAST-MODIFIED:20260127T004910Z
UID:10005969-1779526800-1779555600@av8maps.com
SUMMARY:EAA Chapter 1607 Monthly 4th Sat Pancake Breakfast (KRYW)
DESCRIPTION:Pancake Breakfast: 9:00am\, Every 4th Saturday (unless otherwise noted)\, February through October.
URL:https://av8maps.com/event/eaa-chapter-1607-monthly-4th-sat-pancake-breakfast-kryw/2026-05-23/
LOCATION:Rusty Allen Airport\, 206 Flightline Rd\, Lago Vista\, Texas\, 78645
ATTACH;FMTTYPE=image/png:https://av8maps.com/wp-content/uploads/2026/01/EAA-Chapter-1607.png
GEO:30.4569275;-97.9701846
X-APPLE-STRUCTURED-LOCATION;VALUE=URI;X-ADDRESS=Rusty Allen Airport 206 Flightline Rd Lago Vista Texas 78645;X-APPLE-RADIUS=500;X-TITLE=206 Flightline Rd:geo:-97.9701846,30.4569275
END:VEVENT
BEGIN:VEVENT
DTSTART;TZID=America/New_York:20260627T090000
DTEND;TZID=America/New_York:20260627T170000
DTSTAMP:20260422T195642
CREATED:20260127T004910Z
LAST-MODIFIED:20260127T004910Z
UID:10005970-1782550800-1782579600@av8maps.com
SUMMARY:EAA Chapter 1607 Monthly 4th Sat Pancake Breakfast (KRYW)
DESCRIPTION:Pancake Breakfast: 9:00am\, Every 4th Saturday (unless otherwise noted)\, February through October.
URL:https://av8maps.com/event/eaa-chapter-1607-monthly-4th-sat-pancake-breakfast-kryw/2026-06-27/
LOCATION:Rusty Allen Airport\, 206 Flightline Rd\, Lago Vista\, Texas\, 78645
ATTACH;FMTTYPE=image/png:https://av8maps.com/wp-content/uploads/2026/01/EAA-Chapter-1607.png
GEO:30.4569275;-97.9701846
X-APPLE-STRUCTURED-LOCATION;VALUE=URI;X-ADDRESS=Rusty Allen Airport 206 Flightline Rd Lago Vista Texas 78645;X-APPLE-RADIUS=500;X-TITLE=206 Flightline Rd:geo:-97.9701846,30.4569275
END:VEVENT
BEGIN:VEVENT
DTSTART;TZID=America/New_York:20260725T090000
DTEND;TZID=America/New_York:20260725T170000
DTSTAMP:20260422T195642
CREATED:20260127T004910Z
LAST-MODIFIED:20260127T004910Z
UID:10005971-1784970000-1784998800@av8maps.com
SUMMARY:EAA Chapter 1607 Monthly 4th Sat Pancake Breakfast (KRYW)
DESCRIPTION:Pancake Breakfast: 9:00am\, Every 4th Saturday (unless otherwise noted)\, February through October.
URL:https://av8maps.com/event/eaa-chapter-1607-monthly-4th-sat-pancake-breakfast-kryw/2026-07-25/
LOCATION:Rusty Allen Airport\, 206 Flightline Rd\, Lago Vista\, Texas\, 78645
ATTACH;FMTTYPE=image/png:https://av8maps.com/wp-content/uploads/2026/01/EAA-Chapter-1607.png
GEO:30.4569275;-97.9701846
X-APPLE-STRUCTURED-LOCATION;VALUE=URI;X-ADDRESS=Rusty Allen Airport 206 Flightline Rd Lago Vista Texas 78645;X-APPLE-RADIUS=500;X-TITLE=206 Flightline Rd:geo:-97.9701846,30.4569275
END:VEVENT
BEGIN:VEVENT
DTSTART;TZID=America/New_York:20260822T090000
DTEND;TZID=America/New_York:20260822T170000
DTSTAMP:20260422T195642
CREATED:20260127T004910Z
LAST-MODIFIED:20260127T004910Z
UID:10005972-1787389200-1787418000@av8maps.com
SUMMARY:EAA Chapter 1607 Monthly 4th Sat Pancake Breakfast (KRYW)
DESCRIPTION:Pancake Breakfast: 9:00am\, Every 4th Saturday (unless otherwise noted)\, February through October.
URL:https://av8maps.com/event/eaa-chapter-1607-monthly-4th-sat-pancake-breakfast-kryw/2026-08-22/
LOCATION:Rusty Allen Airport\, 206 Flightline Rd\, Lago Vista\, Texas\, 78645
ATTACH;FMTTYPE=image/png:https://av8maps.com/wp-content/uploads/2026/01/EAA-Chapter-1607.png
GEO:30.4569275;-97.9701846
X-APPLE-STRUCTURED-LOCATION;VALUE=URI;X-ADDRESS=Rusty Allen Airport 206 Flightline Rd Lago Vista Texas 78645;X-APPLE-RADIUS=500;X-TITLE=206 Flightline Rd:geo:-97.9701846,30.4569275
END:VEVENT
BEGIN:VEVENT
DTSTART;TZID=America/New_York:20260926T090000
DTEND;TZID=America/New_York:20260926T170000
DTSTAMP:20260422T195642
CREATED:20260127T004910Z
LAST-MODIFIED:20260127T004910Z
UID:10005973-1790413200-1790442000@av8maps.com
SUMMARY:EAA Chapter 1607 Monthly 4th Sat Pancake Breakfast (KRYW)
DESCRIPTION:Pancake Breakfast: 9:00am\, Every 4th Saturday (unless otherwise noted)\, February through October.
URL:https://av8maps.com/event/eaa-chapter-1607-monthly-4th-sat-pancake-breakfast-kryw/2026-09-26/
LOCATION:Rusty Allen Airport\, 206 Flightline Rd\, Lago Vista\, Texas\, 78645
ATTACH;FMTTYPE=image/png:https://av8maps.com/wp-content/uploads/2026/01/EAA-Chapter-1607.png
GEO:30.4569275;-97.9701846
X-APPLE-STRUCTURED-LOCATION;VALUE=URI;X-ADDRESS=Rusty Allen Airport 206 Flightline Rd Lago Vista Texas 78645;X-APPLE-RADIUS=500;X-TITLE=206 Flightline Rd:geo:-97.9701846,30.4569275
END:VEVENT
BEGIN:VEVENT
DTSTART;TZID=America/New_York:20261024T090000
DTEND;TZID=America/New_York:20261024T170000
DTSTAMP:20260422T195642
CREATED:20260127T004910Z
LAST-MODIFIED:20260127T004910Z
UID:10005974-1792832400-1792861200@av8maps.com
SUMMARY:EAA Chapter 1607 Monthly 4th Sat Pancake Breakfast (KRYW)
DESCRIPTION:Pancake Breakfast: 9:00am\, Every 4th Saturday (unless otherwise noted)\, February through October.
URL:https://av8maps.com/event/eaa-chapter-1607-monthly-4th-sat-pancake-breakfast-kryw/2026-10-24/
LOCATION:Rusty Allen Airport\, 206 Flightline Rd\, Lago Vista\, Texas\, 78645
ATTACH;FMTTYPE=image/png:https://av8maps.com/wp-content/uploads/2026/01/EAA-Chapter-1607.png
GEO:30.4569275;-97.9701846
X-APPLE-STRUCTURED-LOCATION;VALUE=URI;X-ADDRESS=Rusty Allen Airport 206 Flightline Rd Lago Vista Texas 78645;X-APPLE-RADIUS=500;X-TITLE=206 Flightline Rd:geo:-97.9701846,30.4569275
END:VEVENT
END:VCALENDAR