BEGIN:VCALENDAR
VERSION:2.0
PRODID:-//AV8MAPS.COM - ECPv6.15.20//NONSGML v1.0//EN
CALSCALE:GREGORIAN
METHOD:PUBLISH
X-WR-CALNAME:AV8MAPS.COM
X-ORIGINAL-URL:https://av8maps.com
X-WR-CALDESC:Events for AV8MAPS.COM
REFRESH-INTERVAL;VALUE=DURATION:PT1H
X-Robots-Tag:noindex
X-PUBLISHED-TTL:PT1H
BEGIN:VTIMEZONE
TZID:America/New_York
BEGIN:DAYLIGHT
TZOFFSETFROM:-0500
TZOFFSETTO:-0400
TZNAME:EDT
DTSTART:20260308T070000
END:DAYLIGHT
BEGIN:STANDARD
TZOFFSETFROM:-0400
TZOFFSETTO:-0500
TZNAME:EST
DTSTART:20261101T060000
END:STANDARD
BEGIN:DAYLIGHT
TZOFFSETFROM:-0500
TZOFFSETTO:-0400
TZNAME:EDT
DTSTART:20270314T070000
END:DAYLIGHT
BEGIN:STANDARD
TZOFFSETFROM:-0400
TZOFFSETTO:-0500
TZNAME:EST
DTSTART:20271107T060000
END:STANDARD
BEGIN:DAYLIGHT
TZOFFSETFROM:-0500
TZOFFSETTO:-0400
TZNAME:EDT
DTSTART:20280312T070000
END:DAYLIGHT
BEGIN:STANDARD
TZOFFSETFROM:-0400
TZOFFSETTO:-0500
TZNAME:EST
DTSTART:20281105T060000
END:STANDARD
BEGIN:DAYLIGHT
TZOFFSETFROM:-0500
TZOFFSETTO:-0400
TZNAME:EDT
DTSTART:20290311T070000
END:DAYLIGHT
BEGIN:STANDARD
TZOFFSETFROM:-0400
TZOFFSETTO:-0500
TZNAME:EST
DTSTART:20291104T060000
END:STANDARD
BEGIN:DAYLIGHT
TZOFFSETFROM:-0500
TZOFFSETTO:-0400
TZNAME:EDT
DTSTART:20300310T070000
END:DAYLIGHT
BEGIN:STANDARD
TZOFFSETFROM:-0400
TZOFFSETTO:-0500
TZNAME:EST
DTSTART:20301103T060000
END:STANDARD
BEGIN:DAYLIGHT
TZOFFSETFROM:-0500
TZOFFSETTO:-0400
TZNAME:EDT
DTSTART:20310309T070000
END:DAYLIGHT
BEGIN:STANDARD
TZOFFSETFROM:-0400
TZOFFSETTO:-0500
TZNAME:EST
DTSTART:20311102T060000
END:STANDARD
END:VTIMEZONE
BEGIN:VEVENT
DTSTART;TZID=America/New_York:20270213T100000
DTEND;TZID=America/New_York:20270213T140000
DTSTAMP:20260423T164800
CREATED:20260106T182104Z
LAST-MODIFIED:20260206T203207Z
UID:10006013-1802512800-1802527200@av8maps.com
SUMMARY:Bowman’s Annual Ski Plane Fly in (B10)
DESCRIPTION:Bowman Fields Annual Ski Plane Fly in. Fly in or drive in. What better way to break up the dog days of winter than getting together with aviation enthusiasts. The Bowman Members will be putting on a potluck feed for everyone who attends. I might be a bit biased but the Bowman family can put on a feed like no other. Don’t miss it.\nGood food\, great people and even better stories.\nSee you on the 14th.\nReminder. The runway is not plowed so it is Ski ops only.
URL:https://av8maps.com/event/bowmans-b10-16th-annual-ski-plane-fly-in-2/2027-02-13/
LOCATION:Bowman Field (Maine)\, 14 Lyman Ln\, Livermore Falls\, ME\, 04254
GEO:44.4117282;-70.1468595
X-APPLE-STRUCTURED-LOCATION;VALUE=URI;X-ADDRESS=Bowman Field (Maine) 14 Lyman Ln Livermore Falls ME 04254;X-APPLE-RADIUS=500;X-TITLE=14 Lyman Ln:geo:-70.1468595,44.4117282
END:VEVENT
BEGIN:VEVENT
DTSTART;TZID=America/New_York:20280212T100000
DTEND;TZID=America/New_York:20280212T140000
DTSTAMP:20260423T164800
CREATED:20260106T182104Z
LAST-MODIFIED:20260206T203207Z
UID:10006014-1833962400-1833976800@av8maps.com
SUMMARY:Bowman’s Annual Ski Plane Fly in (B10)
DESCRIPTION:Bowman Fields Annual Ski Plane Fly in. Fly in or drive in. What better way to break up the dog days of winter than getting together with aviation enthusiasts. The Bowman Members will be putting on a potluck feed for everyone who attends. I might be a bit biased but the Bowman family can put on a feed like no other. Don’t miss it.\nGood food\, great people and even better stories.\nSee you on the 14th.\nReminder. The runway is not plowed so it is Ski ops only.
URL:https://av8maps.com/event/bowmans-b10-16th-annual-ski-plane-fly-in-2/2028-02-12/
LOCATION:Bowman Field (Maine)\, 14 Lyman Ln\, Livermore Falls\, ME\, 04254
GEO:44.4117282;-70.1468595
X-APPLE-STRUCTURED-LOCATION;VALUE=URI;X-ADDRESS=Bowman Field (Maine) 14 Lyman Ln Livermore Falls ME 04254;X-APPLE-RADIUS=500;X-TITLE=14 Lyman Ln:geo:-70.1468595,44.4117282
END:VEVENT
BEGIN:VEVENT
DTSTART;TZID=America/New_York:20290210T100000
DTEND;TZID=America/New_York:20290210T140000
DTSTAMP:20260423T164800
CREATED:20260106T182104Z
LAST-MODIFIED:20260206T203207Z
UID:10006015-1865412000-1865426400@av8maps.com
SUMMARY:Bowman’s Annual Ski Plane Fly in (B10)
DESCRIPTION:Bowman Fields Annual Ski Plane Fly in. Fly in or drive in. What better way to break up the dog days of winter than getting together with aviation enthusiasts. The Bowman Members will be putting on a potluck feed for everyone who attends. I might be a bit biased but the Bowman family can put on a feed like no other. Don’t miss it.\nGood food\, great people and even better stories.\nSee you on the 14th.\nReminder. The runway is not plowed so it is Ski ops only.
URL:https://av8maps.com/event/bowmans-b10-16th-annual-ski-plane-fly-in-2/2029-02-10/
LOCATION:Bowman Field (Maine)\, 14 Lyman Ln\, Livermore Falls\, ME\, 04254
GEO:44.4117282;-70.1468595
X-APPLE-STRUCTURED-LOCATION;VALUE=URI;X-ADDRESS=Bowman Field (Maine) 14 Lyman Ln Livermore Falls ME 04254;X-APPLE-RADIUS=500;X-TITLE=14 Lyman Ln:geo:-70.1468595,44.4117282
END:VEVENT
BEGIN:VEVENT
DTSTART;TZID=America/New_York:20300209T100000
DTEND;TZID=America/New_York:20300209T140000
DTSTAMP:20260423T164800
CREATED:20260106T182104Z
LAST-MODIFIED:20260206T203207Z
UID:10006016-1896861600-1896876000@av8maps.com
SUMMARY:Bowman’s Annual Ski Plane Fly in (B10)
DESCRIPTION:Bowman Fields Annual Ski Plane Fly in. Fly in or drive in. What better way to break up the dog days of winter than getting together with aviation enthusiasts. The Bowman Members will be putting on a potluck feed for everyone who attends. I might be a bit biased but the Bowman family can put on a feed like no other. Don’t miss it.\nGood food\, great people and even better stories.\nSee you on the 14th.\nReminder. The runway is not plowed so it is Ski ops only.
URL:https://av8maps.com/event/bowmans-b10-16th-annual-ski-plane-fly-in-2/2030-02-09/
LOCATION:Bowman Field (Maine)\, 14 Lyman Ln\, Livermore Falls\, ME\, 04254
GEO:44.4117282;-70.1468595
X-APPLE-STRUCTURED-LOCATION;VALUE=URI;X-ADDRESS=Bowman Field (Maine) 14 Lyman Ln Livermore Falls ME 04254;X-APPLE-RADIUS=500;X-TITLE=14 Lyman Ln:geo:-70.1468595,44.4117282
END:VEVENT
END:VCALENDAR