BEGIN:VCALENDAR
VERSION:2.0
PRODID:-//AV8MAPS.COM - ECPv6.15.20//NONSGML v1.0//EN
CALSCALE:GREGORIAN
METHOD:PUBLISH
X-WR-CALNAME:AV8MAPS.COM
X-ORIGINAL-URL:https://av8maps.com
X-WR-CALDESC:Events for AV8MAPS.COM
REFRESH-INTERVAL;VALUE=DURATION:PT1H
X-Robots-Tag:noindex
X-PUBLISHED-TTL:PT1H
BEGIN:VTIMEZONE
TZID:America/New_York
BEGIN:DAYLIGHT
TZOFFSETFROM:-0500
TZOFFSETTO:-0400
TZNAME:EDT
DTSTART:20250309T070000
END:DAYLIGHT
BEGIN:STANDARD
TZOFFSETFROM:-0400
TZOFFSETTO:-0500
TZNAME:EST
DTSTART:20251102T060000
END:STANDARD
BEGIN:DAYLIGHT
TZOFFSETFROM:-0500
TZOFFSETTO:-0400
TZNAME:EDT
DTSTART:20260308T070000
END:DAYLIGHT
BEGIN:STANDARD
TZOFFSETFROM:-0400
TZOFFSETTO:-0500
TZNAME:EST
DTSTART:20261101T060000
END:STANDARD
BEGIN:DAYLIGHT
TZOFFSETFROM:-0500
TZOFFSETTO:-0400
TZNAME:EDT
DTSTART:20270314T070000
END:DAYLIGHT
BEGIN:STANDARD
TZOFFSETFROM:-0400
TZOFFSETTO:-0500
TZNAME:EST
DTSTART:20271107T060000
END:STANDARD
BEGIN:DAYLIGHT
TZOFFSETFROM:-0500
TZOFFSETTO:-0400
TZNAME:EDT
DTSTART:20280312T070000
END:DAYLIGHT
BEGIN:STANDARD
TZOFFSETFROM:-0400
TZOFFSETTO:-0500
TZNAME:EST
DTSTART:20281105T060000
END:STANDARD
BEGIN:DAYLIGHT
TZOFFSETFROM:-0500
TZOFFSETTO:-0400
TZNAME:EDT
DTSTART:20290311T070000
END:DAYLIGHT
BEGIN:STANDARD
TZOFFSETFROM:-0400
TZOFFSETTO:-0500
TZNAME:EST
DTSTART:20291104T060000
END:STANDARD
END:VTIMEZONE
BEGIN:VEVENT
DTSTART;TZID=America/New_York:20260516T070000
DTEND;TZID=America/New_York:20260516T213000
DTSTAMP:20260423T005033
CREATED:20251002T214105Z
LAST-MODIFIED:20260220T134501Z
UID:10006035-1778914800-1778967000@av8maps.com
SUMMARY:Monthly 3rd Saturday Pancake Breakfast (O38)
DESCRIPTION:Come on in for EAA Chapter 10’s Pancake breakfast. \nYou can find us at the EAA Chapter 10 Hangar.
URL:https://av8maps.com/event/wing-ding-2/2026-05-16/
LOCATION:Gundy’s Airport\, 7798 N 172nd E Ave\, Owasso\, OK\, 74055
ATTACH;FMTTYPE=image/jpeg:https://av8maps.com/wp-content/uploads/2025/10/Pancake-Breakfast-Fly-in-O38-e1771595091315.jpg
GEO:36.265755;-95.7836139
X-APPLE-STRUCTURED-LOCATION;VALUE=URI;X-ADDRESS=Gundy’s Airport 7798 N 172nd E Ave Owasso OK 74055;X-APPLE-RADIUS=500;X-TITLE=7798 N 172nd E Ave:geo:-95.7836139,36.265755
END:VEVENT
BEGIN:VEVENT
DTSTART;TZID=America/New_York:20260620T070000
DTEND;TZID=America/New_York:20260620T213000
DTSTAMP:20260423T005033
CREATED:20251002T214105Z
LAST-MODIFIED:20260220T134501Z
UID:10006036-1781938800-1781991000@av8maps.com
SUMMARY:Monthly 3rd Saturday Pancake Breakfast (O38)
DESCRIPTION:Come on in for EAA Chapter 10’s Pancake breakfast. \nYou can find us at the EAA Chapter 10 Hangar.
URL:https://av8maps.com/event/wing-ding-2/2026-06-20/
LOCATION:Gundy’s Airport\, 7798 N 172nd E Ave\, Owasso\, OK\, 74055
ATTACH;FMTTYPE=image/jpeg:https://av8maps.com/wp-content/uploads/2025/10/Pancake-Breakfast-Fly-in-O38-e1771595091315.jpg
GEO:36.265755;-95.7836139
X-APPLE-STRUCTURED-LOCATION;VALUE=URI;X-ADDRESS=Gundy’s Airport 7798 N 172nd E Ave Owasso OK 74055;X-APPLE-RADIUS=500;X-TITLE=7798 N 172nd E Ave:geo:-95.7836139,36.265755
END:VEVENT
BEGIN:VEVENT
DTSTART;TZID=America/New_York:20260718T070000
DTEND;TZID=America/New_York:20260718T213000
DTSTAMP:20260423T005033
CREATED:20251002T214105Z
LAST-MODIFIED:20260220T134501Z
UID:10006037-1784358000-1784410200@av8maps.com
SUMMARY:Monthly 3rd Saturday Pancake Breakfast (O38)
DESCRIPTION:Come on in for EAA Chapter 10’s Pancake breakfast. \nYou can find us at the EAA Chapter 10 Hangar.
URL:https://av8maps.com/event/wing-ding-2/2026-07-18/
LOCATION:Gundy’s Airport\, 7798 N 172nd E Ave\, Owasso\, OK\, 74055
ATTACH;FMTTYPE=image/jpeg:https://av8maps.com/wp-content/uploads/2025/10/Pancake-Breakfast-Fly-in-O38-e1771595091315.jpg
GEO:36.265755;-95.7836139
X-APPLE-STRUCTURED-LOCATION;VALUE=URI;X-ADDRESS=Gundy’s Airport 7798 N 172nd E Ave Owasso OK 74055;X-APPLE-RADIUS=500;X-TITLE=7798 N 172nd E Ave:geo:-95.7836139,36.265755
END:VEVENT
BEGIN:VEVENT
DTSTART;TZID=America/New_York:20260815T070000
DTEND;TZID=America/New_York:20260815T213000
DTSTAMP:20260423T005033
CREATED:20251002T214105Z
LAST-MODIFIED:20260220T134501Z
UID:10006038-1786777200-1786829400@av8maps.com
SUMMARY:Monthly 3rd Saturday Pancake Breakfast (O38)
DESCRIPTION:Come on in for EAA Chapter 10’s Pancake breakfast. \nYou can find us at the EAA Chapter 10 Hangar.
URL:https://av8maps.com/event/wing-ding-2/2026-08-15/
LOCATION:Gundy’s Airport\, 7798 N 172nd E Ave\, Owasso\, OK\, 74055
ATTACH;FMTTYPE=image/jpeg:https://av8maps.com/wp-content/uploads/2025/10/Pancake-Breakfast-Fly-in-O38-e1771595091315.jpg
GEO:36.265755;-95.7836139
X-APPLE-STRUCTURED-LOCATION;VALUE=URI;X-ADDRESS=Gundy’s Airport 7798 N 172nd E Ave Owasso OK 74055;X-APPLE-RADIUS=500;X-TITLE=7798 N 172nd E Ave:geo:-95.7836139,36.265755
END:VEVENT
BEGIN:VEVENT
DTSTART;TZID=America/New_York:20260919T070000
DTEND;TZID=America/New_York:20260919T213000
DTSTAMP:20260423T005033
CREATED:20251002T214105Z
LAST-MODIFIED:20260220T134501Z
UID:10006039-1789801200-1789853400@av8maps.com
SUMMARY:Monthly 3rd Saturday Pancake Breakfast (O38)
DESCRIPTION:Come on in for EAA Chapter 10’s Pancake breakfast. \nYou can find us at the EAA Chapter 10 Hangar.
URL:https://av8maps.com/event/wing-ding-2/2026-09-19/
LOCATION:Gundy’s Airport\, 7798 N 172nd E Ave\, Owasso\, OK\, 74055
ATTACH;FMTTYPE=image/jpeg:https://av8maps.com/wp-content/uploads/2025/10/Pancake-Breakfast-Fly-in-O38-e1771595091315.jpg
GEO:36.265755;-95.7836139
X-APPLE-STRUCTURED-LOCATION;VALUE=URI;X-ADDRESS=Gundy’s Airport 7798 N 172nd E Ave Owasso OK 74055;X-APPLE-RADIUS=500;X-TITLE=7798 N 172nd E Ave:geo:-95.7836139,36.265755
END:VEVENT
BEGIN:VEVENT
DTSTART;TZID=America/New_York:20261017T070000
DTEND;TZID=America/New_York:20261017T213000
DTSTAMP:20260423T005033
CREATED:20251002T214105Z
LAST-MODIFIED:20260220T134501Z
UID:10006040-1792220400-1792272600@av8maps.com
SUMMARY:Monthly 3rd Saturday Pancake Breakfast (O38)
DESCRIPTION:Come on in for EAA Chapter 10’s Pancake breakfast. \nYou can find us at the EAA Chapter 10 Hangar.
URL:https://av8maps.com/event/wing-ding-2/2026-10-17/
LOCATION:Gundy’s Airport\, 7798 N 172nd E Ave\, Owasso\, OK\, 74055
ATTACH;FMTTYPE=image/jpeg:https://av8maps.com/wp-content/uploads/2025/10/Pancake-Breakfast-Fly-in-O38-e1771595091315.jpg
GEO:36.265755;-95.7836139
X-APPLE-STRUCTURED-LOCATION;VALUE=URI;X-ADDRESS=Gundy’s Airport 7798 N 172nd E Ave Owasso OK 74055;X-APPLE-RADIUS=500;X-TITLE=7798 N 172nd E Ave:geo:-95.7836139,36.265755
END:VEVENT
BEGIN:VEVENT
DTSTART;TZID=America/New_York:20261121T070000
DTEND;TZID=America/New_York:20261121T213000
DTSTAMP:20260423T005033
CREATED:20251002T214105Z
LAST-MODIFIED:20260220T134501Z
UID:10006041-1795244400-1795296600@av8maps.com
SUMMARY:Monthly 3rd Saturday Pancake Breakfast (O38)
DESCRIPTION:Come on in for EAA Chapter 10’s Pancake breakfast. \nYou can find us at the EAA Chapter 10 Hangar.
URL:https://av8maps.com/event/wing-ding-2/2026-11-21/
LOCATION:Gundy’s Airport\, 7798 N 172nd E Ave\, Owasso\, OK\, 74055
ATTACH;FMTTYPE=image/jpeg:https://av8maps.com/wp-content/uploads/2025/10/Pancake-Breakfast-Fly-in-O38-e1771595091315.jpg
GEO:36.265755;-95.7836139
X-APPLE-STRUCTURED-LOCATION;VALUE=URI;X-ADDRESS=Gundy’s Airport 7798 N 172nd E Ave Owasso OK 74055;X-APPLE-RADIUS=500;X-TITLE=7798 N 172nd E Ave:geo:-95.7836139,36.265755
END:VEVENT
BEGIN:VEVENT
DTSTART;TZID=America/New_York:20261219T070000
DTEND;TZID=America/New_York:20261219T213000
DTSTAMP:20260423T005033
CREATED:20251002T214105Z
LAST-MODIFIED:20260220T134501Z
UID:10006042-1797663600-1797715800@av8maps.com
SUMMARY:Monthly 3rd Saturday Pancake Breakfast (O38)
DESCRIPTION:Come on in for EAA Chapter 10’s Pancake breakfast. \nYou can find us at the EAA Chapter 10 Hangar.
URL:https://av8maps.com/event/wing-ding-2/2026-12-19/
LOCATION:Gundy’s Airport\, 7798 N 172nd E Ave\, Owasso\, OK\, 74055
ATTACH;FMTTYPE=image/jpeg:https://av8maps.com/wp-content/uploads/2025/10/Pancake-Breakfast-Fly-in-O38-e1771595091315.jpg
GEO:36.265755;-95.7836139
X-APPLE-STRUCTURED-LOCATION;VALUE=URI;X-ADDRESS=Gundy’s Airport 7798 N 172nd E Ave Owasso OK 74055;X-APPLE-RADIUS=500;X-TITLE=7798 N 172nd E Ave:geo:-95.7836139,36.265755
END:VEVENT
BEGIN:VEVENT
DTSTART;TZID=America/New_York:20270116T070000
DTEND;TZID=America/New_York:20270116T213000
DTSTAMP:20260423T005033
CREATED:20251002T214105Z
LAST-MODIFIED:20260220T134501Z
UID:10006043-1800082800-1800135000@av8maps.com
SUMMARY:Monthly 3rd Saturday Pancake Breakfast (O38)
DESCRIPTION:Come on in for EAA Chapter 10’s Pancake breakfast. \nYou can find us at the EAA Chapter 10 Hangar.
URL:https://av8maps.com/event/wing-ding-2/2027-01-16/
LOCATION:Gundy’s Airport\, 7798 N 172nd E Ave\, Owasso\, OK\, 74055
ATTACH;FMTTYPE=image/jpeg:https://av8maps.com/wp-content/uploads/2025/10/Pancake-Breakfast-Fly-in-O38-e1771595091315.jpg
GEO:36.265755;-95.7836139
X-APPLE-STRUCTURED-LOCATION;VALUE=URI;X-ADDRESS=Gundy’s Airport 7798 N 172nd E Ave Owasso OK 74055;X-APPLE-RADIUS=500;X-TITLE=7798 N 172nd E Ave:geo:-95.7836139,36.265755
END:VEVENT
BEGIN:VEVENT
DTSTART;TZID=America/New_York:20270220T070000
DTEND;TZID=America/New_York:20270220T213000
DTSTAMP:20260423T005034
CREATED:20251002T214105Z
LAST-MODIFIED:20260220T134501Z
UID:10006044-1803106800-1803159000@av8maps.com
SUMMARY:Monthly 3rd Saturday Pancake Breakfast (O38)
DESCRIPTION:Come on in for EAA Chapter 10’s Pancake breakfast. \nYou can find us at the EAA Chapter 10 Hangar.
URL:https://av8maps.com/event/wing-ding-2/2027-02-20/
LOCATION:Gundy’s Airport\, 7798 N 172nd E Ave\, Owasso\, OK\, 74055
ATTACH;FMTTYPE=image/jpeg:https://av8maps.com/wp-content/uploads/2025/10/Pancake-Breakfast-Fly-in-O38-e1771595091315.jpg
GEO:36.265755;-95.7836139
X-APPLE-STRUCTURED-LOCATION;VALUE=URI;X-ADDRESS=Gundy’s Airport 7798 N 172nd E Ave Owasso OK 74055;X-APPLE-RADIUS=500;X-TITLE=7798 N 172nd E Ave:geo:-95.7836139,36.265755
END:VEVENT
BEGIN:VEVENT
DTSTART;TZID=America/New_York:20270320T070000
DTEND;TZID=America/New_York:20270320T213000
DTSTAMP:20260423T005034
CREATED:20251002T214105Z
LAST-MODIFIED:20260220T134501Z
UID:10006045-1805526000-1805578200@av8maps.com
SUMMARY:Monthly 3rd Saturday Pancake Breakfast (O38)
DESCRIPTION:Come on in for EAA Chapter 10’s Pancake breakfast. \nYou can find us at the EAA Chapter 10 Hangar.
URL:https://av8maps.com/event/wing-ding-2/2027-03-20/
LOCATION:Gundy’s Airport\, 7798 N 172nd E Ave\, Owasso\, OK\, 74055
ATTACH;FMTTYPE=image/jpeg:https://av8maps.com/wp-content/uploads/2025/10/Pancake-Breakfast-Fly-in-O38-e1771595091315.jpg
GEO:36.265755;-95.7836139
X-APPLE-STRUCTURED-LOCATION;VALUE=URI;X-ADDRESS=Gundy’s Airport 7798 N 172nd E Ave Owasso OK 74055;X-APPLE-RADIUS=500;X-TITLE=7798 N 172nd E Ave:geo:-95.7836139,36.265755
END:VEVENT
BEGIN:VEVENT
DTSTART;TZID=America/New_York:20270417T070000
DTEND;TZID=America/New_York:20270417T213000
DTSTAMP:20260423T005034
CREATED:20251002T214105Z
LAST-MODIFIED:20260220T134501Z
UID:10006046-1807945200-1807997400@av8maps.com
SUMMARY:Monthly 3rd Saturday Pancake Breakfast (O38)
DESCRIPTION:Come on in for EAA Chapter 10’s Pancake breakfast. \nYou can find us at the EAA Chapter 10 Hangar.
URL:https://av8maps.com/event/wing-ding-2/2027-04-17/
LOCATION:Gundy’s Airport\, 7798 N 172nd E Ave\, Owasso\, OK\, 74055
ATTACH;FMTTYPE=image/jpeg:https://av8maps.com/wp-content/uploads/2025/10/Pancake-Breakfast-Fly-in-O38-e1771595091315.jpg
GEO:36.265755;-95.7836139
X-APPLE-STRUCTURED-LOCATION;VALUE=URI;X-ADDRESS=Gundy’s Airport 7798 N 172nd E Ave Owasso OK 74055;X-APPLE-RADIUS=500;X-TITLE=7798 N 172nd E Ave:geo:-95.7836139,36.265755
END:VEVENT
BEGIN:VEVENT
DTSTART;TZID=America/New_York:20270515T070000
DTEND;TZID=America/New_York:20270515T213000
DTSTAMP:20260423T005034
CREATED:20251002T214105Z
LAST-MODIFIED:20260220T134501Z
UID:10006047-1810364400-1810416600@av8maps.com
SUMMARY:Monthly 3rd Saturday Pancake Breakfast (O38)
DESCRIPTION:Come on in for EAA Chapter 10’s Pancake breakfast. \nYou can find us at the EAA Chapter 10 Hangar.
URL:https://av8maps.com/event/wing-ding-2/2027-05-15/
LOCATION:Gundy’s Airport\, 7798 N 172nd E Ave\, Owasso\, OK\, 74055
ATTACH;FMTTYPE=image/jpeg:https://av8maps.com/wp-content/uploads/2025/10/Pancake-Breakfast-Fly-in-O38-e1771595091315.jpg
GEO:36.265755;-95.7836139
X-APPLE-STRUCTURED-LOCATION;VALUE=URI;X-ADDRESS=Gundy’s Airport 7798 N 172nd E Ave Owasso OK 74055;X-APPLE-RADIUS=500;X-TITLE=7798 N 172nd E Ave:geo:-95.7836139,36.265755
END:VEVENT
BEGIN:VEVENT
DTSTART;TZID=America/New_York:20270619T070000
DTEND;TZID=America/New_York:20270619T213000
DTSTAMP:20260423T005034
CREATED:20251002T214105Z
LAST-MODIFIED:20260220T134501Z
UID:10006048-1813388400-1813440600@av8maps.com
SUMMARY:Monthly 3rd Saturday Pancake Breakfast (O38)
DESCRIPTION:Come on in for EAA Chapter 10’s Pancake breakfast. \nYou can find us at the EAA Chapter 10 Hangar.
URL:https://av8maps.com/event/wing-ding-2/2027-06-19/
LOCATION:Gundy’s Airport\, 7798 N 172nd E Ave\, Owasso\, OK\, 74055
ATTACH;FMTTYPE=image/jpeg:https://av8maps.com/wp-content/uploads/2025/10/Pancake-Breakfast-Fly-in-O38-e1771595091315.jpg
GEO:36.265755;-95.7836139
X-APPLE-STRUCTURED-LOCATION;VALUE=URI;X-ADDRESS=Gundy’s Airport 7798 N 172nd E Ave Owasso OK 74055;X-APPLE-RADIUS=500;X-TITLE=7798 N 172nd E Ave:geo:-95.7836139,36.265755
END:VEVENT
BEGIN:VEVENT
DTSTART;TZID=America/New_York:20270717T070000
DTEND;TZID=America/New_York:20270717T213000
DTSTAMP:20260423T005034
CREATED:20251002T214105Z
LAST-MODIFIED:20260220T134501Z
UID:10006049-1815807600-1815859800@av8maps.com
SUMMARY:Monthly 3rd Saturday Pancake Breakfast (O38)
DESCRIPTION:Come on in for EAA Chapter 10’s Pancake breakfast. \nYou can find us at the EAA Chapter 10 Hangar.
URL:https://av8maps.com/event/wing-ding-2/2027-07-17/
LOCATION:Gundy’s Airport\, 7798 N 172nd E Ave\, Owasso\, OK\, 74055
ATTACH;FMTTYPE=image/jpeg:https://av8maps.com/wp-content/uploads/2025/10/Pancake-Breakfast-Fly-in-O38-e1771595091315.jpg
GEO:36.265755;-95.7836139
X-APPLE-STRUCTURED-LOCATION;VALUE=URI;X-ADDRESS=Gundy’s Airport 7798 N 172nd E Ave Owasso OK 74055;X-APPLE-RADIUS=500;X-TITLE=7798 N 172nd E Ave:geo:-95.7836139,36.265755
END:VEVENT
BEGIN:VEVENT
DTSTART;TZID=America/New_York:20270821T070000
DTEND;TZID=America/New_York:20270821T213000
DTSTAMP:20260423T005034
CREATED:20251002T214105Z
LAST-MODIFIED:20260220T134501Z
UID:10006050-1818831600-1818883800@av8maps.com
SUMMARY:Monthly 3rd Saturday Pancake Breakfast (O38)
DESCRIPTION:Come on in for EAA Chapter 10’s Pancake breakfast. \nYou can find us at the EAA Chapter 10 Hangar.
URL:https://av8maps.com/event/wing-ding-2/2027-08-21/
LOCATION:Gundy’s Airport\, 7798 N 172nd E Ave\, Owasso\, OK\, 74055
ATTACH;FMTTYPE=image/jpeg:https://av8maps.com/wp-content/uploads/2025/10/Pancake-Breakfast-Fly-in-O38-e1771595091315.jpg
GEO:36.265755;-95.7836139
X-APPLE-STRUCTURED-LOCATION;VALUE=URI;X-ADDRESS=Gundy’s Airport 7798 N 172nd E Ave Owasso OK 74055;X-APPLE-RADIUS=500;X-TITLE=7798 N 172nd E Ave:geo:-95.7836139,36.265755
END:VEVENT
BEGIN:VEVENT
DTSTART;TZID=America/New_York:20270918T070000
DTEND;TZID=America/New_York:20270918T213000
DTSTAMP:20260423T005034
CREATED:20251002T214105Z
LAST-MODIFIED:20260220T134501Z
UID:10006051-1821250800-1821303000@av8maps.com
SUMMARY:Monthly 3rd Saturday Pancake Breakfast (O38)
DESCRIPTION:Come on in for EAA Chapter 10’s Pancake breakfast. \nYou can find us at the EAA Chapter 10 Hangar.
URL:https://av8maps.com/event/wing-ding-2/2027-09-18/
LOCATION:Gundy’s Airport\, 7798 N 172nd E Ave\, Owasso\, OK\, 74055
ATTACH;FMTTYPE=image/jpeg:https://av8maps.com/wp-content/uploads/2025/10/Pancake-Breakfast-Fly-in-O38-e1771595091315.jpg
GEO:36.265755;-95.7836139
X-APPLE-STRUCTURED-LOCATION;VALUE=URI;X-ADDRESS=Gundy’s Airport 7798 N 172nd E Ave Owasso OK 74055;X-APPLE-RADIUS=500;X-TITLE=7798 N 172nd E Ave:geo:-95.7836139,36.265755
END:VEVENT
BEGIN:VEVENT
DTSTART;TZID=America/New_York:20271016T070000
DTEND;TZID=America/New_York:20271016T213000
DTSTAMP:20260423T005034
CREATED:20251002T214105Z
LAST-MODIFIED:20260220T134501Z
UID:10006052-1823670000-1823722200@av8maps.com
SUMMARY:Monthly 3rd Saturday Pancake Breakfast (O38)
DESCRIPTION:Come on in for EAA Chapter 10’s Pancake breakfast. \nYou can find us at the EAA Chapter 10 Hangar.
URL:https://av8maps.com/event/wing-ding-2/2027-10-16/
LOCATION:Gundy’s Airport\, 7798 N 172nd E Ave\, Owasso\, OK\, 74055
ATTACH;FMTTYPE=image/jpeg:https://av8maps.com/wp-content/uploads/2025/10/Pancake-Breakfast-Fly-in-O38-e1771595091315.jpg
GEO:36.265755;-95.7836139
X-APPLE-STRUCTURED-LOCATION;VALUE=URI;X-ADDRESS=Gundy’s Airport 7798 N 172nd E Ave Owasso OK 74055;X-APPLE-RADIUS=500;X-TITLE=7798 N 172nd E Ave:geo:-95.7836139,36.265755
END:VEVENT
BEGIN:VEVENT
DTSTART;TZID=America/New_York:20271120T070000
DTEND;TZID=America/New_York:20271120T213000
DTSTAMP:20260423T005034
CREATED:20251002T214105Z
LAST-MODIFIED:20260220T134501Z
UID:10006053-1826694000-1826746200@av8maps.com
SUMMARY:Monthly 3rd Saturday Pancake Breakfast (O38)
DESCRIPTION:Come on in for EAA Chapter 10’s Pancake breakfast. \nYou can find us at the EAA Chapter 10 Hangar.
URL:https://av8maps.com/event/wing-ding-2/2027-11-20/
LOCATION:Gundy’s Airport\, 7798 N 172nd E Ave\, Owasso\, OK\, 74055
ATTACH;FMTTYPE=image/jpeg:https://av8maps.com/wp-content/uploads/2025/10/Pancake-Breakfast-Fly-in-O38-e1771595091315.jpg
GEO:36.265755;-95.7836139
X-APPLE-STRUCTURED-LOCATION;VALUE=URI;X-ADDRESS=Gundy’s Airport 7798 N 172nd E Ave Owasso OK 74055;X-APPLE-RADIUS=500;X-TITLE=7798 N 172nd E Ave:geo:-95.7836139,36.265755
END:VEVENT
BEGIN:VEVENT
DTSTART;TZID=America/New_York:20271218T070000
DTEND;TZID=America/New_York:20271218T213000
DTSTAMP:20260423T005034
CREATED:20251002T214105Z
LAST-MODIFIED:20260220T134501Z
UID:10006054-1829113200-1829165400@av8maps.com
SUMMARY:Monthly 3rd Saturday Pancake Breakfast (O38)
DESCRIPTION:Come on in for EAA Chapter 10’s Pancake breakfast. \nYou can find us at the EAA Chapter 10 Hangar.
URL:https://av8maps.com/event/wing-ding-2/2027-12-18/
LOCATION:Gundy’s Airport\, 7798 N 172nd E Ave\, Owasso\, OK\, 74055
ATTACH;FMTTYPE=image/jpeg:https://av8maps.com/wp-content/uploads/2025/10/Pancake-Breakfast-Fly-in-O38-e1771595091315.jpg
GEO:36.265755;-95.7836139
X-APPLE-STRUCTURED-LOCATION;VALUE=URI;X-ADDRESS=Gundy’s Airport 7798 N 172nd E Ave Owasso OK 74055;X-APPLE-RADIUS=500;X-TITLE=7798 N 172nd E Ave:geo:-95.7836139,36.265755
END:VEVENT
BEGIN:VEVENT
DTSTART;TZID=America/New_York:20280115T070000
DTEND;TZID=America/New_York:20280115T213000
DTSTAMP:20260423T005034
CREATED:20251002T214105Z
LAST-MODIFIED:20260220T134501Z
UID:10006055-1831532400-1831584600@av8maps.com
SUMMARY:Monthly 3rd Saturday Pancake Breakfast (O38)
DESCRIPTION:Come on in for EAA Chapter 10’s Pancake breakfast. \nYou can find us at the EAA Chapter 10 Hangar.
URL:https://av8maps.com/event/wing-ding-2/2028-01-15/
LOCATION:Gundy’s Airport\, 7798 N 172nd E Ave\, Owasso\, OK\, 74055
ATTACH;FMTTYPE=image/jpeg:https://av8maps.com/wp-content/uploads/2025/10/Pancake-Breakfast-Fly-in-O38-e1771595091315.jpg
GEO:36.265755;-95.7836139
X-APPLE-STRUCTURED-LOCATION;VALUE=URI;X-ADDRESS=Gundy’s Airport 7798 N 172nd E Ave Owasso OK 74055;X-APPLE-RADIUS=500;X-TITLE=7798 N 172nd E Ave:geo:-95.7836139,36.265755
END:VEVENT
BEGIN:VEVENT
DTSTART;TZID=America/New_York:20280219T070000
DTEND;TZID=America/New_York:20280219T213000
DTSTAMP:20260423T005034
CREATED:20251002T214105Z
LAST-MODIFIED:20260220T134501Z
UID:10006056-1834556400-1834608600@av8maps.com
SUMMARY:Monthly 3rd Saturday Pancake Breakfast (O38)
DESCRIPTION:Come on in for EAA Chapter 10’s Pancake breakfast. \nYou can find us at the EAA Chapter 10 Hangar.
URL:https://av8maps.com/event/wing-ding-2/2028-02-19/
LOCATION:Gundy’s Airport\, 7798 N 172nd E Ave\, Owasso\, OK\, 74055
ATTACH;FMTTYPE=image/jpeg:https://av8maps.com/wp-content/uploads/2025/10/Pancake-Breakfast-Fly-in-O38-e1771595091315.jpg
GEO:36.265755;-95.7836139
X-APPLE-STRUCTURED-LOCATION;VALUE=URI;X-ADDRESS=Gundy’s Airport 7798 N 172nd E Ave Owasso OK 74055;X-APPLE-RADIUS=500;X-TITLE=7798 N 172nd E Ave:geo:-95.7836139,36.265755
END:VEVENT
BEGIN:VEVENT
DTSTART;TZID=America/New_York:20280318T070000
DTEND;TZID=America/New_York:20280318T213000
DTSTAMP:20260423T005034
CREATED:20251002T214105Z
LAST-MODIFIED:20260220T134501Z
UID:10006057-1836975600-1837027800@av8maps.com
SUMMARY:Monthly 3rd Saturday Pancake Breakfast (O38)
DESCRIPTION:Come on in for EAA Chapter 10’s Pancake breakfast. \nYou can find us at the EAA Chapter 10 Hangar.
URL:https://av8maps.com/event/wing-ding-2/2028-03-18/
LOCATION:Gundy’s Airport\, 7798 N 172nd E Ave\, Owasso\, OK\, 74055
ATTACH;FMTTYPE=image/jpeg:https://av8maps.com/wp-content/uploads/2025/10/Pancake-Breakfast-Fly-in-O38-e1771595091315.jpg
GEO:36.265755;-95.7836139
X-APPLE-STRUCTURED-LOCATION;VALUE=URI;X-ADDRESS=Gundy’s Airport 7798 N 172nd E Ave Owasso OK 74055;X-APPLE-RADIUS=500;X-TITLE=7798 N 172nd E Ave:geo:-95.7836139,36.265755
END:VEVENT
BEGIN:VEVENT
DTSTART;TZID=America/New_York:20280415T070000
DTEND;TZID=America/New_York:20280415T213000
DTSTAMP:20260423T005034
CREATED:20251002T214105Z
LAST-MODIFIED:20260220T134501Z
UID:10006058-1839394800-1839447000@av8maps.com
SUMMARY:Monthly 3rd Saturday Pancake Breakfast (O38)
DESCRIPTION:Come on in for EAA Chapter 10’s Pancake breakfast. \nYou can find us at the EAA Chapter 10 Hangar.
URL:https://av8maps.com/event/wing-ding-2/2028-04-15/
LOCATION:Gundy’s Airport\, 7798 N 172nd E Ave\, Owasso\, OK\, 74055
ATTACH;FMTTYPE=image/jpeg:https://av8maps.com/wp-content/uploads/2025/10/Pancake-Breakfast-Fly-in-O38-e1771595091315.jpg
GEO:36.265755;-95.7836139
X-APPLE-STRUCTURED-LOCATION;VALUE=URI;X-ADDRESS=Gundy’s Airport 7798 N 172nd E Ave Owasso OK 74055;X-APPLE-RADIUS=500;X-TITLE=7798 N 172nd E Ave:geo:-95.7836139,36.265755
END:VEVENT
BEGIN:VEVENT
DTSTART;TZID=America/New_York:20280520T070000
DTEND;TZID=America/New_York:20280520T213000
DTSTAMP:20260423T005034
CREATED:20251002T214105Z
LAST-MODIFIED:20260220T134501Z
UID:10006059-1842418800-1842471000@av8maps.com
SUMMARY:Monthly 3rd Saturday Pancake Breakfast (O38)
DESCRIPTION:Come on in for EAA Chapter 10’s Pancake breakfast. \nYou can find us at the EAA Chapter 10 Hangar.
URL:https://av8maps.com/event/wing-ding-2/2028-05-20/
LOCATION:Gundy’s Airport\, 7798 N 172nd E Ave\, Owasso\, OK\, 74055
ATTACH;FMTTYPE=image/jpeg:https://av8maps.com/wp-content/uploads/2025/10/Pancake-Breakfast-Fly-in-O38-e1771595091315.jpg
GEO:36.265755;-95.7836139
X-APPLE-STRUCTURED-LOCATION;VALUE=URI;X-ADDRESS=Gundy’s Airport 7798 N 172nd E Ave Owasso OK 74055;X-APPLE-RADIUS=500;X-TITLE=7798 N 172nd E Ave:geo:-95.7836139,36.265755
END:VEVENT
BEGIN:VEVENT
DTSTART;TZID=America/New_York:20280617T070000
DTEND;TZID=America/New_York:20280617T213000
DTSTAMP:20260423T005034
CREATED:20251002T214105Z
LAST-MODIFIED:20260220T134501Z
UID:10006060-1844838000-1844890200@av8maps.com
SUMMARY:Monthly 3rd Saturday Pancake Breakfast (O38)
DESCRIPTION:Come on in for EAA Chapter 10’s Pancake breakfast. \nYou can find us at the EAA Chapter 10 Hangar.
URL:https://av8maps.com/event/wing-ding-2/2028-06-17/
LOCATION:Gundy’s Airport\, 7798 N 172nd E Ave\, Owasso\, OK\, 74055
ATTACH;FMTTYPE=image/jpeg:https://av8maps.com/wp-content/uploads/2025/10/Pancake-Breakfast-Fly-in-O38-e1771595091315.jpg
GEO:36.265755;-95.7836139
X-APPLE-STRUCTURED-LOCATION;VALUE=URI;X-ADDRESS=Gundy’s Airport 7798 N 172nd E Ave Owasso OK 74055;X-APPLE-RADIUS=500;X-TITLE=7798 N 172nd E Ave:geo:-95.7836139,36.265755
END:VEVENT
BEGIN:VEVENT
DTSTART;TZID=America/New_York:20280715T070000
DTEND;TZID=America/New_York:20280715T213000
DTSTAMP:20260423T005034
CREATED:20251002T214105Z
LAST-MODIFIED:20260220T134501Z
UID:10006061-1847257200-1847309400@av8maps.com
SUMMARY:Monthly 3rd Saturday Pancake Breakfast (O38)
DESCRIPTION:Come on in for EAA Chapter 10’s Pancake breakfast. \nYou can find us at the EAA Chapter 10 Hangar.
URL:https://av8maps.com/event/wing-ding-2/2028-07-15/
LOCATION:Gundy’s Airport\, 7798 N 172nd E Ave\, Owasso\, OK\, 74055
ATTACH;FMTTYPE=image/jpeg:https://av8maps.com/wp-content/uploads/2025/10/Pancake-Breakfast-Fly-in-O38-e1771595091315.jpg
GEO:36.265755;-95.7836139
X-APPLE-STRUCTURED-LOCATION;VALUE=URI;X-ADDRESS=Gundy’s Airport 7798 N 172nd E Ave Owasso OK 74055;X-APPLE-RADIUS=500;X-TITLE=7798 N 172nd E Ave:geo:-95.7836139,36.265755
END:VEVENT
BEGIN:VEVENT
DTSTART;TZID=America/New_York:20280819T070000
DTEND;TZID=America/New_York:20280819T213000
DTSTAMP:20260423T005034
CREATED:20251002T214105Z
LAST-MODIFIED:20260220T134501Z
UID:10006062-1850281200-1850333400@av8maps.com
SUMMARY:Monthly 3rd Saturday Pancake Breakfast (O38)
DESCRIPTION:Come on in for EAA Chapter 10’s Pancake breakfast. \nYou can find us at the EAA Chapter 10 Hangar.
URL:https://av8maps.com/event/wing-ding-2/2028-08-19/
LOCATION:Gundy’s Airport\, 7798 N 172nd E Ave\, Owasso\, OK\, 74055
ATTACH;FMTTYPE=image/jpeg:https://av8maps.com/wp-content/uploads/2025/10/Pancake-Breakfast-Fly-in-O38-e1771595091315.jpg
GEO:36.265755;-95.7836139
X-APPLE-STRUCTURED-LOCATION;VALUE=URI;X-ADDRESS=Gundy’s Airport 7798 N 172nd E Ave Owasso OK 74055;X-APPLE-RADIUS=500;X-TITLE=7798 N 172nd E Ave:geo:-95.7836139,36.265755
END:VEVENT
BEGIN:VEVENT
DTSTART;TZID=America/New_York:20280916T070000
DTEND;TZID=America/New_York:20280916T213000
DTSTAMP:20260423T005034
CREATED:20251002T214105Z
LAST-MODIFIED:20260220T134501Z
UID:10006063-1852700400-1852752600@av8maps.com
SUMMARY:Monthly 3rd Saturday Pancake Breakfast (O38)
DESCRIPTION:Come on in for EAA Chapter 10’s Pancake breakfast. \nYou can find us at the EAA Chapter 10 Hangar.
URL:https://av8maps.com/event/wing-ding-2/2028-09-16/
LOCATION:Gundy’s Airport\, 7798 N 172nd E Ave\, Owasso\, OK\, 74055
ATTACH;FMTTYPE=image/jpeg:https://av8maps.com/wp-content/uploads/2025/10/Pancake-Breakfast-Fly-in-O38-e1771595091315.jpg
GEO:36.265755;-95.7836139
X-APPLE-STRUCTURED-LOCATION;VALUE=URI;X-ADDRESS=Gundy’s Airport 7798 N 172nd E Ave Owasso OK 74055;X-APPLE-RADIUS=500;X-TITLE=7798 N 172nd E Ave:geo:-95.7836139,36.265755
END:VEVENT
BEGIN:VEVENT
DTSTART;TZID=America/New_York:20281021T070000
DTEND;TZID=America/New_York:20281021T213000
DTSTAMP:20260423T005034
CREATED:20251002T214105Z
LAST-MODIFIED:20260220T134501Z
UID:10006064-1855724400-1855776600@av8maps.com
SUMMARY:Monthly 3rd Saturday Pancake Breakfast (O38)
DESCRIPTION:Come on in for EAA Chapter 10’s Pancake breakfast. \nYou can find us at the EAA Chapter 10 Hangar.
URL:https://av8maps.com/event/wing-ding-2/2028-10-21/
LOCATION:Gundy’s Airport\, 7798 N 172nd E Ave\, Owasso\, OK\, 74055
ATTACH;FMTTYPE=image/jpeg:https://av8maps.com/wp-content/uploads/2025/10/Pancake-Breakfast-Fly-in-O38-e1771595091315.jpg
GEO:36.265755;-95.7836139
X-APPLE-STRUCTURED-LOCATION;VALUE=URI;X-ADDRESS=Gundy’s Airport 7798 N 172nd E Ave Owasso OK 74055;X-APPLE-RADIUS=500;X-TITLE=7798 N 172nd E Ave:geo:-95.7836139,36.265755
END:VEVENT
END:VCALENDAR