BEGIN:VCALENDAR
VERSION:2.0
PRODID:-//AV8MAPS.COM - ECPv6.15.20//NONSGML v1.0//EN
CALSCALE:GREGORIAN
METHOD:PUBLISH
X-WR-CALNAME:AV8MAPS.COM
X-ORIGINAL-URL:https://av8maps.com
X-WR-CALDESC:Events for AV8MAPS.COM
REFRESH-INTERVAL;VALUE=DURATION:PT1H
X-Robots-Tag:noindex
X-PUBLISHED-TTL:PT1H
BEGIN:VTIMEZONE
TZID:America/New_York
BEGIN:DAYLIGHT
TZOFFSETFROM:-0500
TZOFFSETTO:-0400
TZNAME:EDT
DTSTART:20260308T070000
END:DAYLIGHT
BEGIN:STANDARD
TZOFFSETFROM:-0400
TZOFFSETTO:-0500
TZNAME:EST
DTSTART:20261101T060000
END:STANDARD
BEGIN:DAYLIGHT
TZOFFSETFROM:-0500
TZOFFSETTO:-0400
TZNAME:EDT
DTSTART:20270314T070000
END:DAYLIGHT
BEGIN:STANDARD
TZOFFSETFROM:-0400
TZOFFSETTO:-0500
TZNAME:EST
DTSTART:20271107T060000
END:STANDARD
BEGIN:DAYLIGHT
TZOFFSETFROM:-0500
TZOFFSETTO:-0400
TZNAME:EDT
DTSTART:20280312T070000
END:DAYLIGHT
BEGIN:STANDARD
TZOFFSETFROM:-0400
TZOFFSETTO:-0500
TZNAME:EST
DTSTART:20281105T060000
END:STANDARD
BEGIN:DAYLIGHT
TZOFFSETFROM:-0500
TZOFFSETTO:-0400
TZNAME:EDT
DTSTART:20290311T070000
END:DAYLIGHT
BEGIN:STANDARD
TZOFFSETFROM:-0400
TZOFFSETTO:-0500
TZNAME:EST
DTSTART:20291104T060000
END:STANDARD
BEGIN:DAYLIGHT
TZOFFSETFROM:-0500
TZOFFSETTO:-0400
TZNAME:EDT
DTSTART:20300310T070000
END:DAYLIGHT
BEGIN:STANDARD
TZOFFSETFROM:-0400
TZOFFSETTO:-0500
TZNAME:EST
DTSTART:20301103T060000
END:STANDARD
BEGIN:DAYLIGHT
TZOFFSETFROM:-0500
TZOFFSETTO:-0400
TZNAME:EDT
DTSTART:20310309T070000
END:DAYLIGHT
BEGIN:STANDARD
TZOFFSETFROM:-0400
TZOFFSETTO:-0500
TZNAME:EST
DTSTART:20311102T060000
END:STANDARD
END:VTIMEZONE
BEGIN:VEVENT
DTSTART;TZID=America/New_York:20270212T000000
DTEND;TZID=America/New_York:20270214T235959
DTSTAMP:20260423T075524
CREATED:20260206T231554Z
LAST-MODIFIED:20260206T231554Z
UID:10006154-1802390400-1802649599@av8maps.com
SUMMARY:Annual AOPA Fly-in at Buckeye (KBXK)
DESCRIPTION:We are back for the 4th Annual AOPA Fly-In at the Buckeye Air Fair! Join us for three days of high-quality aviation content\, including educational sessions and an expansive Exhibit Hall showcasing the latest technology\, gear\, and services. Don’t miss the aircraft display and informative seminars\, including a special Pilot Town Hall with AOPA leadership on Saturday. \nFamily-friendly activities are available\, including the Aviation Academy area and Kids Zone. Catch thrilling Air Shows on Saturday and Sunday\, featuring a Matinee Airshow on Saturday for early departures. \nCome for the knowledge\, stay for the fun! We can’t wait to see you there! \nFind our AV8maps.com business partner and say hello.\nTell them you found them on our map!
URL:https://av8maps.com/event/annual-aopa-fly-in-at-buckeye-kbxk/2027-02-12/
LOCATION:Buckeye Municipal Airport\, 3000 S Palo Verde Rd\, Buckeye\, AZ\, 85326
ATTACH;FMTTYPE=image/jpeg:https://av8maps.com/wp-content/uploads/2026/02/Buckeye-Air-Fair-KBXK-e1770419736333.jpg
GEO:33.4201265;-112.6824328
X-APPLE-STRUCTURED-LOCATION;VALUE=URI;X-ADDRESS=Buckeye Municipal Airport 3000 S Palo Verde Rd Buckeye AZ 85326;X-APPLE-RADIUS=500;X-TITLE=3000 S Palo Verde Rd:geo:-112.6824328,33.4201265
END:VEVENT
BEGIN:VEVENT
DTSTART;TZID=America/New_York:20280211T000000
DTEND;TZID=America/New_York:20280213T235959
DTSTAMP:20260423T075524
CREATED:20260206T231554Z
LAST-MODIFIED:20260206T231554Z
UID:10006155-1833840000-1834099199@av8maps.com
SUMMARY:Annual AOPA Fly-in at Buckeye (KBXK)
DESCRIPTION:We are back for the 4th Annual AOPA Fly-In at the Buckeye Air Fair! Join us for three days of high-quality aviation content\, including educational sessions and an expansive Exhibit Hall showcasing the latest technology\, gear\, and services. Don’t miss the aircraft display and informative seminars\, including a special Pilot Town Hall with AOPA leadership on Saturday. \nFamily-friendly activities are available\, including the Aviation Academy area and Kids Zone. Catch thrilling Air Shows on Saturday and Sunday\, featuring a Matinee Airshow on Saturday for early departures. \nCome for the knowledge\, stay for the fun! We can’t wait to see you there! \nFind our AV8maps.com business partner and say hello.\nTell them you found them on our map!
URL:https://av8maps.com/event/annual-aopa-fly-in-at-buckeye-kbxk/2028-02-11/
LOCATION:Buckeye Municipal Airport\, 3000 S Palo Verde Rd\, Buckeye\, AZ\, 85326
ATTACH;FMTTYPE=image/jpeg:https://av8maps.com/wp-content/uploads/2026/02/Buckeye-Air-Fair-KBXK-e1770419736333.jpg
GEO:33.4201265;-112.6824328
X-APPLE-STRUCTURED-LOCATION;VALUE=URI;X-ADDRESS=Buckeye Municipal Airport 3000 S Palo Verde Rd Buckeye AZ 85326;X-APPLE-RADIUS=500;X-TITLE=3000 S Palo Verde Rd:geo:-112.6824328,33.4201265
END:VEVENT
BEGIN:VEVENT
DTSTART;TZID=America/New_York:20290209T000000
DTEND;TZID=America/New_York:20290211T235959
DTSTAMP:20260423T075524
CREATED:20260206T231554Z
LAST-MODIFIED:20260206T231554Z
UID:10006156-1865289600-1865548799@av8maps.com
SUMMARY:Annual AOPA Fly-in at Buckeye (KBXK)
DESCRIPTION:We are back for the 4th Annual AOPA Fly-In at the Buckeye Air Fair! Join us for three days of high-quality aviation content\, including educational sessions and an expansive Exhibit Hall showcasing the latest technology\, gear\, and services. Don’t miss the aircraft display and informative seminars\, including a special Pilot Town Hall with AOPA leadership on Saturday. \nFamily-friendly activities are available\, including the Aviation Academy area and Kids Zone. Catch thrilling Air Shows on Saturday and Sunday\, featuring a Matinee Airshow on Saturday for early departures. \nCome for the knowledge\, stay for the fun! We can’t wait to see you there! \nFind our AV8maps.com business partner and say hello.\nTell them you found them on our map!
URL:https://av8maps.com/event/annual-aopa-fly-in-at-buckeye-kbxk/2029-02-09/
LOCATION:Buckeye Municipal Airport\, 3000 S Palo Verde Rd\, Buckeye\, AZ\, 85326
ATTACH;FMTTYPE=image/jpeg:https://av8maps.com/wp-content/uploads/2026/02/Buckeye-Air-Fair-KBXK-e1770419736333.jpg
GEO:33.4201265;-112.6824328
X-APPLE-STRUCTURED-LOCATION;VALUE=URI;X-ADDRESS=Buckeye Municipal Airport 3000 S Palo Verde Rd Buckeye AZ 85326;X-APPLE-RADIUS=500;X-TITLE=3000 S Palo Verde Rd:geo:-112.6824328,33.4201265
END:VEVENT
BEGIN:VEVENT
DTSTART;TZID=America/New_York:20300208T000000
DTEND;TZID=America/New_York:20300210T235959
DTSTAMP:20260423T075524
CREATED:20260206T231554Z
LAST-MODIFIED:20260206T231554Z
UID:10006157-1896739200-1896998399@av8maps.com
SUMMARY:Annual AOPA Fly-in at Buckeye (KBXK)
DESCRIPTION:We are back for the 4th Annual AOPA Fly-In at the Buckeye Air Fair! Join us for three days of high-quality aviation content\, including educational sessions and an expansive Exhibit Hall showcasing the latest technology\, gear\, and services. Don’t miss the aircraft display and informative seminars\, including a special Pilot Town Hall with AOPA leadership on Saturday. \nFamily-friendly activities are available\, including the Aviation Academy area and Kids Zone. Catch thrilling Air Shows on Saturday and Sunday\, featuring a Matinee Airshow on Saturday for early departures. \nCome for the knowledge\, stay for the fun! We can’t wait to see you there! \nFind our AV8maps.com business partner and say hello.\nTell them you found them on our map!
URL:https://av8maps.com/event/annual-aopa-fly-in-at-buckeye-kbxk/2030-02-08/
LOCATION:Buckeye Municipal Airport\, 3000 S Palo Verde Rd\, Buckeye\, AZ\, 85326
ATTACH;FMTTYPE=image/jpeg:https://av8maps.com/wp-content/uploads/2026/02/Buckeye-Air-Fair-KBXK-e1770419736333.jpg
GEO:33.4201265;-112.6824328
X-APPLE-STRUCTURED-LOCATION;VALUE=URI;X-ADDRESS=Buckeye Municipal Airport 3000 S Palo Verde Rd Buckeye AZ 85326;X-APPLE-RADIUS=500;X-TITLE=3000 S Palo Verde Rd:geo:-112.6824328,33.4201265
END:VEVENT
END:VCALENDAR