BEGIN:VCALENDAR
VERSION:2.0
PRODID:-//AV8MAPS.COM - ECPv6.15.20//NONSGML v1.0//EN
CALSCALE:GREGORIAN
METHOD:PUBLISH
X-WR-CALNAME:AV8MAPS.COM
X-ORIGINAL-URL:https://av8maps.com
X-WR-CALDESC:Events for AV8MAPS.COM
REFRESH-INTERVAL;VALUE=DURATION:PT1H
X-Robots-Tag:noindex
X-PUBLISHED-TTL:PT1H
BEGIN:VTIMEZONE
TZID:America/New_York
BEGIN:DAYLIGHT
TZOFFSETFROM:-0500
TZOFFSETTO:-0400
TZNAME:EDT
DTSTART:20250309T070000
END:DAYLIGHT
BEGIN:STANDARD
TZOFFSETFROM:-0400
TZOFFSETTO:-0500
TZNAME:EST
DTSTART:20251102T060000
END:STANDARD
BEGIN:DAYLIGHT
TZOFFSETFROM:-0500
TZOFFSETTO:-0400
TZNAME:EDT
DTSTART:20260308T070000
END:DAYLIGHT
BEGIN:STANDARD
TZOFFSETFROM:-0400
TZOFFSETTO:-0500
TZNAME:EST
DTSTART:20261101T060000
END:STANDARD
BEGIN:DAYLIGHT
TZOFFSETFROM:-0500
TZOFFSETTO:-0400
TZNAME:EDT
DTSTART:20270314T070000
END:DAYLIGHT
BEGIN:STANDARD
TZOFFSETFROM:-0400
TZOFFSETTO:-0500
TZNAME:EST
DTSTART:20271107T060000
END:STANDARD
END:VTIMEZONE
BEGIN:VEVENT
DTSTART;TZID=America/New_York:20260620T100000
DTEND;TZID=America/New_York:20260621T170000
DTSTAMP:20260423T085702
CREATED:20260220T144555Z
LAST-MODIFIED:20260220T145006Z
UID:10006196-1781949600-1782061200@av8maps.com
SUMMARY:Every Saturday & Sunday Air Show (NY94)
DESCRIPTION:Imagine a summer that sparks joy and ignites wonder!\n\n\nWe’re thrilled to unveil our 2026 Show Schedule\, packed with world-class weekend entertainment from June 20 to October 18.\n\n\nIn response to your enthusiasm\, we’re introducing 3 Kids Fly days\, Steampunk Day with contraption and costume contests\, and of course your favorites- the RC Jamboree and Pumpkin Bombing events.\n\n\nMark your calendars for March 1st to snag Advanced Tickets and be part of these unforgettable experiences!
URL:https://av8maps.com/event/every-saturday-sunday-air-show-ny94/2026-06-20/
LOCATION:Old Rhineback Aerodrome\, 9 Norton Rd\, Red Hook\, NY\, 12571
ATTACH;FMTTYPE=image/jpeg:https://av8maps.com/wp-content/uploads/2026/02/Old-Rhineback-Aerodrome-NY94-e1771598630943.jpg
GEO:41.9696198;-73.8641432
X-APPLE-STRUCTURED-LOCATION;VALUE=URI;X-ADDRESS=Old Rhineback Aerodrome 9 Norton Rd Red Hook NY 12571;X-APPLE-RADIUS=500;X-TITLE=9 Norton Rd:geo:-73.8641432,41.9696198
END:VEVENT
BEGIN:VEVENT
DTSTART;TZID=America/New_York:20260627T100000
DTEND;TZID=America/New_York:20260628T170000
DTSTAMP:20260423T085702
CREATED:20260220T144555Z
LAST-MODIFIED:20260220T145006Z
UID:10006197-1782554400-1782666000@av8maps.com
SUMMARY:Every Saturday & Sunday Air Show (NY94)
DESCRIPTION:Imagine a summer that sparks joy and ignites wonder!\n\n\nWe’re thrilled to unveil our 2026 Show Schedule\, packed with world-class weekend entertainment from June 20 to October 18.\n\n\nIn response to your enthusiasm\, we’re introducing 3 Kids Fly days\, Steampunk Day with contraption and costume contests\, and of course your favorites- the RC Jamboree and Pumpkin Bombing events.\n\n\nMark your calendars for March 1st to snag Advanced Tickets and be part of these unforgettable experiences!
URL:https://av8maps.com/event/every-saturday-sunday-air-show-ny94/2026-06-27/
LOCATION:Old Rhineback Aerodrome\, 9 Norton Rd\, Red Hook\, NY\, 12571
ATTACH;FMTTYPE=image/jpeg:https://av8maps.com/wp-content/uploads/2026/02/Old-Rhineback-Aerodrome-NY94-e1771598630943.jpg
GEO:41.9696198;-73.8641432
X-APPLE-STRUCTURED-LOCATION;VALUE=URI;X-ADDRESS=Old Rhineback Aerodrome 9 Norton Rd Red Hook NY 12571;X-APPLE-RADIUS=500;X-TITLE=9 Norton Rd:geo:-73.8641432,41.9696198
END:VEVENT
BEGIN:VEVENT
DTSTART;TZID=America/New_York:20260704T100000
DTEND;TZID=America/New_York:20260705T170000
DTSTAMP:20260423T085702
CREATED:20260220T144555Z
LAST-MODIFIED:20260220T145006Z
UID:10006198-1783159200-1783270800@av8maps.com
SUMMARY:Every Saturday & Sunday Air Show (NY94)
DESCRIPTION:Imagine a summer that sparks joy and ignites wonder!\n\n\nWe’re thrilled to unveil our 2026 Show Schedule\, packed with world-class weekend entertainment from June 20 to October 18.\n\n\nIn response to your enthusiasm\, we’re introducing 3 Kids Fly days\, Steampunk Day with contraption and costume contests\, and of course your favorites- the RC Jamboree and Pumpkin Bombing events.\n\n\nMark your calendars for March 1st to snag Advanced Tickets and be part of these unforgettable experiences!
URL:https://av8maps.com/event/every-saturday-sunday-air-show-ny94/2026-07-04/
LOCATION:Old Rhineback Aerodrome\, 9 Norton Rd\, Red Hook\, NY\, 12571
ATTACH;FMTTYPE=image/jpeg:https://av8maps.com/wp-content/uploads/2026/02/Old-Rhineback-Aerodrome-NY94-e1771598630943.jpg
GEO:41.9696198;-73.8641432
X-APPLE-STRUCTURED-LOCATION;VALUE=URI;X-ADDRESS=Old Rhineback Aerodrome 9 Norton Rd Red Hook NY 12571;X-APPLE-RADIUS=500;X-TITLE=9 Norton Rd:geo:-73.8641432,41.9696198
END:VEVENT
BEGIN:VEVENT
DTSTART;TZID=America/New_York:20260711T100000
DTEND;TZID=America/New_York:20260712T170000
DTSTAMP:20260423T085702
CREATED:20260220T144555Z
LAST-MODIFIED:20260220T145006Z
UID:10006199-1783764000-1783875600@av8maps.com
SUMMARY:Every Saturday & Sunday Air Show (NY94)
DESCRIPTION:Imagine a summer that sparks joy and ignites wonder!\n\n\nWe’re thrilled to unveil our 2026 Show Schedule\, packed with world-class weekend entertainment from June 20 to October 18.\n\n\nIn response to your enthusiasm\, we’re introducing 3 Kids Fly days\, Steampunk Day with contraption and costume contests\, and of course your favorites- the RC Jamboree and Pumpkin Bombing events.\n\n\nMark your calendars for March 1st to snag Advanced Tickets and be part of these unforgettable experiences!
URL:https://av8maps.com/event/every-saturday-sunday-air-show-ny94/2026-07-11/
LOCATION:Old Rhineback Aerodrome\, 9 Norton Rd\, Red Hook\, NY\, 12571
ATTACH;FMTTYPE=image/jpeg:https://av8maps.com/wp-content/uploads/2026/02/Old-Rhineback-Aerodrome-NY94-e1771598630943.jpg
GEO:41.9696198;-73.8641432
X-APPLE-STRUCTURED-LOCATION;VALUE=URI;X-ADDRESS=Old Rhineback Aerodrome 9 Norton Rd Red Hook NY 12571;X-APPLE-RADIUS=500;X-TITLE=9 Norton Rd:geo:-73.8641432,41.9696198
END:VEVENT
BEGIN:VEVENT
DTSTART;TZID=America/New_York:20260718T100000
DTEND;TZID=America/New_York:20260719T170000
DTSTAMP:20260423T085702
CREATED:20260220T144555Z
LAST-MODIFIED:20260220T145006Z
UID:10006200-1784368800-1784480400@av8maps.com
SUMMARY:Every Saturday & Sunday Air Show (NY94)
DESCRIPTION:Imagine a summer that sparks joy and ignites wonder!\n\n\nWe’re thrilled to unveil our 2026 Show Schedule\, packed with world-class weekend entertainment from June 20 to October 18.\n\n\nIn response to your enthusiasm\, we’re introducing 3 Kids Fly days\, Steampunk Day with contraption and costume contests\, and of course your favorites- the RC Jamboree and Pumpkin Bombing events.\n\n\nMark your calendars for March 1st to snag Advanced Tickets and be part of these unforgettable experiences!
URL:https://av8maps.com/event/every-saturday-sunday-air-show-ny94/2026-07-18/
LOCATION:Old Rhineback Aerodrome\, 9 Norton Rd\, Red Hook\, NY\, 12571
ATTACH;FMTTYPE=image/jpeg:https://av8maps.com/wp-content/uploads/2026/02/Old-Rhineback-Aerodrome-NY94-e1771598630943.jpg
GEO:41.9696198;-73.8641432
X-APPLE-STRUCTURED-LOCATION;VALUE=URI;X-ADDRESS=Old Rhineback Aerodrome 9 Norton Rd Red Hook NY 12571;X-APPLE-RADIUS=500;X-TITLE=9 Norton Rd:geo:-73.8641432,41.9696198
END:VEVENT
BEGIN:VEVENT
DTSTART;TZID=America/New_York:20260725T100000
DTEND;TZID=America/New_York:20260726T170000
DTSTAMP:20260423T085702
CREATED:20260220T144555Z
LAST-MODIFIED:20260220T145006Z
UID:10006201-1784973600-1785085200@av8maps.com
SUMMARY:Every Saturday & Sunday Air Show (NY94)
DESCRIPTION:Imagine a summer that sparks joy and ignites wonder!\n\n\nWe’re thrilled to unveil our 2026 Show Schedule\, packed with world-class weekend entertainment from June 20 to October 18.\n\n\nIn response to your enthusiasm\, we’re introducing 3 Kids Fly days\, Steampunk Day with contraption and costume contests\, and of course your favorites- the RC Jamboree and Pumpkin Bombing events.\n\n\nMark your calendars for March 1st to snag Advanced Tickets and be part of these unforgettable experiences!
URL:https://av8maps.com/event/every-saturday-sunday-air-show-ny94/2026-07-25/
LOCATION:Old Rhineback Aerodrome\, 9 Norton Rd\, Red Hook\, NY\, 12571
ATTACH;FMTTYPE=image/jpeg:https://av8maps.com/wp-content/uploads/2026/02/Old-Rhineback-Aerodrome-NY94-e1771598630943.jpg
GEO:41.9696198;-73.8641432
X-APPLE-STRUCTURED-LOCATION;VALUE=URI;X-ADDRESS=Old Rhineback Aerodrome 9 Norton Rd Red Hook NY 12571;X-APPLE-RADIUS=500;X-TITLE=9 Norton Rd:geo:-73.8641432,41.9696198
END:VEVENT
BEGIN:VEVENT
DTSTART;TZID=America/New_York:20260801T100000
DTEND;TZID=America/New_York:20260802T170000
DTSTAMP:20260423T085702
CREATED:20260220T144555Z
LAST-MODIFIED:20260220T145006Z
UID:10006202-1785578400-1785690000@av8maps.com
SUMMARY:Every Saturday & Sunday Air Show (NY94)
DESCRIPTION:Imagine a summer that sparks joy and ignites wonder!\n\n\nWe’re thrilled to unveil our 2026 Show Schedule\, packed with world-class weekend entertainment from June 20 to October 18.\n\n\nIn response to your enthusiasm\, we’re introducing 3 Kids Fly days\, Steampunk Day with contraption and costume contests\, and of course your favorites- the RC Jamboree and Pumpkin Bombing events.\n\n\nMark your calendars for March 1st to snag Advanced Tickets and be part of these unforgettable experiences!
URL:https://av8maps.com/event/every-saturday-sunday-air-show-ny94/2026-08-01/
LOCATION:Old Rhineback Aerodrome\, 9 Norton Rd\, Red Hook\, NY\, 12571
ATTACH;FMTTYPE=image/jpeg:https://av8maps.com/wp-content/uploads/2026/02/Old-Rhineback-Aerodrome-NY94-e1771598630943.jpg
GEO:41.9696198;-73.8641432
X-APPLE-STRUCTURED-LOCATION;VALUE=URI;X-ADDRESS=Old Rhineback Aerodrome 9 Norton Rd Red Hook NY 12571;X-APPLE-RADIUS=500;X-TITLE=9 Norton Rd:geo:-73.8641432,41.9696198
END:VEVENT
BEGIN:VEVENT
DTSTART;TZID=America/New_York:20260808T100000
DTEND;TZID=America/New_York:20260809T170000
DTSTAMP:20260423T085702
CREATED:20260220T144555Z
LAST-MODIFIED:20260220T145006Z
UID:10006203-1786183200-1786294800@av8maps.com
SUMMARY:Every Saturday & Sunday Air Show (NY94)
DESCRIPTION:Imagine a summer that sparks joy and ignites wonder!\n\n\nWe’re thrilled to unveil our 2026 Show Schedule\, packed with world-class weekend entertainment from June 20 to October 18.\n\n\nIn response to your enthusiasm\, we’re introducing 3 Kids Fly days\, Steampunk Day with contraption and costume contests\, and of course your favorites- the RC Jamboree and Pumpkin Bombing events.\n\n\nMark your calendars for March 1st to snag Advanced Tickets and be part of these unforgettable experiences!
URL:https://av8maps.com/event/every-saturday-sunday-air-show-ny94/2026-08-08/
LOCATION:Old Rhineback Aerodrome\, 9 Norton Rd\, Red Hook\, NY\, 12571
ATTACH;FMTTYPE=image/jpeg:https://av8maps.com/wp-content/uploads/2026/02/Old-Rhineback-Aerodrome-NY94-e1771598630943.jpg
GEO:41.9696198;-73.8641432
X-APPLE-STRUCTURED-LOCATION;VALUE=URI;X-ADDRESS=Old Rhineback Aerodrome 9 Norton Rd Red Hook NY 12571;X-APPLE-RADIUS=500;X-TITLE=9 Norton Rd:geo:-73.8641432,41.9696198
END:VEVENT
BEGIN:VEVENT
DTSTART;TZID=America/New_York:20260815T100000
DTEND;TZID=America/New_York:20260816T170000
DTSTAMP:20260423T085702
CREATED:20260220T144555Z
LAST-MODIFIED:20260220T145006Z
UID:10006204-1786788000-1786899600@av8maps.com
SUMMARY:Every Saturday & Sunday Air Show (NY94)
DESCRIPTION:Imagine a summer that sparks joy and ignites wonder!\n\n\nWe’re thrilled to unveil our 2026 Show Schedule\, packed with world-class weekend entertainment from June 20 to October 18.\n\n\nIn response to your enthusiasm\, we’re introducing 3 Kids Fly days\, Steampunk Day with contraption and costume contests\, and of course your favorites- the RC Jamboree and Pumpkin Bombing events.\n\n\nMark your calendars for March 1st to snag Advanced Tickets and be part of these unforgettable experiences!
URL:https://av8maps.com/event/every-saturday-sunday-air-show-ny94/2026-08-15/
LOCATION:Old Rhineback Aerodrome\, 9 Norton Rd\, Red Hook\, NY\, 12571
ATTACH;FMTTYPE=image/jpeg:https://av8maps.com/wp-content/uploads/2026/02/Old-Rhineback-Aerodrome-NY94-e1771598630943.jpg
GEO:41.9696198;-73.8641432
X-APPLE-STRUCTURED-LOCATION;VALUE=URI;X-ADDRESS=Old Rhineback Aerodrome 9 Norton Rd Red Hook NY 12571;X-APPLE-RADIUS=500;X-TITLE=9 Norton Rd:geo:-73.8641432,41.9696198
END:VEVENT
BEGIN:VEVENT
DTSTART;TZID=America/New_York:20260822T100000
DTEND;TZID=America/New_York:20260823T170000
DTSTAMP:20260423T085702
CREATED:20260220T144555Z
LAST-MODIFIED:20260220T145006Z
UID:10006205-1787392800-1787504400@av8maps.com
SUMMARY:Every Saturday & Sunday Air Show (NY94)
DESCRIPTION:Imagine a summer that sparks joy and ignites wonder!\n\n\nWe’re thrilled to unveil our 2026 Show Schedule\, packed with world-class weekend entertainment from June 20 to October 18.\n\n\nIn response to your enthusiasm\, we’re introducing 3 Kids Fly days\, Steampunk Day with contraption and costume contests\, and of course your favorites- the RC Jamboree and Pumpkin Bombing events.\n\n\nMark your calendars for March 1st to snag Advanced Tickets and be part of these unforgettable experiences!
URL:https://av8maps.com/event/every-saturday-sunday-air-show-ny94/2026-08-22/
LOCATION:Old Rhineback Aerodrome\, 9 Norton Rd\, Red Hook\, NY\, 12571
ATTACH;FMTTYPE=image/jpeg:https://av8maps.com/wp-content/uploads/2026/02/Old-Rhineback-Aerodrome-NY94-e1771598630943.jpg
GEO:41.9696198;-73.8641432
X-APPLE-STRUCTURED-LOCATION;VALUE=URI;X-ADDRESS=Old Rhineback Aerodrome 9 Norton Rd Red Hook NY 12571;X-APPLE-RADIUS=500;X-TITLE=9 Norton Rd:geo:-73.8641432,41.9696198
END:VEVENT
BEGIN:VEVENT
DTSTART;TZID=America/New_York:20260829T100000
DTEND;TZID=America/New_York:20260830T170000
DTSTAMP:20260423T085702
CREATED:20260220T144555Z
LAST-MODIFIED:20260220T145006Z
UID:10006206-1787997600-1788109200@av8maps.com
SUMMARY:Every Saturday & Sunday Air Show (NY94)
DESCRIPTION:Imagine a summer that sparks joy and ignites wonder!\n\n\nWe’re thrilled to unveil our 2026 Show Schedule\, packed with world-class weekend entertainment from June 20 to October 18.\n\n\nIn response to your enthusiasm\, we’re introducing 3 Kids Fly days\, Steampunk Day with contraption and costume contests\, and of course your favorites- the RC Jamboree and Pumpkin Bombing events.\n\n\nMark your calendars for March 1st to snag Advanced Tickets and be part of these unforgettable experiences!
URL:https://av8maps.com/event/every-saturday-sunday-air-show-ny94/2026-08-29/
LOCATION:Old Rhineback Aerodrome\, 9 Norton Rd\, Red Hook\, NY\, 12571
ATTACH;FMTTYPE=image/jpeg:https://av8maps.com/wp-content/uploads/2026/02/Old-Rhineback-Aerodrome-NY94-e1771598630943.jpg
GEO:41.9696198;-73.8641432
X-APPLE-STRUCTURED-LOCATION;VALUE=URI;X-ADDRESS=Old Rhineback Aerodrome 9 Norton Rd Red Hook NY 12571;X-APPLE-RADIUS=500;X-TITLE=9 Norton Rd:geo:-73.8641432,41.9696198
END:VEVENT
BEGIN:VEVENT
DTSTART;TZID=America/New_York:20260905T100000
DTEND;TZID=America/New_York:20260906T170000
DTSTAMP:20260423T085702
CREATED:20260220T144555Z
LAST-MODIFIED:20260220T145006Z
UID:10006207-1788602400-1788714000@av8maps.com
SUMMARY:Every Saturday & Sunday Air Show (NY94)
DESCRIPTION:Imagine a summer that sparks joy and ignites wonder!\n\n\nWe’re thrilled to unveil our 2026 Show Schedule\, packed with world-class weekend entertainment from June 20 to October 18.\n\n\nIn response to your enthusiasm\, we’re introducing 3 Kids Fly days\, Steampunk Day with contraption and costume contests\, and of course your favorites- the RC Jamboree and Pumpkin Bombing events.\n\n\nMark your calendars for March 1st to snag Advanced Tickets and be part of these unforgettable experiences!
URL:https://av8maps.com/event/every-saturday-sunday-air-show-ny94/2026-09-05/
LOCATION:Old Rhineback Aerodrome\, 9 Norton Rd\, Red Hook\, NY\, 12571
ATTACH;FMTTYPE=image/jpeg:https://av8maps.com/wp-content/uploads/2026/02/Old-Rhineback-Aerodrome-NY94-e1771598630943.jpg
GEO:41.9696198;-73.8641432
X-APPLE-STRUCTURED-LOCATION;VALUE=URI;X-ADDRESS=Old Rhineback Aerodrome 9 Norton Rd Red Hook NY 12571;X-APPLE-RADIUS=500;X-TITLE=9 Norton Rd:geo:-73.8641432,41.9696198
END:VEVENT
BEGIN:VEVENT
DTSTART;TZID=America/New_York:20260912T100000
DTEND;TZID=America/New_York:20260913T170000
DTSTAMP:20260423T085702
CREATED:20260220T144555Z
LAST-MODIFIED:20260220T145006Z
UID:10006208-1789207200-1789318800@av8maps.com
SUMMARY:Every Saturday & Sunday Air Show (NY94)
DESCRIPTION:Imagine a summer that sparks joy and ignites wonder!\n\n\nWe’re thrilled to unveil our 2026 Show Schedule\, packed with world-class weekend entertainment from June 20 to October 18.\n\n\nIn response to your enthusiasm\, we’re introducing 3 Kids Fly days\, Steampunk Day with contraption and costume contests\, and of course your favorites- the RC Jamboree and Pumpkin Bombing events.\n\n\nMark your calendars for March 1st to snag Advanced Tickets and be part of these unforgettable experiences!
URL:https://av8maps.com/event/every-saturday-sunday-air-show-ny94/2026-09-12/
LOCATION:Old Rhineback Aerodrome\, 9 Norton Rd\, Red Hook\, NY\, 12571
ATTACH;FMTTYPE=image/jpeg:https://av8maps.com/wp-content/uploads/2026/02/Old-Rhineback-Aerodrome-NY94-e1771598630943.jpg
GEO:41.9696198;-73.8641432
X-APPLE-STRUCTURED-LOCATION;VALUE=URI;X-ADDRESS=Old Rhineback Aerodrome 9 Norton Rd Red Hook NY 12571;X-APPLE-RADIUS=500;X-TITLE=9 Norton Rd:geo:-73.8641432,41.9696198
END:VEVENT
BEGIN:VEVENT
DTSTART;TZID=America/New_York:20260919T100000
DTEND;TZID=America/New_York:20260920T170000
DTSTAMP:20260423T085702
CREATED:20260220T144555Z
LAST-MODIFIED:20260220T145006Z
UID:10006209-1789812000-1789923600@av8maps.com
SUMMARY:Every Saturday & Sunday Air Show (NY94)
DESCRIPTION:Imagine a summer that sparks joy and ignites wonder!\n\n\nWe’re thrilled to unveil our 2026 Show Schedule\, packed with world-class weekend entertainment from June 20 to October 18.\n\n\nIn response to your enthusiasm\, we’re introducing 3 Kids Fly days\, Steampunk Day with contraption and costume contests\, and of course your favorites- the RC Jamboree and Pumpkin Bombing events.\n\n\nMark your calendars for March 1st to snag Advanced Tickets and be part of these unforgettable experiences!
URL:https://av8maps.com/event/every-saturday-sunday-air-show-ny94/2026-09-19/
LOCATION:Old Rhineback Aerodrome\, 9 Norton Rd\, Red Hook\, NY\, 12571
ATTACH;FMTTYPE=image/jpeg:https://av8maps.com/wp-content/uploads/2026/02/Old-Rhineback-Aerodrome-NY94-e1771598630943.jpg
GEO:41.9696198;-73.8641432
X-APPLE-STRUCTURED-LOCATION;VALUE=URI;X-ADDRESS=Old Rhineback Aerodrome 9 Norton Rd Red Hook NY 12571;X-APPLE-RADIUS=500;X-TITLE=9 Norton Rd:geo:-73.8641432,41.9696198
END:VEVENT
BEGIN:VEVENT
DTSTART;TZID=America/New_York:20260926T100000
DTEND;TZID=America/New_York:20260927T170000
DTSTAMP:20260423T085702
CREATED:20260220T144555Z
LAST-MODIFIED:20260220T145006Z
UID:10006210-1790416800-1790528400@av8maps.com
SUMMARY:Every Saturday & Sunday Air Show (NY94)
DESCRIPTION:Imagine a summer that sparks joy and ignites wonder!\n\n\nWe’re thrilled to unveil our 2026 Show Schedule\, packed with world-class weekend entertainment from June 20 to October 18.\n\n\nIn response to your enthusiasm\, we’re introducing 3 Kids Fly days\, Steampunk Day with contraption and costume contests\, and of course your favorites- the RC Jamboree and Pumpkin Bombing events.\n\n\nMark your calendars for March 1st to snag Advanced Tickets and be part of these unforgettable experiences!
URL:https://av8maps.com/event/every-saturday-sunday-air-show-ny94/2026-09-26/
LOCATION:Old Rhineback Aerodrome\, 9 Norton Rd\, Red Hook\, NY\, 12571
ATTACH;FMTTYPE=image/jpeg:https://av8maps.com/wp-content/uploads/2026/02/Old-Rhineback-Aerodrome-NY94-e1771598630943.jpg
GEO:41.9696198;-73.8641432
X-APPLE-STRUCTURED-LOCATION;VALUE=URI;X-ADDRESS=Old Rhineback Aerodrome 9 Norton Rd Red Hook NY 12571;X-APPLE-RADIUS=500;X-TITLE=9 Norton Rd:geo:-73.8641432,41.9696198
END:VEVENT
BEGIN:VEVENT
DTSTART;TZID=America/New_York:20261003T100000
DTEND;TZID=America/New_York:20261004T170000
DTSTAMP:20260423T085702
CREATED:20260220T144555Z
LAST-MODIFIED:20260220T145006Z
UID:10006211-1791021600-1791133200@av8maps.com
SUMMARY:Every Saturday & Sunday Air Show (NY94)
DESCRIPTION:Imagine a summer that sparks joy and ignites wonder!\n\n\nWe’re thrilled to unveil our 2026 Show Schedule\, packed with world-class weekend entertainment from June 20 to October 18.\n\n\nIn response to your enthusiasm\, we’re introducing 3 Kids Fly days\, Steampunk Day with contraption and costume contests\, and of course your favorites- the RC Jamboree and Pumpkin Bombing events.\n\n\nMark your calendars for March 1st to snag Advanced Tickets and be part of these unforgettable experiences!
URL:https://av8maps.com/event/every-saturday-sunday-air-show-ny94/2026-10-03/
LOCATION:Old Rhineback Aerodrome\, 9 Norton Rd\, Red Hook\, NY\, 12571
ATTACH;FMTTYPE=image/jpeg:https://av8maps.com/wp-content/uploads/2026/02/Old-Rhineback-Aerodrome-NY94-e1771598630943.jpg
GEO:41.9696198;-73.8641432
X-APPLE-STRUCTURED-LOCATION;VALUE=URI;X-ADDRESS=Old Rhineback Aerodrome 9 Norton Rd Red Hook NY 12571;X-APPLE-RADIUS=500;X-TITLE=9 Norton Rd:geo:-73.8641432,41.9696198
END:VEVENT
BEGIN:VEVENT
DTSTART;TZID=America/New_York:20261010T100000
DTEND;TZID=America/New_York:20261011T170000
DTSTAMP:20260423T085702
CREATED:20260220T144555Z
LAST-MODIFIED:20260220T145006Z
UID:10006212-1791626400-1791738000@av8maps.com
SUMMARY:Every Saturday & Sunday Air Show (NY94)
DESCRIPTION:Imagine a summer that sparks joy and ignites wonder!\n\n\nWe’re thrilled to unveil our 2026 Show Schedule\, packed with world-class weekend entertainment from June 20 to October 18.\n\n\nIn response to your enthusiasm\, we’re introducing 3 Kids Fly days\, Steampunk Day with contraption and costume contests\, and of course your favorites- the RC Jamboree and Pumpkin Bombing events.\n\n\nMark your calendars for March 1st to snag Advanced Tickets and be part of these unforgettable experiences!
URL:https://av8maps.com/event/every-saturday-sunday-air-show-ny94/2026-10-10/
LOCATION:Old Rhineback Aerodrome\, 9 Norton Rd\, Red Hook\, NY\, 12571
ATTACH;FMTTYPE=image/jpeg:https://av8maps.com/wp-content/uploads/2026/02/Old-Rhineback-Aerodrome-NY94-e1771598630943.jpg
GEO:41.9696198;-73.8641432
X-APPLE-STRUCTURED-LOCATION;VALUE=URI;X-ADDRESS=Old Rhineback Aerodrome 9 Norton Rd Red Hook NY 12571;X-APPLE-RADIUS=500;X-TITLE=9 Norton Rd:geo:-73.8641432,41.9696198
END:VEVENT
BEGIN:VEVENT
DTSTART;TZID=America/New_York:20261017T100000
DTEND;TZID=America/New_York:20261018T170000
DTSTAMP:20260423T085702
CREATED:20260220T144555Z
LAST-MODIFIED:20260220T145006Z
UID:10006213-1792231200-1792342800@av8maps.com
SUMMARY:Every Saturday & Sunday Air Show (NY94)
DESCRIPTION:Imagine a summer that sparks joy and ignites wonder!\n\n\nWe’re thrilled to unveil our 2026 Show Schedule\, packed with world-class weekend entertainment from June 20 to October 18.\n\n\nIn response to your enthusiasm\, we’re introducing 3 Kids Fly days\, Steampunk Day with contraption and costume contests\, and of course your favorites- the RC Jamboree and Pumpkin Bombing events.\n\n\nMark your calendars for March 1st to snag Advanced Tickets and be part of these unforgettable experiences!
URL:https://av8maps.com/event/every-saturday-sunday-air-show-ny94/2026-10-17/
LOCATION:Old Rhineback Aerodrome\, 9 Norton Rd\, Red Hook\, NY\, 12571
ATTACH;FMTTYPE=image/jpeg:https://av8maps.com/wp-content/uploads/2026/02/Old-Rhineback-Aerodrome-NY94-e1771598630943.jpg
GEO:41.9696198;-73.8641432
X-APPLE-STRUCTURED-LOCATION;VALUE=URI;X-ADDRESS=Old Rhineback Aerodrome 9 Norton Rd Red Hook NY 12571;X-APPLE-RADIUS=500;X-TITLE=9 Norton Rd:geo:-73.8641432,41.9696198
END:VEVENT
END:VCALENDAR