BEGIN:VCALENDAR
VERSION:2.0
PRODID:-//AV8MAPS.COM - ECPv6.15.20//NONSGML v1.0//EN
CALSCALE:GREGORIAN
METHOD:PUBLISH
X-WR-CALNAME:AV8MAPS.COM
X-ORIGINAL-URL:https://av8maps.com
X-WR-CALDESC:Events for AV8MAPS.COM
REFRESH-INTERVAL;VALUE=DURATION:PT1H
X-Robots-Tag:noindex
X-PUBLISHED-TTL:PT1H
BEGIN:VTIMEZONE
TZID:America/New_York
BEGIN:DAYLIGHT
TZOFFSETFROM:-0500
TZOFFSETTO:-0400
TZNAME:EDT
DTSTART:20250309T070000
END:DAYLIGHT
BEGIN:STANDARD
TZOFFSETFROM:-0400
TZOFFSETTO:-0500
TZNAME:EST
DTSTART:20251102T060000
END:STANDARD
BEGIN:DAYLIGHT
TZOFFSETFROM:-0500
TZOFFSETTO:-0400
TZNAME:EDT
DTSTART:20260308T070000
END:DAYLIGHT
BEGIN:STANDARD
TZOFFSETFROM:-0400
TZOFFSETTO:-0500
TZNAME:EST
DTSTART:20261101T060000
END:STANDARD
BEGIN:DAYLIGHT
TZOFFSETFROM:-0500
TZOFFSETTO:-0400
TZNAME:EDT
DTSTART:20270314T070000
END:DAYLIGHT
BEGIN:STANDARD
TZOFFSETFROM:-0400
TZOFFSETTO:-0500
TZNAME:EST
DTSTART:20271107T060000
END:STANDARD
BEGIN:DAYLIGHT
TZOFFSETFROM:-0500
TZOFFSETTO:-0400
TZNAME:EDT
DTSTART:20280312T070000
END:DAYLIGHT
BEGIN:STANDARD
TZOFFSETFROM:-0400
TZOFFSETTO:-0500
TZNAME:EST
DTSTART:20281105T060000
END:STANDARD
BEGIN:DAYLIGHT
TZOFFSETFROM:-0500
TZOFFSETTO:-0400
TZNAME:EDT
DTSTART:20290311T070000
END:DAYLIGHT
BEGIN:STANDARD
TZOFFSETFROM:-0400
TZOFFSETTO:-0500
TZNAME:EST
DTSTART:20291104T060000
END:STANDARD
BEGIN:DAYLIGHT
TZOFFSETFROM:-0500
TZOFFSETTO:-0400
TZNAME:EDT
DTSTART:20300310T070000
END:DAYLIGHT
BEGIN:STANDARD
TZOFFSETFROM:-0400
TZOFFSETTO:-0500
TZNAME:EST
DTSTART:20301103T060000
END:STANDARD
BEGIN:DAYLIGHT
TZOFFSETFROM:-0500
TZOFFSETTO:-0400
TZNAME:EDT
DTSTART:20310309T070000
END:DAYLIGHT
BEGIN:STANDARD
TZOFFSETFROM:-0400
TZOFFSETTO:-0500
TZNAME:EST
DTSTART:20311102T060000
END:STANDARD
END:VTIMEZONE
BEGIN:VEVENT
DTSTART;TZID=America/New_York:20260627T110000
DTEND;TZID=America/New_York:20260627T140000
DTSTAMP:20260423T020203
CREATED:20260220T221510Z
LAST-MODIFIED:20260220T222259Z
UID:10006288-1782558000-1782568800@av8maps.com
SUMMARY:Annual Safar Seaplane Splash-in (97FA)
DESCRIPTION:Come anytime between 11am and 2pm. \nSandbar event on the St. Johns River near Palatka. \nPlease monitor seaplane frequency 123.375 \nWet event (NOT at shoreline)\, so bring: anchor (two is ideal\, one for the front and one out the back to prevent swinging around)\, towel\, anything you need to hang out at sandbar. Super fun event!! \nPlease RSVP to SAFAR\, or me at floridaseaplanes@hotmail.com with \nairplane callsign\, type\, and people on board. \n 
URL:https://av8maps.com/event/annual-safar-seaplane-splash-in-97fa/2026-06-27/
LOCATION:Safar Seaplane Base
ATTACH;FMTTYPE=image/jpeg:https://av8maps.com/wp-content/uploads/2026/02/Florida-Seaplanes-Splash-ins.jpg
END:VEVENT
BEGIN:VEVENT
DTSTART;TZID=America/New_York:20270626T110000
DTEND;TZID=America/New_York:20270626T140000
DTSTAMP:20260423T020203
CREATED:20260220T221510Z
LAST-MODIFIED:20260220T222259Z
UID:10006289-1814007600-1814018400@av8maps.com
SUMMARY:Annual Safar Seaplane Splash-in (97FA)
DESCRIPTION:Come anytime between 11am and 2pm. \nSandbar event on the St. Johns River near Palatka. \nPlease monitor seaplane frequency 123.375 \nWet event (NOT at shoreline)\, so bring: anchor (two is ideal\, one for the front and one out the back to prevent swinging around)\, towel\, anything you need to hang out at sandbar. Super fun event!! \nPlease RSVP to SAFAR\, or me at floridaseaplanes@hotmail.com with \nairplane callsign\, type\, and people on board. \n 
URL:https://av8maps.com/event/annual-safar-seaplane-splash-in-97fa/2027-06-26/
LOCATION:Safar Seaplane Base
ATTACH;FMTTYPE=image/jpeg:https://av8maps.com/wp-content/uploads/2026/02/Florida-Seaplanes-Splash-ins.jpg
END:VEVENT
BEGIN:VEVENT
DTSTART;TZID=America/New_York:20280624T110000
DTEND;TZID=America/New_York:20280624T140000
DTSTAMP:20260423T020203
CREATED:20260220T221510Z
LAST-MODIFIED:20260220T222259Z
UID:10006290-1845457200-1845468000@av8maps.com
SUMMARY:Annual Safar Seaplane Splash-in (97FA)
DESCRIPTION:Come anytime between 11am and 2pm. \nSandbar event on the St. Johns River near Palatka. \nPlease monitor seaplane frequency 123.375 \nWet event (NOT at shoreline)\, so bring: anchor (two is ideal\, one for the front and one out the back to prevent swinging around)\, towel\, anything you need to hang out at sandbar. Super fun event!! \nPlease RSVP to SAFAR\, or me at floridaseaplanes@hotmail.com with \nairplane callsign\, type\, and people on board. \n 
URL:https://av8maps.com/event/annual-safar-seaplane-splash-in-97fa/2028-06-24/
LOCATION:Safar Seaplane Base
ATTACH;FMTTYPE=image/jpeg:https://av8maps.com/wp-content/uploads/2026/02/Florida-Seaplanes-Splash-ins.jpg
END:VEVENT
BEGIN:VEVENT
DTSTART;TZID=America/New_York:20290623T110000
DTEND;TZID=America/New_York:20290623T140000
DTSTAMP:20260423T020203
CREATED:20260220T221510Z
LAST-MODIFIED:20260220T222259Z
UID:10006291-1876906800-1876917600@av8maps.com
SUMMARY:Annual Safar Seaplane Splash-in (97FA)
DESCRIPTION:Come anytime between 11am and 2pm. \nSandbar event on the St. Johns River near Palatka. \nPlease monitor seaplane frequency 123.375 \nWet event (NOT at shoreline)\, so bring: anchor (two is ideal\, one for the front and one out the back to prevent swinging around)\, towel\, anything you need to hang out at sandbar. Super fun event!! \nPlease RSVP to SAFAR\, or me at floridaseaplanes@hotmail.com with \nairplane callsign\, type\, and people on board. \n 
URL:https://av8maps.com/event/annual-safar-seaplane-splash-in-97fa/2029-06-23/
LOCATION:Safar Seaplane Base
ATTACH;FMTTYPE=image/jpeg:https://av8maps.com/wp-content/uploads/2026/02/Florida-Seaplanes-Splash-ins.jpg
END:VEVENT
BEGIN:VEVENT
DTSTART;TZID=America/New_York:20300622T110000
DTEND;TZID=America/New_York:20300622T140000
DTSTAMP:20260423T020203
CREATED:20260220T221510Z
LAST-MODIFIED:20260220T222259Z
UID:10006292-1908356400-1908367200@av8maps.com
SUMMARY:Annual Safar Seaplane Splash-in (97FA)
DESCRIPTION:Come anytime between 11am and 2pm. \nSandbar event on the St. Johns River near Palatka. \nPlease monitor seaplane frequency 123.375 \nWet event (NOT at shoreline)\, so bring: anchor (two is ideal\, one for the front and one out the back to prevent swinging around)\, towel\, anything you need to hang out at sandbar. Super fun event!! \nPlease RSVP to SAFAR\, or me at floridaseaplanes@hotmail.com with \nairplane callsign\, type\, and people on board. \n 
URL:https://av8maps.com/event/annual-safar-seaplane-splash-in-97fa/2030-06-22/
LOCATION:Safar Seaplane Base
ATTACH;FMTTYPE=image/jpeg:https://av8maps.com/wp-content/uploads/2026/02/Florida-Seaplanes-Splash-ins.jpg
END:VEVENT
END:VCALENDAR