BEGIN:VCALENDAR
VERSION:2.0
PRODID:-//AV8MAPS.COM - ECPv6.15.20//NONSGML v1.0//EN
CALSCALE:GREGORIAN
METHOD:PUBLISH
X-WR-CALNAME:AV8MAPS.COM
X-ORIGINAL-URL:https://av8maps.com
X-WR-CALDESC:Events for AV8MAPS.COM
REFRESH-INTERVAL;VALUE=DURATION:PT1H
X-Robots-Tag:noindex
X-PUBLISHED-TTL:PT1H
BEGIN:VTIMEZONE
TZID:America/New_York
BEGIN:DAYLIGHT
TZOFFSETFROM:-0500
TZOFFSETTO:-0400
TZNAME:EDT
DTSTART:20260308T070000
END:DAYLIGHT
BEGIN:STANDARD
TZOFFSETFROM:-0400
TZOFFSETTO:-0500
TZNAME:EST
DTSTART:20261101T060000
END:STANDARD
BEGIN:DAYLIGHT
TZOFFSETFROM:-0500
TZOFFSETTO:-0400
TZNAME:EDT
DTSTART:20270314T070000
END:DAYLIGHT
BEGIN:STANDARD
TZOFFSETFROM:-0400
TZOFFSETTO:-0500
TZNAME:EST
DTSTART:20271107T060000
END:STANDARD
BEGIN:DAYLIGHT
TZOFFSETFROM:-0500
TZOFFSETTO:-0400
TZNAME:EDT
DTSTART:20280312T070000
END:DAYLIGHT
BEGIN:STANDARD
TZOFFSETFROM:-0400
TZOFFSETTO:-0500
TZNAME:EST
DTSTART:20281105T060000
END:STANDARD
BEGIN:DAYLIGHT
TZOFFSETFROM:-0500
TZOFFSETTO:-0400
TZNAME:EDT
DTSTART:20290311T070000
END:DAYLIGHT
BEGIN:STANDARD
TZOFFSETFROM:-0400
TZOFFSETTO:-0500
TZNAME:EST
DTSTART:20291104T060000
END:STANDARD
BEGIN:DAYLIGHT
TZOFFSETFROM:-0500
TZOFFSETTO:-0400
TZNAME:EDT
DTSTART:20300310T070000
END:DAYLIGHT
BEGIN:STANDARD
TZOFFSETFROM:-0400
TZOFFSETTO:-0500
TZNAME:EST
DTSTART:20301103T060000
END:STANDARD
BEGIN:DAYLIGHT
TZOFFSETFROM:-0500
TZOFFSETTO:-0400
TZNAME:EDT
DTSTART:20310309T070000
END:DAYLIGHT
BEGIN:STANDARD
TZOFFSETFROM:-0400
TZOFFSETTO:-0500
TZNAME:EST
DTSTART:20311102T060000
END:STANDARD
END:VTIMEZONE
BEGIN:VEVENT
DTSTART;TZID=America/New_York:20270313T110000
DTEND;TZID=America/New_York:20270313T140000
DTSTAMP:20260423T080509
CREATED:20260223T231741Z
LAST-MODIFIED:20260223T231741Z
UID:10006304-1804935600-1804946400@av8maps.com
SUMMARY:Annual Shamrock Fly-in (15FL)
DESCRIPTION:March 14 17th Annual Shamrock Fly In Join us for the Annual Shamrock Fly In at Cannon Creek Airpark (15FL). \nCome for the delicious BBQ and stay for our world-famous Decadent Dessert Table. \nWe know a thing or two about how to put on a great fly in! There will be a “crafters” display along with show cars and aircraft. \nDon’t forget the Pot O Gold 50/50 raffle. $15 for adults\, kids under 12 years of age are $8. \nDoors open at 11AM. Lunch served from Noon to 2PM. Hope to see you there
URL:https://av8maps.com/event/annual-shamrock-fly-in-15fl/2027-03-13/
LOCATION:Cannon Creek Airpark\, 288 SW Challenger Lane\, Lake City\, FL\, 32025
ATTACH;FMTTYPE=image/jpeg:https://av8maps.com/wp-content/uploads/2026/02/Annual-Shamrock-Fly-in-15FL-e1771888645910.jpg
GEO:30.1510768;-82.6595154
X-APPLE-STRUCTURED-LOCATION;VALUE=URI;X-ADDRESS=Cannon Creek Airpark 288 SW Challenger Lane Lake City FL 32025;X-APPLE-RADIUS=500;X-TITLE=288 SW Challenger Lane:geo:-82.6595154,30.1510768
END:VEVENT
BEGIN:VEVENT
DTSTART;TZID=America/New_York:20280311T110000
DTEND;TZID=America/New_York:20280311T140000
DTSTAMP:20260423T080509
CREATED:20260223T231741Z
LAST-MODIFIED:20260223T231741Z
UID:10006305-1836385200-1836396000@av8maps.com
SUMMARY:Annual Shamrock Fly-in (15FL)
DESCRIPTION:March 14 17th Annual Shamrock Fly In Join us for the Annual Shamrock Fly In at Cannon Creek Airpark (15FL). \nCome for the delicious BBQ and stay for our world-famous Decadent Dessert Table. \nWe know a thing or two about how to put on a great fly in! There will be a “crafters” display along with show cars and aircraft. \nDon’t forget the Pot O Gold 50/50 raffle. $15 for adults\, kids under 12 years of age are $8. \nDoors open at 11AM. Lunch served from Noon to 2PM. Hope to see you there
URL:https://av8maps.com/event/annual-shamrock-fly-in-15fl/2028-03-11/
LOCATION:Cannon Creek Airpark\, 288 SW Challenger Lane\, Lake City\, FL\, 32025
ATTACH;FMTTYPE=image/jpeg:https://av8maps.com/wp-content/uploads/2026/02/Annual-Shamrock-Fly-in-15FL-e1771888645910.jpg
GEO:30.1510768;-82.6595154
X-APPLE-STRUCTURED-LOCATION;VALUE=URI;X-ADDRESS=Cannon Creek Airpark 288 SW Challenger Lane Lake City FL 32025;X-APPLE-RADIUS=500;X-TITLE=288 SW Challenger Lane:geo:-82.6595154,30.1510768
END:VEVENT
BEGIN:VEVENT
DTSTART;TZID=America/New_York:20290310T110000
DTEND;TZID=America/New_York:20290310T140000
DTSTAMP:20260423T080509
CREATED:20260223T231741Z
LAST-MODIFIED:20260223T231741Z
UID:10006306-1867834800-1867845600@av8maps.com
SUMMARY:Annual Shamrock Fly-in (15FL)
DESCRIPTION:March 14 17th Annual Shamrock Fly In Join us for the Annual Shamrock Fly In at Cannon Creek Airpark (15FL). \nCome for the delicious BBQ and stay for our world-famous Decadent Dessert Table. \nWe know a thing or two about how to put on a great fly in! There will be a “crafters” display along with show cars and aircraft. \nDon’t forget the Pot O Gold 50/50 raffle. $15 for adults\, kids under 12 years of age are $8. \nDoors open at 11AM. Lunch served from Noon to 2PM. Hope to see you there
URL:https://av8maps.com/event/annual-shamrock-fly-in-15fl/2029-03-10/
LOCATION:Cannon Creek Airpark\, 288 SW Challenger Lane\, Lake City\, FL\, 32025
ATTACH;FMTTYPE=image/jpeg:https://av8maps.com/wp-content/uploads/2026/02/Annual-Shamrock-Fly-in-15FL-e1771888645910.jpg
GEO:30.1510768;-82.6595154
X-APPLE-STRUCTURED-LOCATION;VALUE=URI;X-ADDRESS=Cannon Creek Airpark 288 SW Challenger Lane Lake City FL 32025;X-APPLE-RADIUS=500;X-TITLE=288 SW Challenger Lane:geo:-82.6595154,30.1510768
END:VEVENT
BEGIN:VEVENT
DTSTART;TZID=America/New_York:20300309T110000
DTEND;TZID=America/New_York:20300309T140000
DTSTAMP:20260423T080509
CREATED:20260223T231741Z
LAST-MODIFIED:20260223T231741Z
UID:10006307-1899284400-1899295200@av8maps.com
SUMMARY:Annual Shamrock Fly-in (15FL)
DESCRIPTION:March 14 17th Annual Shamrock Fly In Join us for the Annual Shamrock Fly In at Cannon Creek Airpark (15FL). \nCome for the delicious BBQ and stay for our world-famous Decadent Dessert Table. \nWe know a thing or two about how to put on a great fly in! There will be a “crafters” display along with show cars and aircraft. \nDon’t forget the Pot O Gold 50/50 raffle. $15 for adults\, kids under 12 years of age are $8. \nDoors open at 11AM. Lunch served from Noon to 2PM. Hope to see you there
URL:https://av8maps.com/event/annual-shamrock-fly-in-15fl/2030-03-09/
LOCATION:Cannon Creek Airpark\, 288 SW Challenger Lane\, Lake City\, FL\, 32025
ATTACH;FMTTYPE=image/jpeg:https://av8maps.com/wp-content/uploads/2026/02/Annual-Shamrock-Fly-in-15FL-e1771888645910.jpg
GEO:30.1510768;-82.6595154
X-APPLE-STRUCTURED-LOCATION;VALUE=URI;X-ADDRESS=Cannon Creek Airpark 288 SW Challenger Lane Lake City FL 32025;X-APPLE-RADIUS=500;X-TITLE=288 SW Challenger Lane:geo:-82.6595154,30.1510768
END:VEVENT
END:VCALENDAR