BEGIN:VCALENDAR
VERSION:2.0
PRODID:-//AV8MAPS.COM - ECPv6.15.20//NONSGML v1.0//EN
CALSCALE:GREGORIAN
METHOD:PUBLISH
X-WR-CALNAME:AV8MAPS.COM
X-ORIGINAL-URL:https://av8maps.com
X-WR-CALDESC:Events for AV8MAPS.COM
REFRESH-INTERVAL;VALUE=DURATION:PT1H
X-Robots-Tag:noindex
X-PUBLISHED-TTL:PT1H
BEGIN:VTIMEZONE
TZID:America/New_York
BEGIN:DAYLIGHT
TZOFFSETFROM:-0500
TZOFFSETTO:-0400
TZNAME:EDT
DTSTART:20250309T070000
END:DAYLIGHT
BEGIN:STANDARD
TZOFFSETFROM:-0400
TZOFFSETTO:-0500
TZNAME:EST
DTSTART:20251102T060000
END:STANDARD
BEGIN:DAYLIGHT
TZOFFSETFROM:-0500
TZOFFSETTO:-0400
TZNAME:EDT
DTSTART:20260308T070000
END:DAYLIGHT
BEGIN:STANDARD
TZOFFSETFROM:-0400
TZOFFSETTO:-0500
TZNAME:EST
DTSTART:20261101T060000
END:STANDARD
BEGIN:DAYLIGHT
TZOFFSETFROM:-0500
TZOFFSETTO:-0400
TZNAME:EDT
DTSTART:20270314T070000
END:DAYLIGHT
BEGIN:STANDARD
TZOFFSETFROM:-0400
TZOFFSETTO:-0500
TZNAME:EST
DTSTART:20271107T060000
END:STANDARD
BEGIN:DAYLIGHT
TZOFFSETFROM:-0500
TZOFFSETTO:-0400
TZNAME:EDT
DTSTART:20280312T070000
END:DAYLIGHT
BEGIN:STANDARD
TZOFFSETFROM:-0400
TZOFFSETTO:-0500
TZNAME:EST
DTSTART:20281105T060000
END:STANDARD
BEGIN:DAYLIGHT
TZOFFSETFROM:-0500
TZOFFSETTO:-0400
TZNAME:EDT
DTSTART:20290311T070000
END:DAYLIGHT
BEGIN:STANDARD
TZOFFSETFROM:-0400
TZOFFSETTO:-0500
TZNAME:EST
DTSTART:20291104T060000
END:STANDARD
BEGIN:DAYLIGHT
TZOFFSETFROM:-0500
TZOFFSETTO:-0400
TZNAME:EDT
DTSTART:20300310T070000
END:DAYLIGHT
BEGIN:STANDARD
TZOFFSETFROM:-0400
TZOFFSETTO:-0500
TZNAME:EST
DTSTART:20301103T060000
END:STANDARD
BEGIN:DAYLIGHT
TZOFFSETFROM:-0500
TZOFFSETTO:-0400
TZNAME:EDT
DTSTART:20310309T070000
END:DAYLIGHT
BEGIN:STANDARD
TZOFFSETFROM:-0400
TZOFFSETTO:-0500
TZNAME:EST
DTSTART:20311102T060000
END:STANDARD
END:VTIMEZONE
BEGIN:VEVENT
DTSTART;TZID=America/New_York:20260606T080000
DTEND;TZID=America/New_York:20260606T170000
DTSTAMP:20260423T094145
CREATED:20260227T194751Z
LAST-MODIFIED:20260227T195315Z
UID:10006324-1780732800-1780765200@av8maps.com
SUMMARY:Piston And Props Inaugural Fly-in and Car Show (SC00)
DESCRIPTION:Get ready for a boutique experience where high-performance automotive engineering meets the world of aviation! Triple Tree Aerodrome is proud to host the inaugural Pistons and Props car show\, a premier event designed to celebrate beautiful machines while benefiting our youth educational programs. \n  \n2026-Pistons and Props Flyer SC00
URL:https://av8maps.com/event/piston-and-props-inaugural-fly-in-and-car-show-sc00/2026-06-06/
LOCATION:Triple Tree Aerodrome\, 330 Mary Hanna Rd\, Woodruff\, SC\, 29388
ATTACH;FMTTYPE=image/jpeg:https://av8maps.com/wp-content/uploads/2025/08/Triple-Tree-Aerodrome-.jpg
GEO:34.675241;-81.9979099
X-APPLE-STRUCTURED-LOCATION;VALUE=URI;X-ADDRESS=Triple Tree Aerodrome 330 Mary Hanna Rd Woodruff SC 29388;X-APPLE-RADIUS=500;X-TITLE=330 Mary Hanna Rd:geo:-81.9979099,34.675241
END:VEVENT
BEGIN:VEVENT
DTSTART;TZID=America/New_York:20270605T080000
DTEND;TZID=America/New_York:20270605T170000
DTSTAMP:20260423T094145
CREATED:20260227T194751Z
LAST-MODIFIED:20260227T195315Z
UID:10006325-1812182400-1812214800@av8maps.com
SUMMARY:Piston And Props Inaugural Fly-in and Car Show (SC00)
DESCRIPTION:Get ready for a boutique experience where high-performance automotive engineering meets the world of aviation! Triple Tree Aerodrome is proud to host the inaugural Pistons and Props car show\, a premier event designed to celebrate beautiful machines while benefiting our youth educational programs. \n  \n2026-Pistons and Props Flyer SC00
URL:https://av8maps.com/event/piston-and-props-inaugural-fly-in-and-car-show-sc00/2027-06-05/
LOCATION:Triple Tree Aerodrome\, 330 Mary Hanna Rd\, Woodruff\, SC\, 29388
ATTACH;FMTTYPE=image/jpeg:https://av8maps.com/wp-content/uploads/2025/08/Triple-Tree-Aerodrome-.jpg
GEO:34.675241;-81.9979099
X-APPLE-STRUCTURED-LOCATION;VALUE=URI;X-ADDRESS=Triple Tree Aerodrome 330 Mary Hanna Rd Woodruff SC 29388;X-APPLE-RADIUS=500;X-TITLE=330 Mary Hanna Rd:geo:-81.9979099,34.675241
END:VEVENT
BEGIN:VEVENT
DTSTART;TZID=America/New_York:20280603T080000
DTEND;TZID=America/New_York:20280603T170000
DTSTAMP:20260423T094145
CREATED:20260227T194751Z
LAST-MODIFIED:20260227T195315Z
UID:10006326-1843632000-1843664400@av8maps.com
SUMMARY:Piston And Props Inaugural Fly-in and Car Show (SC00)
DESCRIPTION:Get ready for a boutique experience where high-performance automotive engineering meets the world of aviation! Triple Tree Aerodrome is proud to host the inaugural Pistons and Props car show\, a premier event designed to celebrate beautiful machines while benefiting our youth educational programs. \n  \n2026-Pistons and Props Flyer SC00
URL:https://av8maps.com/event/piston-and-props-inaugural-fly-in-and-car-show-sc00/2028-06-03/
LOCATION:Triple Tree Aerodrome\, 330 Mary Hanna Rd\, Woodruff\, SC\, 29388
ATTACH;FMTTYPE=image/jpeg:https://av8maps.com/wp-content/uploads/2025/08/Triple-Tree-Aerodrome-.jpg
GEO:34.675241;-81.9979099
X-APPLE-STRUCTURED-LOCATION;VALUE=URI;X-ADDRESS=Triple Tree Aerodrome 330 Mary Hanna Rd Woodruff SC 29388;X-APPLE-RADIUS=500;X-TITLE=330 Mary Hanna Rd:geo:-81.9979099,34.675241
END:VEVENT
BEGIN:VEVENT
DTSTART;TZID=America/New_York:20290602T080000
DTEND;TZID=America/New_York:20290602T170000
DTSTAMP:20260423T094145
CREATED:20260227T194751Z
LAST-MODIFIED:20260227T195315Z
UID:10006327-1875081600-1875114000@av8maps.com
SUMMARY:Piston And Props Inaugural Fly-in and Car Show (SC00)
DESCRIPTION:Get ready for a boutique experience where high-performance automotive engineering meets the world of aviation! Triple Tree Aerodrome is proud to host the inaugural Pistons and Props car show\, a premier event designed to celebrate beautiful machines while benefiting our youth educational programs. \n  \n2026-Pistons and Props Flyer SC00
URL:https://av8maps.com/event/piston-and-props-inaugural-fly-in-and-car-show-sc00/2029-06-02/
LOCATION:Triple Tree Aerodrome\, 330 Mary Hanna Rd\, Woodruff\, SC\, 29388
ATTACH;FMTTYPE=image/jpeg:https://av8maps.com/wp-content/uploads/2025/08/Triple-Tree-Aerodrome-.jpg
GEO:34.675241;-81.9979099
X-APPLE-STRUCTURED-LOCATION;VALUE=URI;X-ADDRESS=Triple Tree Aerodrome 330 Mary Hanna Rd Woodruff SC 29388;X-APPLE-RADIUS=500;X-TITLE=330 Mary Hanna Rd:geo:-81.9979099,34.675241
END:VEVENT
BEGIN:VEVENT
DTSTART;TZID=America/New_York:20300601T080000
DTEND;TZID=America/New_York:20300601T170000
DTSTAMP:20260423T094145
CREATED:20260227T194751Z
LAST-MODIFIED:20260227T195315Z
UID:10006328-1906531200-1906563600@av8maps.com
SUMMARY:Piston And Props Inaugural Fly-in and Car Show (SC00)
DESCRIPTION:Get ready for a boutique experience where high-performance automotive engineering meets the world of aviation! Triple Tree Aerodrome is proud to host the inaugural Pistons and Props car show\, a premier event designed to celebrate beautiful machines while benefiting our youth educational programs. \n  \n2026-Pistons and Props Flyer SC00
URL:https://av8maps.com/event/piston-and-props-inaugural-fly-in-and-car-show-sc00/2030-06-01/
LOCATION:Triple Tree Aerodrome\, 330 Mary Hanna Rd\, Woodruff\, SC\, 29388
ATTACH;FMTTYPE=image/jpeg:https://av8maps.com/wp-content/uploads/2025/08/Triple-Tree-Aerodrome-.jpg
GEO:34.675241;-81.9979099
X-APPLE-STRUCTURED-LOCATION;VALUE=URI;X-ADDRESS=Triple Tree Aerodrome 330 Mary Hanna Rd Woodruff SC 29388;X-APPLE-RADIUS=500;X-TITLE=330 Mary Hanna Rd:geo:-81.9979099,34.675241
END:VEVENT
END:VCALENDAR