BEGIN:VCALENDAR
VERSION:2.0
PRODID:-//AV8MAPS.COM - ECPv6.15.20//NONSGML v1.0//EN
CALSCALE:GREGORIAN
METHOD:PUBLISH
X-WR-CALNAME:AV8MAPS.COM
X-ORIGINAL-URL:https://av8maps.com
X-WR-CALDESC:Events for AV8MAPS.COM
REFRESH-INTERVAL;VALUE=DURATION:PT1H
X-Robots-Tag:noindex
X-PUBLISHED-TTL:PT1H
BEGIN:VTIMEZONE
TZID:America/New_York
BEGIN:DAYLIGHT
TZOFFSETFROM:-0500
TZOFFSETTO:-0400
TZNAME:EDT
DTSTART:20260308T070000
END:DAYLIGHT
BEGIN:STANDARD
TZOFFSETFROM:-0400
TZOFFSETTO:-0500
TZNAME:EST
DTSTART:20261101T060000
END:STANDARD
BEGIN:DAYLIGHT
TZOFFSETFROM:-0500
TZOFFSETTO:-0400
TZNAME:EDT
DTSTART:20270314T070000
END:DAYLIGHT
BEGIN:STANDARD
TZOFFSETFROM:-0400
TZOFFSETTO:-0500
TZNAME:EST
DTSTART:20271107T060000
END:STANDARD
BEGIN:DAYLIGHT
TZOFFSETFROM:-0500
TZOFFSETTO:-0400
TZNAME:EDT
DTSTART:20280312T070000
END:DAYLIGHT
BEGIN:STANDARD
TZOFFSETFROM:-0400
TZOFFSETTO:-0500
TZNAME:EST
DTSTART:20281105T060000
END:STANDARD
BEGIN:DAYLIGHT
TZOFFSETFROM:-0500
TZOFFSETTO:-0400
TZNAME:EDT
DTSTART:20290311T070000
END:DAYLIGHT
BEGIN:STANDARD
TZOFFSETFROM:-0400
TZOFFSETTO:-0500
TZNAME:EST
DTSTART:20291104T060000
END:STANDARD
BEGIN:DAYLIGHT
TZOFFSETFROM:-0500
TZOFFSETTO:-0400
TZNAME:EDT
DTSTART:20300310T070000
END:DAYLIGHT
BEGIN:STANDARD
TZOFFSETFROM:-0400
TZOFFSETTO:-0500
TZNAME:EST
DTSTART:20301103T060000
END:STANDARD
BEGIN:DAYLIGHT
TZOFFSETFROM:-0500
TZOFFSETTO:-0400
TZNAME:EDT
DTSTART:20310309T070000
END:DAYLIGHT
BEGIN:STANDARD
TZOFFSETFROM:-0400
TZOFFSETTO:-0500
TZNAME:EST
DTSTART:20311102T060000
END:STANDARD
BEGIN:DAYLIGHT
TZOFFSETFROM:-0500
TZOFFSETTO:-0400
TZNAME:EDT
DTSTART:20320314T070000
END:DAYLIGHT
BEGIN:STANDARD
TZOFFSETFROM:-0400
TZOFFSETTO:-0500
TZNAME:EST
DTSTART:20321107T060000
END:STANDARD
END:VTIMEZONE
BEGIN:VEVENT
DTSTART;TZID=America/New_York:20270306T073000
DTEND;TZID=America/New_York:20270306T093000
DTSTAMP:20260423T075515
CREATED:20260317T142527Z
LAST-MODIFIED:20260317T142651Z
UID:10006392-1804318200-1804325400@av8maps.com
SUMMARY:Annual Flour Drop Competition (KHDL)
DESCRIPTION:Annual Flour drop competition. \nRegistration 07:30-09:30 \nCheck out WW2 and Vietnam Era Warbirds \nInflatables for the kids\, delicious eats from Local Food Trucks and EAA Young Eagles. \nFor more info and the latest updates follow Flight Services Inc. & The Headland Airport Facebook \nPages. \nQuestions and Contacts:\nHeadland Municipal: Josh Moore 334-355-0435\nFlight Services Inc .: Jason Skelton 478-997-0707
URL:https://av8maps.com/event/annual-flour-drop-competition-khdl/2027-03-06/
LOCATION:Headland Municipal Airport\, 230 Airport Dr\, Headland\, AL\, 36345
ATTACH;FMTTYPE=image/jpeg:https://av8maps.com/wp-content/uploads/2026/03/Headland-Municipal-Airport-KHDL-e1773757514926.jpg
GEO:31.3617757;-85.311255
X-APPLE-STRUCTURED-LOCATION;VALUE=URI;X-ADDRESS=Headland Municipal Airport 230 Airport Dr Headland AL 36345;X-APPLE-RADIUS=500;X-TITLE=230 Airport Dr:geo:-85.311255,31.3617757
END:VEVENT
BEGIN:VEVENT
DTSTART;TZID=America/New_York:20280304T073000
DTEND;TZID=America/New_York:20280304T093000
DTSTAMP:20260423T075515
CREATED:20260317T142527Z
LAST-MODIFIED:20260317T142651Z
UID:10006393-1835767800-1835775000@av8maps.com
SUMMARY:Annual Flour Drop Competition (KHDL)
DESCRIPTION:Annual Flour drop competition. \nRegistration 07:30-09:30 \nCheck out WW2 and Vietnam Era Warbirds \nInflatables for the kids\, delicious eats from Local Food Trucks and EAA Young Eagles. \nFor more info and the latest updates follow Flight Services Inc. & The Headland Airport Facebook \nPages. \nQuestions and Contacts:\nHeadland Municipal: Josh Moore 334-355-0435\nFlight Services Inc .: Jason Skelton 478-997-0707
URL:https://av8maps.com/event/annual-flour-drop-competition-khdl/2028-03-04/
LOCATION:Headland Municipal Airport\, 230 Airport Dr\, Headland\, AL\, 36345
ATTACH;FMTTYPE=image/jpeg:https://av8maps.com/wp-content/uploads/2026/03/Headland-Municipal-Airport-KHDL-e1773757514926.jpg
GEO:31.3617757;-85.311255
X-APPLE-STRUCTURED-LOCATION;VALUE=URI;X-ADDRESS=Headland Municipal Airport 230 Airport Dr Headland AL 36345;X-APPLE-RADIUS=500;X-TITLE=230 Airport Dr:geo:-85.311255,31.3617757
END:VEVENT
BEGIN:VEVENT
DTSTART;TZID=America/New_York:20290303T073000
DTEND;TZID=America/New_York:20290303T093000
DTSTAMP:20260423T075515
CREATED:20260317T142527Z
LAST-MODIFIED:20260317T142651Z
UID:10006394-1867217400-1867224600@av8maps.com
SUMMARY:Annual Flour Drop Competition (KHDL)
DESCRIPTION:Annual Flour drop competition. \nRegistration 07:30-09:30 \nCheck out WW2 and Vietnam Era Warbirds \nInflatables for the kids\, delicious eats from Local Food Trucks and EAA Young Eagles. \nFor more info and the latest updates follow Flight Services Inc. & The Headland Airport Facebook \nPages. \nQuestions and Contacts:\nHeadland Municipal: Josh Moore 334-355-0435\nFlight Services Inc .: Jason Skelton 478-997-0707
URL:https://av8maps.com/event/annual-flour-drop-competition-khdl/2029-03-03/
LOCATION:Headland Municipal Airport\, 230 Airport Dr\, Headland\, AL\, 36345
ATTACH;FMTTYPE=image/jpeg:https://av8maps.com/wp-content/uploads/2026/03/Headland-Municipal-Airport-KHDL-e1773757514926.jpg
GEO:31.3617757;-85.311255
X-APPLE-STRUCTURED-LOCATION;VALUE=URI;X-ADDRESS=Headland Municipal Airport 230 Airport Dr Headland AL 36345;X-APPLE-RADIUS=500;X-TITLE=230 Airport Dr:geo:-85.311255,31.3617757
END:VEVENT
BEGIN:VEVENT
DTSTART;TZID=America/New_York:20300302T073000
DTEND;TZID=America/New_York:20300302T093000
DTSTAMP:20260423T075515
CREATED:20260317T142527Z
LAST-MODIFIED:20260317T142651Z
UID:10006395-1898667000-1898674200@av8maps.com
SUMMARY:Annual Flour Drop Competition (KHDL)
DESCRIPTION:Annual Flour drop competition. \nRegistration 07:30-09:30 \nCheck out WW2 and Vietnam Era Warbirds \nInflatables for the kids\, delicious eats from Local Food Trucks and EAA Young Eagles. \nFor more info and the latest updates follow Flight Services Inc. & The Headland Airport Facebook \nPages. \nQuestions and Contacts:\nHeadland Municipal: Josh Moore 334-355-0435\nFlight Services Inc .: Jason Skelton 478-997-0707
URL:https://av8maps.com/event/annual-flour-drop-competition-khdl/2030-03-02/
LOCATION:Headland Municipal Airport\, 230 Airport Dr\, Headland\, AL\, 36345
ATTACH;FMTTYPE=image/jpeg:https://av8maps.com/wp-content/uploads/2026/03/Headland-Municipal-Airport-KHDL-e1773757514926.jpg
GEO:31.3617757;-85.311255
X-APPLE-STRUCTURED-LOCATION;VALUE=URI;X-ADDRESS=Headland Municipal Airport 230 Airport Dr Headland AL 36345;X-APPLE-RADIUS=500;X-TITLE=230 Airport Dr:geo:-85.311255,31.3617757
END:VEVENT
BEGIN:VEVENT
DTSTART;TZID=America/New_York:20310301T073000
DTEND;TZID=America/New_York:20310301T093000
DTSTAMP:20260423T075515
CREATED:20260317T142527Z
LAST-MODIFIED:20260317T142651Z
UID:10006396-1930116600-1930123800@av8maps.com
SUMMARY:Annual Flour Drop Competition (KHDL)
DESCRIPTION:Annual Flour drop competition. \nRegistration 07:30-09:30 \nCheck out WW2 and Vietnam Era Warbirds \nInflatables for the kids\, delicious eats from Local Food Trucks and EAA Young Eagles. \nFor more info and the latest updates follow Flight Services Inc. & The Headland Airport Facebook \nPages. \nQuestions and Contacts:\nHeadland Municipal: Josh Moore 334-355-0435\nFlight Services Inc .: Jason Skelton 478-997-0707
URL:https://av8maps.com/event/annual-flour-drop-competition-khdl/2031-03-01/
LOCATION:Headland Municipal Airport\, 230 Airport Dr\, Headland\, AL\, 36345
ATTACH;FMTTYPE=image/jpeg:https://av8maps.com/wp-content/uploads/2026/03/Headland-Municipal-Airport-KHDL-e1773757514926.jpg
GEO:31.3617757;-85.311255
X-APPLE-STRUCTURED-LOCATION;VALUE=URI;X-ADDRESS=Headland Municipal Airport 230 Airport Dr Headland AL 36345;X-APPLE-RADIUS=500;X-TITLE=230 Airport Dr:geo:-85.311255,31.3617757
END:VEVENT
END:VCALENDAR