BEGIN:VCALENDAR
VERSION:2.0
PRODID:-//AV8MAPS.COM - ECPv6.15.20//NONSGML v1.0//EN
CALSCALE:GREGORIAN
METHOD:PUBLISH
X-WR-CALNAME:AV8MAPS.COM
X-ORIGINAL-URL:https://av8maps.com
X-WR-CALDESC:Events for AV8MAPS.COM
REFRESH-INTERVAL;VALUE=DURATION:PT1H
X-Robots-Tag:noindex
X-PUBLISHED-TTL:PT1H
BEGIN:VTIMEZONE
TZID:America/New_York
BEGIN:DAYLIGHT
TZOFFSETFROM:-0500
TZOFFSETTO:-0400
TZNAME:EDT
DTSTART:20250309T070000
END:DAYLIGHT
BEGIN:STANDARD
TZOFFSETFROM:-0400
TZOFFSETTO:-0500
TZNAME:EST
DTSTART:20251102T060000
END:STANDARD
BEGIN:DAYLIGHT
TZOFFSETFROM:-0500
TZOFFSETTO:-0400
TZNAME:EDT
DTSTART:20260308T070000
END:DAYLIGHT
BEGIN:STANDARD
TZOFFSETFROM:-0400
TZOFFSETTO:-0500
TZNAME:EST
DTSTART:20261101T060000
END:STANDARD
BEGIN:DAYLIGHT
TZOFFSETFROM:-0500
TZOFFSETTO:-0400
TZNAME:EDT
DTSTART:20270314T070000
END:DAYLIGHT
BEGIN:STANDARD
TZOFFSETFROM:-0400
TZOFFSETTO:-0500
TZNAME:EST
DTSTART:20271107T060000
END:STANDARD
END:VTIMEZONE
BEGIN:VEVENT
DTSTART;TZID=America/New_York:20260509T080000
DTEND;TZID=America/New_York:20260509T100000
DTSTAMP:20260422T232607
CREATED:20260317T154417Z
LAST-MODIFIED:20260317T175242Z
UID:10006460-1778313600-1778320800@av8maps.com
SUMMARY:Aviation Explorers Post 8000 Fly-in Breakfast (KOWI)
DESCRIPTION:Breakfast will be served 8-10am in the main hangar. \nFly\, drive\, cycle to the Ottawa Municipal Airport\, OWI\, to support Aviation Explorers Post 8000!
URL:https://av8maps.com/event/aviation-explorers-post-8000-fly-in-breakfast-kowi/2026-05-09/
LOCATION:Ottawa Municipal Airport\, 2178 Montana Rd\, Ottawa\, KS\, 66067
ATTACH;FMTTYPE=image/png:https://av8maps.com/wp-content/uploads/2026/03/Aviation-Explorers-Post-8000-KOWI-e1773769909287.png
GEO:38.5406142;-95.2498957
X-APPLE-STRUCTURED-LOCATION;VALUE=URI;X-ADDRESS=Ottawa Municipal Airport 2178 Montana Rd Ottawa KS 66067;X-APPLE-RADIUS=500;X-TITLE=2178 Montana Rd:geo:-95.2498957,38.5406142
END:VEVENT
BEGIN:VEVENT
DTSTART;TZID=America/New_York:20260613T080000
DTEND;TZID=America/New_York:20260613T100000
DTSTAMP:20260422T232607
CREATED:20260317T154417Z
LAST-MODIFIED:20260317T175242Z
UID:10006461-1781337600-1781344800@av8maps.com
SUMMARY:Aviation Explorers Post 8000 Fly-in Breakfast (KOWI)
DESCRIPTION:Breakfast will be served 8-10am in the main hangar. \nFly\, drive\, cycle to the Ottawa Municipal Airport\, OWI\, to support Aviation Explorers Post 8000!
URL:https://av8maps.com/event/aviation-explorers-post-8000-fly-in-breakfast-kowi/2026-06-13/
LOCATION:Ottawa Municipal Airport\, 2178 Montana Rd\, Ottawa\, KS\, 66067
ATTACH;FMTTYPE=image/png:https://av8maps.com/wp-content/uploads/2026/03/Aviation-Explorers-Post-8000-KOWI-e1773769909287.png
GEO:38.5406142;-95.2498957
X-APPLE-STRUCTURED-LOCATION;VALUE=URI;X-ADDRESS=Ottawa Municipal Airport 2178 Montana Rd Ottawa KS 66067;X-APPLE-RADIUS=500;X-TITLE=2178 Montana Rd:geo:-95.2498957,38.5406142
END:VEVENT
BEGIN:VEVENT
DTSTART;TZID=America/New_York:20260711T080000
DTEND;TZID=America/New_York:20260711T100000
DTSTAMP:20260422T232607
CREATED:20260317T154417Z
LAST-MODIFIED:20260317T175242Z
UID:10006462-1783756800-1783764000@av8maps.com
SUMMARY:Aviation Explorers Post 8000 Fly-in Breakfast (KOWI)
DESCRIPTION:Breakfast will be served 8-10am in the main hangar. \nFly\, drive\, cycle to the Ottawa Municipal Airport\, OWI\, to support Aviation Explorers Post 8000!
URL:https://av8maps.com/event/aviation-explorers-post-8000-fly-in-breakfast-kowi/2026-07-11/
LOCATION:Ottawa Municipal Airport\, 2178 Montana Rd\, Ottawa\, KS\, 66067
ATTACH;FMTTYPE=image/png:https://av8maps.com/wp-content/uploads/2026/03/Aviation-Explorers-Post-8000-KOWI-e1773769909287.png
GEO:38.5406142;-95.2498957
X-APPLE-STRUCTURED-LOCATION;VALUE=URI;X-ADDRESS=Ottawa Municipal Airport 2178 Montana Rd Ottawa KS 66067;X-APPLE-RADIUS=500;X-TITLE=2178 Montana Rd:geo:-95.2498957,38.5406142
END:VEVENT
BEGIN:VEVENT
DTSTART;TZID=America/New_York:20260808T080000
DTEND;TZID=America/New_York:20260808T100000
DTSTAMP:20260422T232607
CREATED:20260317T154417Z
LAST-MODIFIED:20260317T175242Z
UID:10006463-1786176000-1786183200@av8maps.com
SUMMARY:Aviation Explorers Post 8000 Fly-in Breakfast (KOWI)
DESCRIPTION:Breakfast will be served 8-10am in the main hangar. \nFly\, drive\, cycle to the Ottawa Municipal Airport\, OWI\, to support Aviation Explorers Post 8000!
URL:https://av8maps.com/event/aviation-explorers-post-8000-fly-in-breakfast-kowi/2026-08-08/
LOCATION:Ottawa Municipal Airport\, 2178 Montana Rd\, Ottawa\, KS\, 66067
ATTACH;FMTTYPE=image/png:https://av8maps.com/wp-content/uploads/2026/03/Aviation-Explorers-Post-8000-KOWI-e1773769909287.png
GEO:38.5406142;-95.2498957
X-APPLE-STRUCTURED-LOCATION;VALUE=URI;X-ADDRESS=Ottawa Municipal Airport 2178 Montana Rd Ottawa KS 66067;X-APPLE-RADIUS=500;X-TITLE=2178 Montana Rd:geo:-95.2498957,38.5406142
END:VEVENT
BEGIN:VEVENT
DTSTART;TZID=America/New_York:20260912T080000
DTEND;TZID=America/New_York:20260912T100000
DTSTAMP:20260422T232607
CREATED:20260317T154417Z
LAST-MODIFIED:20260317T175242Z
UID:10006464-1789200000-1789207200@av8maps.com
SUMMARY:Aviation Explorers Post 8000 Fly-in Breakfast (KOWI)
DESCRIPTION:Breakfast will be served 8-10am in the main hangar. \nFly\, drive\, cycle to the Ottawa Municipal Airport\, OWI\, to support Aviation Explorers Post 8000!
URL:https://av8maps.com/event/aviation-explorers-post-8000-fly-in-breakfast-kowi/2026-09-12/
LOCATION:Ottawa Municipal Airport\, 2178 Montana Rd\, Ottawa\, KS\, 66067
ATTACH;FMTTYPE=image/png:https://av8maps.com/wp-content/uploads/2026/03/Aviation-Explorers-Post-8000-KOWI-e1773769909287.png
GEO:38.5406142;-95.2498957
X-APPLE-STRUCTURED-LOCATION;VALUE=URI;X-ADDRESS=Ottawa Municipal Airport 2178 Montana Rd Ottawa KS 66067;X-APPLE-RADIUS=500;X-TITLE=2178 Montana Rd:geo:-95.2498957,38.5406142
END:VEVENT
BEGIN:VEVENT
DTSTART;TZID=America/New_York:20261010T080000
DTEND;TZID=America/New_York:20261010T100000
DTSTAMP:20260422T232607
CREATED:20260317T154417Z
LAST-MODIFIED:20260317T175242Z
UID:10006465-1791619200-1791626400@av8maps.com
SUMMARY:Aviation Explorers Post 8000 Fly-in Breakfast (KOWI)
DESCRIPTION:Breakfast will be served 8-10am in the main hangar. \nFly\, drive\, cycle to the Ottawa Municipal Airport\, OWI\, to support Aviation Explorers Post 8000!
URL:https://av8maps.com/event/aviation-explorers-post-8000-fly-in-breakfast-kowi/2026-10-10/
LOCATION:Ottawa Municipal Airport\, 2178 Montana Rd\, Ottawa\, KS\, 66067
ATTACH;FMTTYPE=image/png:https://av8maps.com/wp-content/uploads/2026/03/Aviation-Explorers-Post-8000-KOWI-e1773769909287.png
GEO:38.5406142;-95.2498957
X-APPLE-STRUCTURED-LOCATION;VALUE=URI;X-ADDRESS=Ottawa Municipal Airport 2178 Montana Rd Ottawa KS 66067;X-APPLE-RADIUS=500;X-TITLE=2178 Montana Rd:geo:-95.2498957,38.5406142
END:VEVENT
END:VCALENDAR