BEGIN:VCALENDAR
VERSION:2.0
PRODID:-//AV8MAPS.COM - ECPv6.15.20//NONSGML v1.0//EN
CALSCALE:GREGORIAN
METHOD:PUBLISH
X-WR-CALNAME:AV8MAPS.COM
X-ORIGINAL-URL:https://av8maps.com
X-WR-CALDESC:Events for AV8MAPS.COM
REFRESH-INTERVAL;VALUE=DURATION:PT1H
X-Robots-Tag:noindex
X-PUBLISHED-TTL:PT1H
BEGIN:VTIMEZONE
TZID:America/New_York
BEGIN:DAYLIGHT
TZOFFSETFROM:-0500
TZOFFSETTO:-0400
TZNAME:EDT
DTSTART:20260308T070000
END:DAYLIGHT
BEGIN:STANDARD
TZOFFSETFROM:-0400
TZOFFSETTO:-0500
TZNAME:EST
DTSTART:20261101T060000
END:STANDARD
BEGIN:DAYLIGHT
TZOFFSETFROM:-0500
TZOFFSETTO:-0400
TZNAME:EDT
DTSTART:20270314T070000
END:DAYLIGHT
BEGIN:STANDARD
TZOFFSETFROM:-0400
TZOFFSETTO:-0500
TZNAME:EST
DTSTART:20271107T060000
END:STANDARD
BEGIN:DAYLIGHT
TZOFFSETFROM:-0500
TZOFFSETTO:-0400
TZNAME:EDT
DTSTART:20280312T070000
END:DAYLIGHT
BEGIN:STANDARD
TZOFFSETFROM:-0400
TZOFFSETTO:-0500
TZNAME:EST
DTSTART:20281105T060000
END:STANDARD
BEGIN:DAYLIGHT
TZOFFSETFROM:-0500
TZOFFSETTO:-0400
TZNAME:EDT
DTSTART:20290311T070000
END:DAYLIGHT
BEGIN:STANDARD
TZOFFSETFROM:-0400
TZOFFSETTO:-0500
TZNAME:EST
DTSTART:20291104T060000
END:STANDARD
BEGIN:DAYLIGHT
TZOFFSETFROM:-0500
TZOFFSETTO:-0400
TZNAME:EDT
DTSTART:20300310T070000
END:DAYLIGHT
BEGIN:STANDARD
TZOFFSETFROM:-0400
TZOFFSETTO:-0500
TZNAME:EST
DTSTART:20301103T060000
END:STANDARD
BEGIN:DAYLIGHT
TZOFFSETFROM:-0500
TZOFFSETTO:-0400
TZNAME:EDT
DTSTART:20310309T070000
END:DAYLIGHT
BEGIN:STANDARD
TZOFFSETFROM:-0400
TZOFFSETTO:-0500
TZNAME:EST
DTSTART:20311102T060000
END:STANDARD
BEGIN:DAYLIGHT
TZOFFSETFROM:-0500
TZOFFSETTO:-0400
TZNAME:EDT
DTSTART:20320314T070000
END:DAYLIGHT
BEGIN:STANDARD
TZOFFSETFROM:-0400
TZOFFSETTO:-0500
TZNAME:EST
DTSTART:20321107T060000
END:STANDARD
END:VTIMEZONE
BEGIN:VEVENT
DTSTART;TZID=America/New_York:20270320T090000
DTEND;TZID=America/New_York:20270320T160000
DTSTAMP:20260423T094225
CREATED:20251029T160641Z
LAST-MODIFIED:20260317T161237Z
UID:10006466-1805533200-1805558400@av8maps.com
SUMMARY:Annual Wings & Things Festival and Fly-in (KDQH)
DESCRIPTION:Visit Douglas-Coffee County GA is so excited to announce the 4th Annual WINGS & THINGS Festival and Fly-in at the Douglas GA Municipal Airport on March 21st! Last year was a huge success and we can’t wait to do it again – bigger and better!We’ll be there Saturday from 9am – 4pm with warbirds\, antique military vehicles\, food trucks\, vendors\, kids area\, entertainment\, car show\, hot wing cook-off and so much more. Grab the family and fly in or drive to the airport for a day of fun and history!Arts & Crafts/Local Businesses: https://forms.gle/YAgt2nsp9KdEpryZ6Food/Beverage/Activity: https://forms.gle/sqvGnrbVh3cVKcKT6Non-Profit/Informational: https://forms.gle/5e2L6iMVmTGqG47s5Exhibits: https://forms.gle/c8B8z2NgdiWPhLhP8Business/Campaign: https://forms.gle/jf19ms9L2MjmYfxk9
URL:https://av8maps.com/event/4th-annual-wings-things-festival-and-fly-in/2027-03-20/
LOCATION:Douglas GA Municipal Airport\, 144 Airport Cir\, Douglas\, GA\, 31535
ATTACH;FMTTYPE=image/jpeg:https://av8maps.com/wp-content/uploads/2025/10/Wings-and-Things-Festival-KDQH-e1773763943430.jpg
GEO:31.4795737;-82.853626
X-APPLE-STRUCTURED-LOCATION;VALUE=URI;X-ADDRESS=Douglas GA Municipal Airport 144 Airport Cir Douglas GA 31535;X-APPLE-RADIUS=500;X-TITLE=144 Airport Cir:geo:-82.853626,31.4795737
END:VEVENT
BEGIN:VEVENT
DTSTART;TZID=America/New_York:20280318T090000
DTEND;TZID=America/New_York:20280318T160000
DTSTAMP:20260423T094225
CREATED:20251029T160641Z
LAST-MODIFIED:20260317T161237Z
UID:10006467-1836982800-1837008000@av8maps.com
SUMMARY:Annual Wings & Things Festival and Fly-in (KDQH)
DESCRIPTION:Visit Douglas-Coffee County GA is so excited to announce the 4th Annual WINGS & THINGS Festival and Fly-in at the Douglas GA Municipal Airport on March 21st! Last year was a huge success and we can’t wait to do it again – bigger and better!We’ll be there Saturday from 9am – 4pm with warbirds\, antique military vehicles\, food trucks\, vendors\, kids area\, entertainment\, car show\, hot wing cook-off and so much more. Grab the family and fly in or drive to the airport for a day of fun and history!Arts & Crafts/Local Businesses: https://forms.gle/YAgt2nsp9KdEpryZ6Food/Beverage/Activity: https://forms.gle/sqvGnrbVh3cVKcKT6Non-Profit/Informational: https://forms.gle/5e2L6iMVmTGqG47s5Exhibits: https://forms.gle/c8B8z2NgdiWPhLhP8Business/Campaign: https://forms.gle/jf19ms9L2MjmYfxk9
URL:https://av8maps.com/event/4th-annual-wings-things-festival-and-fly-in/2028-03-18/
LOCATION:Douglas GA Municipal Airport\, 144 Airport Cir\, Douglas\, GA\, 31535
ATTACH;FMTTYPE=image/jpeg:https://av8maps.com/wp-content/uploads/2025/10/Wings-and-Things-Festival-KDQH-e1773763943430.jpg
GEO:31.4795737;-82.853626
X-APPLE-STRUCTURED-LOCATION;VALUE=URI;X-ADDRESS=Douglas GA Municipal Airport 144 Airport Cir Douglas GA 31535;X-APPLE-RADIUS=500;X-TITLE=144 Airport Cir:geo:-82.853626,31.4795737
END:VEVENT
BEGIN:VEVENT
DTSTART;TZID=America/New_York:20290317T090000
DTEND;TZID=America/New_York:20290317T160000
DTSTAMP:20260423T094225
CREATED:20251029T160641Z
LAST-MODIFIED:20260317T161237Z
UID:10006468-1868432400-1868457600@av8maps.com
SUMMARY:Annual Wings & Things Festival and Fly-in (KDQH)
DESCRIPTION:Visit Douglas-Coffee County GA is so excited to announce the 4th Annual WINGS & THINGS Festival and Fly-in at the Douglas GA Municipal Airport on March 21st! Last year was a huge success and we can’t wait to do it again – bigger and better!We’ll be there Saturday from 9am – 4pm with warbirds\, antique military vehicles\, food trucks\, vendors\, kids area\, entertainment\, car show\, hot wing cook-off and so much more. Grab the family and fly in or drive to the airport for a day of fun and history!Arts & Crafts/Local Businesses: https://forms.gle/YAgt2nsp9KdEpryZ6Food/Beverage/Activity: https://forms.gle/sqvGnrbVh3cVKcKT6Non-Profit/Informational: https://forms.gle/5e2L6iMVmTGqG47s5Exhibits: https://forms.gle/c8B8z2NgdiWPhLhP8Business/Campaign: https://forms.gle/jf19ms9L2MjmYfxk9
URL:https://av8maps.com/event/4th-annual-wings-things-festival-and-fly-in/2029-03-17/
LOCATION:Douglas GA Municipal Airport\, 144 Airport Cir\, Douglas\, GA\, 31535
ATTACH;FMTTYPE=image/jpeg:https://av8maps.com/wp-content/uploads/2025/10/Wings-and-Things-Festival-KDQH-e1773763943430.jpg
GEO:31.4795737;-82.853626
X-APPLE-STRUCTURED-LOCATION;VALUE=URI;X-ADDRESS=Douglas GA Municipal Airport 144 Airport Cir Douglas GA 31535;X-APPLE-RADIUS=500;X-TITLE=144 Airport Cir:geo:-82.853626,31.4795737
END:VEVENT
BEGIN:VEVENT
DTSTART;TZID=America/New_York:20300316T090000
DTEND;TZID=America/New_York:20300316T160000
DTSTAMP:20260423T094225
CREATED:20251029T160641Z
LAST-MODIFIED:20260317T161237Z
UID:10006469-1899882000-1899907200@av8maps.com
SUMMARY:Annual Wings & Things Festival and Fly-in (KDQH)
DESCRIPTION:Visit Douglas-Coffee County GA is so excited to announce the 4th Annual WINGS & THINGS Festival and Fly-in at the Douglas GA Municipal Airport on March 21st! Last year was a huge success and we can’t wait to do it again – bigger and better!We’ll be there Saturday from 9am – 4pm with warbirds\, antique military vehicles\, food trucks\, vendors\, kids area\, entertainment\, car show\, hot wing cook-off and so much more. Grab the family and fly in or drive to the airport for a day of fun and history!Arts & Crafts/Local Businesses: https://forms.gle/YAgt2nsp9KdEpryZ6Food/Beverage/Activity: https://forms.gle/sqvGnrbVh3cVKcKT6Non-Profit/Informational: https://forms.gle/5e2L6iMVmTGqG47s5Exhibits: https://forms.gle/c8B8z2NgdiWPhLhP8Business/Campaign: https://forms.gle/jf19ms9L2MjmYfxk9
URL:https://av8maps.com/event/4th-annual-wings-things-festival-and-fly-in/2030-03-16/
LOCATION:Douglas GA Municipal Airport\, 144 Airport Cir\, Douglas\, GA\, 31535
ATTACH;FMTTYPE=image/jpeg:https://av8maps.com/wp-content/uploads/2025/10/Wings-and-Things-Festival-KDQH-e1773763943430.jpg
GEO:31.4795737;-82.853626
X-APPLE-STRUCTURED-LOCATION;VALUE=URI;X-ADDRESS=Douglas GA Municipal Airport 144 Airport Cir Douglas GA 31535;X-APPLE-RADIUS=500;X-TITLE=144 Airport Cir:geo:-82.853626,31.4795737
END:VEVENT
BEGIN:VEVENT
DTSTART;TZID=America/New_York:20310315T090000
DTEND;TZID=America/New_York:20310315T160000
DTSTAMP:20260423T094225
CREATED:20251029T160641Z
LAST-MODIFIED:20260317T161237Z
UID:10006470-1931331600-1931356800@av8maps.com
SUMMARY:Annual Wings & Things Festival and Fly-in (KDQH)
DESCRIPTION:Visit Douglas-Coffee County GA is so excited to announce the 4th Annual WINGS & THINGS Festival and Fly-in at the Douglas GA Municipal Airport on March 21st! Last year was a huge success and we can’t wait to do it again – bigger and better!We’ll be there Saturday from 9am – 4pm with warbirds\, antique military vehicles\, food trucks\, vendors\, kids area\, entertainment\, car show\, hot wing cook-off and so much more. Grab the family and fly in or drive to the airport for a day of fun and history!Arts & Crafts/Local Businesses: https://forms.gle/YAgt2nsp9KdEpryZ6Food/Beverage/Activity: https://forms.gle/sqvGnrbVh3cVKcKT6Non-Profit/Informational: https://forms.gle/5e2L6iMVmTGqG47s5Exhibits: https://forms.gle/c8B8z2NgdiWPhLhP8Business/Campaign: https://forms.gle/jf19ms9L2MjmYfxk9
URL:https://av8maps.com/event/4th-annual-wings-things-festival-and-fly-in/2031-03-15/
LOCATION:Douglas GA Municipal Airport\, 144 Airport Cir\, Douglas\, GA\, 31535
ATTACH;FMTTYPE=image/jpeg:https://av8maps.com/wp-content/uploads/2025/10/Wings-and-Things-Festival-KDQH-e1773763943430.jpg
GEO:31.4795737;-82.853626
X-APPLE-STRUCTURED-LOCATION;VALUE=URI;X-ADDRESS=Douglas GA Municipal Airport 144 Airport Cir Douglas GA 31535;X-APPLE-RADIUS=500;X-TITLE=144 Airport Cir:geo:-82.853626,31.4795737
END:VEVENT
END:VCALENDAR