BEGIN:VCALENDAR
VERSION:2.0
PRODID:-//AV8MAPS.COM - ECPv6.15.20//NONSGML v1.0//EN
CALSCALE:GREGORIAN
METHOD:PUBLISH
X-WR-CALNAME:AV8MAPS.COM
X-ORIGINAL-URL:https://av8maps.com
X-WR-CALDESC:Events for AV8MAPS.COM
REFRESH-INTERVAL;VALUE=DURATION:PT1H
X-Robots-Tag:noindex
X-PUBLISHED-TTL:PT1H
BEGIN:VTIMEZONE
TZID:America/New_York
BEGIN:DAYLIGHT
TZOFFSETFROM:-0500
TZOFFSETTO:-0400
TZNAME:EDT
DTSTART:20250309T070000
END:DAYLIGHT
BEGIN:STANDARD
TZOFFSETFROM:-0400
TZOFFSETTO:-0500
TZNAME:EST
DTSTART:20251102T060000
END:STANDARD
BEGIN:DAYLIGHT
TZOFFSETFROM:-0500
TZOFFSETTO:-0400
TZNAME:EDT
DTSTART:20260308T070000
END:DAYLIGHT
BEGIN:STANDARD
TZOFFSETFROM:-0400
TZOFFSETTO:-0500
TZNAME:EST
DTSTART:20261101T060000
END:STANDARD
BEGIN:DAYLIGHT
TZOFFSETFROM:-0500
TZOFFSETTO:-0400
TZNAME:EDT
DTSTART:20270314T070000
END:DAYLIGHT
BEGIN:STANDARD
TZOFFSETFROM:-0400
TZOFFSETTO:-0500
TZNAME:EST
DTSTART:20271107T060000
END:STANDARD
END:VTIMEZONE
BEGIN:VEVENT
DTSTART;TZID=America/New_York:20260509T080000
DTEND;TZID=America/New_York:20260509T100000
DTSTAMP:20260422T232623
CREATED:20260317T173202Z
LAST-MODIFIED:20260408T003509Z
UID:10006472-1778313600-1778320800@av8maps.com
SUMMARY:EAA Chapter 569 2nd Sat Monthly Fly-in Breakfast (KAHQ)
DESCRIPTION:For 2026 the breakfasts have changed to the 2nd Saturday of the Month.\n\n\nThe breakfast is at the Wahoo Airport. KAHQ.\n\n\nThe first one for 2026 is on April 11.\n\n\nTime 8:00am – 10:00am.\n\n\nThey will continue monthly on the second Saturday of each month through Oct. 10.
URL:https://av8maps.com/event/eaa-chapter-569-2nd-sat-monthly-fly-in-breakfast-kahq/2026-05-09/
LOCATION:Wahoo Municipal Airport\, 1464 34th St\, Wahoo\, NE\, 68066
ATTACH;FMTTYPE=image/jpeg:https://av8maps.com/wp-content/uploads/2026/03/Generic-Pancakes-Picture-e1775608475306.jpg
GEO:41.2388689;-96.5977216
X-APPLE-STRUCTURED-LOCATION;VALUE=URI;X-ADDRESS=Wahoo Municipal Airport 1464 34th St Wahoo NE 68066;X-APPLE-RADIUS=500;X-TITLE=1464 34th St:geo:-96.5977216,41.2388689
END:VEVENT
BEGIN:VEVENT
DTSTART;TZID=America/New_York:20260613T080000
DTEND;TZID=America/New_York:20260613T100000
DTSTAMP:20260422T232623
CREATED:20260317T173202Z
LAST-MODIFIED:20260408T003509Z
UID:10006473-1781337600-1781344800@av8maps.com
SUMMARY:EAA Chapter 569 2nd Sat Monthly Fly-in Breakfast (KAHQ)
DESCRIPTION:For 2026 the breakfasts have changed to the 2nd Saturday of the Month.\n\n\nThe breakfast is at the Wahoo Airport. KAHQ.\n\n\nThe first one for 2026 is on April 11.\n\n\nTime 8:00am – 10:00am.\n\n\nThey will continue monthly on the second Saturday of each month through Oct. 10.
URL:https://av8maps.com/event/eaa-chapter-569-2nd-sat-monthly-fly-in-breakfast-kahq/2026-06-13/
LOCATION:Wahoo Municipal Airport\, 1464 34th St\, Wahoo\, NE\, 68066
ATTACH;FMTTYPE=image/jpeg:https://av8maps.com/wp-content/uploads/2026/03/Generic-Pancakes-Picture-e1775608475306.jpg
GEO:41.2388689;-96.5977216
X-APPLE-STRUCTURED-LOCATION;VALUE=URI;X-ADDRESS=Wahoo Municipal Airport 1464 34th St Wahoo NE 68066;X-APPLE-RADIUS=500;X-TITLE=1464 34th St:geo:-96.5977216,41.2388689
END:VEVENT
BEGIN:VEVENT
DTSTART;TZID=America/New_York:20260711T080000
DTEND;TZID=America/New_York:20260711T100000
DTSTAMP:20260422T232623
CREATED:20260317T173202Z
LAST-MODIFIED:20260408T003509Z
UID:10006474-1783756800-1783764000@av8maps.com
SUMMARY:EAA Chapter 569 2nd Sat Monthly Fly-in Breakfast (KAHQ)
DESCRIPTION:For 2026 the breakfasts have changed to the 2nd Saturday of the Month.\n\n\nThe breakfast is at the Wahoo Airport. KAHQ.\n\n\nThe first one for 2026 is on April 11.\n\n\nTime 8:00am – 10:00am.\n\n\nThey will continue monthly on the second Saturday of each month through Oct. 10.
URL:https://av8maps.com/event/eaa-chapter-569-2nd-sat-monthly-fly-in-breakfast-kahq/2026-07-11/
LOCATION:Wahoo Municipal Airport\, 1464 34th St\, Wahoo\, NE\, 68066
ATTACH;FMTTYPE=image/jpeg:https://av8maps.com/wp-content/uploads/2026/03/Generic-Pancakes-Picture-e1775608475306.jpg
GEO:41.2388689;-96.5977216
X-APPLE-STRUCTURED-LOCATION;VALUE=URI;X-ADDRESS=Wahoo Municipal Airport 1464 34th St Wahoo NE 68066;X-APPLE-RADIUS=500;X-TITLE=1464 34th St:geo:-96.5977216,41.2388689
END:VEVENT
BEGIN:VEVENT
DTSTART;TZID=America/New_York:20260808T080000
DTEND;TZID=America/New_York:20260808T100000
DTSTAMP:20260422T232623
CREATED:20260317T173202Z
LAST-MODIFIED:20260408T003509Z
UID:10006475-1786176000-1786183200@av8maps.com
SUMMARY:EAA Chapter 569 2nd Sat Monthly Fly-in Breakfast (KAHQ)
DESCRIPTION:For 2026 the breakfasts have changed to the 2nd Saturday of the Month.\n\n\nThe breakfast is at the Wahoo Airport. KAHQ.\n\n\nThe first one for 2026 is on April 11.\n\n\nTime 8:00am – 10:00am.\n\n\nThey will continue monthly on the second Saturday of each month through Oct. 10.
URL:https://av8maps.com/event/eaa-chapter-569-2nd-sat-monthly-fly-in-breakfast-kahq/2026-08-08/
LOCATION:Wahoo Municipal Airport\, 1464 34th St\, Wahoo\, NE\, 68066
ATTACH;FMTTYPE=image/jpeg:https://av8maps.com/wp-content/uploads/2026/03/Generic-Pancakes-Picture-e1775608475306.jpg
GEO:41.2388689;-96.5977216
X-APPLE-STRUCTURED-LOCATION;VALUE=URI;X-ADDRESS=Wahoo Municipal Airport 1464 34th St Wahoo NE 68066;X-APPLE-RADIUS=500;X-TITLE=1464 34th St:geo:-96.5977216,41.2388689
END:VEVENT
BEGIN:VEVENT
DTSTART;TZID=America/New_York:20260912T080000
DTEND;TZID=America/New_York:20260912T100000
DTSTAMP:20260422T232623
CREATED:20260317T173202Z
LAST-MODIFIED:20260408T003509Z
UID:10006476-1789200000-1789207200@av8maps.com
SUMMARY:EAA Chapter 569 2nd Sat Monthly Fly-in Breakfast (KAHQ)
DESCRIPTION:For 2026 the breakfasts have changed to the 2nd Saturday of the Month.\n\n\nThe breakfast is at the Wahoo Airport. KAHQ.\n\n\nThe first one for 2026 is on April 11.\n\n\nTime 8:00am – 10:00am.\n\n\nThey will continue monthly on the second Saturday of each month through Oct. 10.
URL:https://av8maps.com/event/eaa-chapter-569-2nd-sat-monthly-fly-in-breakfast-kahq/2026-09-12/
LOCATION:Wahoo Municipal Airport\, 1464 34th St\, Wahoo\, NE\, 68066
ATTACH;FMTTYPE=image/jpeg:https://av8maps.com/wp-content/uploads/2026/03/Generic-Pancakes-Picture-e1775608475306.jpg
GEO:41.2388689;-96.5977216
X-APPLE-STRUCTURED-LOCATION;VALUE=URI;X-ADDRESS=Wahoo Municipal Airport 1464 34th St Wahoo NE 68066;X-APPLE-RADIUS=500;X-TITLE=1464 34th St:geo:-96.5977216,41.2388689
END:VEVENT
BEGIN:VEVENT
DTSTART;TZID=America/New_York:20261010T080000
DTEND;TZID=America/New_York:20261010T100000
DTSTAMP:20260422T232623
CREATED:20260317T173202Z
LAST-MODIFIED:20260408T003509Z
UID:10006477-1791619200-1791626400@av8maps.com
SUMMARY:EAA Chapter 569 2nd Sat Monthly Fly-in Breakfast (KAHQ)
DESCRIPTION:For 2026 the breakfasts have changed to the 2nd Saturday of the Month.\n\n\nThe breakfast is at the Wahoo Airport. KAHQ.\n\n\nThe first one for 2026 is on April 11.\n\n\nTime 8:00am – 10:00am.\n\n\nThey will continue monthly on the second Saturday of each month through Oct. 10.
URL:https://av8maps.com/event/eaa-chapter-569-2nd-sat-monthly-fly-in-breakfast-kahq/2026-10-10/
LOCATION:Wahoo Municipal Airport\, 1464 34th St\, Wahoo\, NE\, 68066
ATTACH;FMTTYPE=image/jpeg:https://av8maps.com/wp-content/uploads/2026/03/Generic-Pancakes-Picture-e1775608475306.jpg
GEO:41.2388689;-96.5977216
X-APPLE-STRUCTURED-LOCATION;VALUE=URI;X-ADDRESS=Wahoo Municipal Airport 1464 34th St Wahoo NE 68066;X-APPLE-RADIUS=500;X-TITLE=1464 34th St:geo:-96.5977216,41.2388689
END:VEVENT
END:VCALENDAR