BEGIN:VCALENDAR
VERSION:2.0
PRODID:-//AV8MAPS.COM - ECPv6.15.20//NONSGML v1.0//EN
CALSCALE:GREGORIAN
METHOD:PUBLISH
X-WR-CALNAME:AV8MAPS.COM
X-ORIGINAL-URL:https://av8maps.com
X-WR-CALDESC:Events for AV8MAPS.COM
REFRESH-INTERVAL;VALUE=DURATION:PT1H
X-Robots-Tag:noindex
X-PUBLISHED-TTL:PT1H
BEGIN:VTIMEZONE
TZID:America/New_York
BEGIN:DAYLIGHT
TZOFFSETFROM:-0500
TZOFFSETTO:-0400
TZNAME:EDT
DTSTART:20260308T070000
END:DAYLIGHT
BEGIN:STANDARD
TZOFFSETFROM:-0400
TZOFFSETTO:-0500
TZNAME:EST
DTSTART:20261101T060000
END:STANDARD
BEGIN:DAYLIGHT
TZOFFSETFROM:-0500
TZOFFSETTO:-0400
TZNAME:EDT
DTSTART:20270314T070000
END:DAYLIGHT
BEGIN:STANDARD
TZOFFSETFROM:-0400
TZOFFSETTO:-0500
TZNAME:EST
DTSTART:20271107T060000
END:STANDARD
BEGIN:DAYLIGHT
TZOFFSETFROM:-0500
TZOFFSETTO:-0400
TZNAME:EDT
DTSTART:20280312T070000
END:DAYLIGHT
BEGIN:STANDARD
TZOFFSETFROM:-0400
TZOFFSETTO:-0500
TZNAME:EST
DTSTART:20281105T060000
END:STANDARD
BEGIN:DAYLIGHT
TZOFFSETFROM:-0500
TZOFFSETTO:-0400
TZNAME:EDT
DTSTART:20290311T070000
END:DAYLIGHT
BEGIN:STANDARD
TZOFFSETFROM:-0400
TZOFFSETTO:-0500
TZNAME:EST
DTSTART:20291104T060000
END:STANDARD
BEGIN:DAYLIGHT
TZOFFSETFROM:-0500
TZOFFSETTO:-0400
TZNAME:EDT
DTSTART:20300310T070000
END:DAYLIGHT
BEGIN:STANDARD
TZOFFSETFROM:-0400
TZOFFSETTO:-0500
TZNAME:EST
DTSTART:20301103T060000
END:STANDARD
BEGIN:DAYLIGHT
TZOFFSETFROM:-0500
TZOFFSETTO:-0400
TZNAME:EDT
DTSTART:20310309T070000
END:DAYLIGHT
BEGIN:STANDARD
TZOFFSETFROM:-0400
TZOFFSETTO:-0500
TZNAME:EST
DTSTART:20311102T060000
END:STANDARD
BEGIN:DAYLIGHT
TZOFFSETFROM:-0500
TZOFFSETTO:-0400
TZNAME:EDT
DTSTART:20320314T070000
END:DAYLIGHT
BEGIN:STANDARD
TZOFFSETFROM:-0400
TZOFFSETTO:-0500
TZNAME:EST
DTSTART:20321107T060000
END:STANDARD
END:VTIMEZONE
BEGIN:VEVENT
DTSTART;TZID=America/New_York:20270320T090000
DTEND;TZID=America/New_York:20270320T140000
DTSTAMP:20260423T092239
CREATED:20260317T174747Z
LAST-MODIFIED:20260317T174747Z
UID:10006479-1805533200-1805551200@av8maps.com
SUMMARY:Annual Bayou State Escadrille (KHDC)
DESCRIPTION:Come join us for our annual vintage car & aircraft show. \nWith the help of The Golden Oldies Car Club\, our show raises money for the Commemorative Air Force and The New Orleans Children’s Hospital.\nChildren’s Hospital New Orleans is celebrating a new name and chapter as we proudly become Manning Family Children’s. With an unwavering commitment to child health\, Children’s has proudly served as the Gulf South’s only\, freestanding\, comprehensive children’s hospital for 70 years – transforming and saving countless lives since we first opened our doors in 1955. \nThe commemorative Air Force (CAF) is a 501 (c) 3 Texas non-profit organization dedicated to flying and restoring World War II aircraft. The organization’s headquarters officed are based in Dallas\, Texas\, at Dallas Executive Airport. At this time the organization has more than 11\,000 members and has a fleet of more than 180 World War II aircraft known as the Ghost Squadron.\nCome join us and help countless children’s lives and keep our World War II aircraft flying.
URL:https://av8maps.com/event/annual-bayou-state-escadrille-khdc/2027-03-20/
LOCATION:Hammond North Shore Regional Airpot\, 600 Judge Leon Ford Dr\, Hammond\, LA\, 70401
ATTACH;FMTTYPE=image/jpeg:https://av8maps.com/wp-content/uploads/2026/03/Bayou-State-Escadrille-KHDC-e1773769653306.jpg
GEO:30.5243588;-90.4195876
X-APPLE-STRUCTURED-LOCATION;VALUE=URI;X-ADDRESS=Hammond North Shore Regional Airpot 600 Judge Leon Ford Dr Hammond LA 70401;X-APPLE-RADIUS=500;X-TITLE=600 Judge Leon Ford Dr:geo:-90.4195876,30.5243588
END:VEVENT
BEGIN:VEVENT
DTSTART;TZID=America/New_York:20280318T090000
DTEND;TZID=America/New_York:20280318T140000
DTSTAMP:20260423T092239
CREATED:20260317T174747Z
LAST-MODIFIED:20260317T174747Z
UID:10006480-1836982800-1837000800@av8maps.com
SUMMARY:Annual Bayou State Escadrille (KHDC)
DESCRIPTION:Come join us for our annual vintage car & aircraft show. \nWith the help of The Golden Oldies Car Club\, our show raises money for the Commemorative Air Force and The New Orleans Children’s Hospital.\nChildren’s Hospital New Orleans is celebrating a new name and chapter as we proudly become Manning Family Children’s. With an unwavering commitment to child health\, Children’s has proudly served as the Gulf South’s only\, freestanding\, comprehensive children’s hospital for 70 years – transforming and saving countless lives since we first opened our doors in 1955. \nThe commemorative Air Force (CAF) is a 501 (c) 3 Texas non-profit organization dedicated to flying and restoring World War II aircraft. The organization’s headquarters officed are based in Dallas\, Texas\, at Dallas Executive Airport. At this time the organization has more than 11\,000 members and has a fleet of more than 180 World War II aircraft known as the Ghost Squadron.\nCome join us and help countless children’s lives and keep our World War II aircraft flying.
URL:https://av8maps.com/event/annual-bayou-state-escadrille-khdc/2028-03-18/
LOCATION:Hammond North Shore Regional Airpot\, 600 Judge Leon Ford Dr\, Hammond\, LA\, 70401
ATTACH;FMTTYPE=image/jpeg:https://av8maps.com/wp-content/uploads/2026/03/Bayou-State-Escadrille-KHDC-e1773769653306.jpg
GEO:30.5243588;-90.4195876
X-APPLE-STRUCTURED-LOCATION;VALUE=URI;X-ADDRESS=Hammond North Shore Regional Airpot 600 Judge Leon Ford Dr Hammond LA 70401;X-APPLE-RADIUS=500;X-TITLE=600 Judge Leon Ford Dr:geo:-90.4195876,30.5243588
END:VEVENT
BEGIN:VEVENT
DTSTART;TZID=America/New_York:20290317T090000
DTEND;TZID=America/New_York:20290317T140000
DTSTAMP:20260423T092239
CREATED:20260317T174747Z
LAST-MODIFIED:20260317T174747Z
UID:10006481-1868432400-1868450400@av8maps.com
SUMMARY:Annual Bayou State Escadrille (KHDC)
DESCRIPTION:Come join us for our annual vintage car & aircraft show. \nWith the help of The Golden Oldies Car Club\, our show raises money for the Commemorative Air Force and The New Orleans Children’s Hospital.\nChildren’s Hospital New Orleans is celebrating a new name and chapter as we proudly become Manning Family Children’s. With an unwavering commitment to child health\, Children’s has proudly served as the Gulf South’s only\, freestanding\, comprehensive children’s hospital for 70 years – transforming and saving countless lives since we first opened our doors in 1955. \nThe commemorative Air Force (CAF) is a 501 (c) 3 Texas non-profit organization dedicated to flying and restoring World War II aircraft. The organization’s headquarters officed are based in Dallas\, Texas\, at Dallas Executive Airport. At this time the organization has more than 11\,000 members and has a fleet of more than 180 World War II aircraft known as the Ghost Squadron.\nCome join us and help countless children’s lives and keep our World War II aircraft flying.
URL:https://av8maps.com/event/annual-bayou-state-escadrille-khdc/2029-03-17/
LOCATION:Hammond North Shore Regional Airpot\, 600 Judge Leon Ford Dr\, Hammond\, LA\, 70401
ATTACH;FMTTYPE=image/jpeg:https://av8maps.com/wp-content/uploads/2026/03/Bayou-State-Escadrille-KHDC-e1773769653306.jpg
GEO:30.5243588;-90.4195876
X-APPLE-STRUCTURED-LOCATION;VALUE=URI;X-ADDRESS=Hammond North Shore Regional Airpot 600 Judge Leon Ford Dr Hammond LA 70401;X-APPLE-RADIUS=500;X-TITLE=600 Judge Leon Ford Dr:geo:-90.4195876,30.5243588
END:VEVENT
BEGIN:VEVENT
DTSTART;TZID=America/New_York:20300316T090000
DTEND;TZID=America/New_York:20300316T140000
DTSTAMP:20260423T092239
CREATED:20260317T174747Z
LAST-MODIFIED:20260317T174747Z
UID:10006482-1899882000-1899900000@av8maps.com
SUMMARY:Annual Bayou State Escadrille (KHDC)
DESCRIPTION:Come join us for our annual vintage car & aircraft show. \nWith the help of The Golden Oldies Car Club\, our show raises money for the Commemorative Air Force and The New Orleans Children’s Hospital.\nChildren’s Hospital New Orleans is celebrating a new name and chapter as we proudly become Manning Family Children’s. With an unwavering commitment to child health\, Children’s has proudly served as the Gulf South’s only\, freestanding\, comprehensive children’s hospital for 70 years – transforming and saving countless lives since we first opened our doors in 1955. \nThe commemorative Air Force (CAF) is a 501 (c) 3 Texas non-profit organization dedicated to flying and restoring World War II aircraft. The organization’s headquarters officed are based in Dallas\, Texas\, at Dallas Executive Airport. At this time the organization has more than 11\,000 members and has a fleet of more than 180 World War II aircraft known as the Ghost Squadron.\nCome join us and help countless children’s lives and keep our World War II aircraft flying.
URL:https://av8maps.com/event/annual-bayou-state-escadrille-khdc/2030-03-16/
LOCATION:Hammond North Shore Regional Airpot\, 600 Judge Leon Ford Dr\, Hammond\, LA\, 70401
ATTACH;FMTTYPE=image/jpeg:https://av8maps.com/wp-content/uploads/2026/03/Bayou-State-Escadrille-KHDC-e1773769653306.jpg
GEO:30.5243588;-90.4195876
X-APPLE-STRUCTURED-LOCATION;VALUE=URI;X-ADDRESS=Hammond North Shore Regional Airpot 600 Judge Leon Ford Dr Hammond LA 70401;X-APPLE-RADIUS=500;X-TITLE=600 Judge Leon Ford Dr:geo:-90.4195876,30.5243588
END:VEVENT
BEGIN:VEVENT
DTSTART;TZID=America/New_York:20310315T090000
DTEND;TZID=America/New_York:20310315T140000
DTSTAMP:20260423T092239
CREATED:20260317T174747Z
LAST-MODIFIED:20260317T174747Z
UID:10006483-1931331600-1931349600@av8maps.com
SUMMARY:Annual Bayou State Escadrille (KHDC)
DESCRIPTION:Come join us for our annual vintage car & aircraft show. \nWith the help of The Golden Oldies Car Club\, our show raises money for the Commemorative Air Force and The New Orleans Children’s Hospital.\nChildren’s Hospital New Orleans is celebrating a new name and chapter as we proudly become Manning Family Children’s. With an unwavering commitment to child health\, Children’s has proudly served as the Gulf South’s only\, freestanding\, comprehensive children’s hospital for 70 years – transforming and saving countless lives since we first opened our doors in 1955. \nThe commemorative Air Force (CAF) is a 501 (c) 3 Texas non-profit organization dedicated to flying and restoring World War II aircraft. The organization’s headquarters officed are based in Dallas\, Texas\, at Dallas Executive Airport. At this time the organization has more than 11\,000 members and has a fleet of more than 180 World War II aircraft known as the Ghost Squadron.\nCome join us and help countless children’s lives and keep our World War II aircraft flying.
URL:https://av8maps.com/event/annual-bayou-state-escadrille-khdc/2031-03-15/
LOCATION:Hammond North Shore Regional Airpot\, 600 Judge Leon Ford Dr\, Hammond\, LA\, 70401
ATTACH;FMTTYPE=image/jpeg:https://av8maps.com/wp-content/uploads/2026/03/Bayou-State-Escadrille-KHDC-e1773769653306.jpg
GEO:30.5243588;-90.4195876
X-APPLE-STRUCTURED-LOCATION;VALUE=URI;X-ADDRESS=Hammond North Shore Regional Airpot 600 Judge Leon Ford Dr Hammond LA 70401;X-APPLE-RADIUS=500;X-TITLE=600 Judge Leon Ford Dr:geo:-90.4195876,30.5243588
END:VEVENT
END:VCALENDAR