BEGIN:VCALENDAR
VERSION:2.0
PRODID:-//AV8MAPS.COM - ECPv6.15.20//NONSGML v1.0//EN
CALSCALE:GREGORIAN
METHOD:PUBLISH
X-WR-CALNAME:AV8MAPS.COM
X-ORIGINAL-URL:https://av8maps.com
X-WR-CALDESC:Events for AV8MAPS.COM
REFRESH-INTERVAL;VALUE=DURATION:PT1H
X-Robots-Tag:noindex
X-PUBLISHED-TTL:PT1H
BEGIN:VTIMEZONE
TZID:America/New_York
BEGIN:DAYLIGHT
TZOFFSETFROM:-0500
TZOFFSETTO:-0400
TZNAME:EDT
DTSTART:20250309T070000
END:DAYLIGHT
BEGIN:STANDARD
TZOFFSETFROM:-0400
TZOFFSETTO:-0500
TZNAME:EST
DTSTART:20251102T060000
END:STANDARD
BEGIN:DAYLIGHT
TZOFFSETFROM:-0500
TZOFFSETTO:-0400
TZNAME:EDT
DTSTART:20260308T070000
END:DAYLIGHT
BEGIN:STANDARD
TZOFFSETFROM:-0400
TZOFFSETTO:-0500
TZNAME:EST
DTSTART:20261101T060000
END:STANDARD
BEGIN:DAYLIGHT
TZOFFSETFROM:-0500
TZOFFSETTO:-0400
TZNAME:EDT
DTSTART:20270314T070000
END:DAYLIGHT
BEGIN:STANDARD
TZOFFSETFROM:-0400
TZOFFSETTO:-0500
TZNAME:EST
DTSTART:20271107T060000
END:STANDARD
BEGIN:DAYLIGHT
TZOFFSETFROM:-0500
TZOFFSETTO:-0400
TZNAME:EDT
DTSTART:20280312T070000
END:DAYLIGHT
BEGIN:STANDARD
TZOFFSETFROM:-0400
TZOFFSETTO:-0500
TZNAME:EST
DTSTART:20281105T060000
END:STANDARD
BEGIN:DAYLIGHT
TZOFFSETFROM:-0500
TZOFFSETTO:-0400
TZNAME:EDT
DTSTART:20290311T070000
END:DAYLIGHT
BEGIN:STANDARD
TZOFFSETFROM:-0400
TZOFFSETTO:-0500
TZNAME:EST
DTSTART:20291104T060000
END:STANDARD
BEGIN:DAYLIGHT
TZOFFSETFROM:-0500
TZOFFSETTO:-0400
TZNAME:EDT
DTSTART:20300310T070000
END:DAYLIGHT
BEGIN:STANDARD
TZOFFSETFROM:-0400
TZOFFSETTO:-0500
TZNAME:EST
DTSTART:20301103T060000
END:STANDARD
BEGIN:DAYLIGHT
TZOFFSETFROM:-0500
TZOFFSETTO:-0400
TZNAME:EDT
DTSTART:20310309T070000
END:DAYLIGHT
BEGIN:STANDARD
TZOFFSETFROM:-0400
TZOFFSETTO:-0500
TZNAME:EST
DTSTART:20311102T060000
END:STANDARD
END:VTIMEZONE
BEGIN:VEVENT
DTSTART;TZID=America/New_York:20260606T090000
DTEND;TZID=America/New_York:20260606T170000
DTSTAMP:20260423T160704
CREATED:20260317T191416Z
LAST-MODIFIED:20260317T191416Z
UID:10006487-1780736400-1780765200@av8maps.com
SUMMARY:1st Annual Plane Fun Poker Run (KONL\, KANW\, KTIF\, KODX\, KONL)
DESCRIPTION:1st Annual Plane Fun Poker Run to fly over some beautiful Nebraska sandhills. \nThe run will start and end in O’Neill (KONL) with stops in Ainsworth (KANW)\, Thedford (KTIF)\, and Ord (KODX). \nIf you are interested or have any questions\, please call or text Brady Dexter 1-402-340-2581. \nWe heard there are sure to be some surprises along the way!
URL:https://av8maps.com/event/1st-annual-plane-fun-poker-run-konl-kanw-ktif-kodx-konl/2026-06-06/
LOCATION:O’Neill Airport\, 87204 John L Baker Rd\, O'Neill\, NE\, 68763
ATTACH;FMTTYPE=image/jpeg:https://av8maps.com/wp-content/uploads/2026/03/Annual-Plane-Fun-Poker-Run-KONL-e1773774791223.jpg
GEO:42.4661777;-98.6864979
X-APPLE-STRUCTURED-LOCATION;VALUE=URI;X-ADDRESS=O’Neill Airport 87204 John L Baker Rd O'Neill NE 68763;X-APPLE-RADIUS=500;X-TITLE=87204 John L Baker Rd:geo:-98.6864979,42.4661777
END:VEVENT
BEGIN:VEVENT
DTSTART;TZID=America/New_York:20270605T090000
DTEND;TZID=America/New_York:20270605T170000
DTSTAMP:20260423T160704
CREATED:20260317T191416Z
LAST-MODIFIED:20260317T191416Z
UID:10006488-1812186000-1812214800@av8maps.com
SUMMARY:1st Annual Plane Fun Poker Run (KONL\, KANW\, KTIF\, KODX\, KONL)
DESCRIPTION:1st Annual Plane Fun Poker Run to fly over some beautiful Nebraska sandhills. \nThe run will start and end in O’Neill (KONL) with stops in Ainsworth (KANW)\, Thedford (KTIF)\, and Ord (KODX). \nIf you are interested or have any questions\, please call or text Brady Dexter 1-402-340-2581. \nWe heard there are sure to be some surprises along the way!
URL:https://av8maps.com/event/1st-annual-plane-fun-poker-run-konl-kanw-ktif-kodx-konl/2027-06-05/
LOCATION:O’Neill Airport\, 87204 John L Baker Rd\, O'Neill\, NE\, 68763
ATTACH;FMTTYPE=image/jpeg:https://av8maps.com/wp-content/uploads/2026/03/Annual-Plane-Fun-Poker-Run-KONL-e1773774791223.jpg
GEO:42.4661777;-98.6864979
X-APPLE-STRUCTURED-LOCATION;VALUE=URI;X-ADDRESS=O’Neill Airport 87204 John L Baker Rd O'Neill NE 68763;X-APPLE-RADIUS=500;X-TITLE=87204 John L Baker Rd:geo:-98.6864979,42.4661777
END:VEVENT
BEGIN:VEVENT
DTSTART;TZID=America/New_York:20280603T090000
DTEND;TZID=America/New_York:20280603T170000
DTSTAMP:20260423T160704
CREATED:20260317T191416Z
LAST-MODIFIED:20260317T191416Z
UID:10006489-1843635600-1843664400@av8maps.com
SUMMARY:1st Annual Plane Fun Poker Run (KONL\, KANW\, KTIF\, KODX\, KONL)
DESCRIPTION:1st Annual Plane Fun Poker Run to fly over some beautiful Nebraska sandhills. \nThe run will start and end in O’Neill (KONL) with stops in Ainsworth (KANW)\, Thedford (KTIF)\, and Ord (KODX). \nIf you are interested or have any questions\, please call or text Brady Dexter 1-402-340-2581. \nWe heard there are sure to be some surprises along the way!
URL:https://av8maps.com/event/1st-annual-plane-fun-poker-run-konl-kanw-ktif-kodx-konl/2028-06-03/
LOCATION:O’Neill Airport\, 87204 John L Baker Rd\, O'Neill\, NE\, 68763
ATTACH;FMTTYPE=image/jpeg:https://av8maps.com/wp-content/uploads/2026/03/Annual-Plane-Fun-Poker-Run-KONL-e1773774791223.jpg
GEO:42.4661777;-98.6864979
X-APPLE-STRUCTURED-LOCATION;VALUE=URI;X-ADDRESS=O’Neill Airport 87204 John L Baker Rd O'Neill NE 68763;X-APPLE-RADIUS=500;X-TITLE=87204 John L Baker Rd:geo:-98.6864979,42.4661777
END:VEVENT
BEGIN:VEVENT
DTSTART;TZID=America/New_York:20290602T090000
DTEND;TZID=America/New_York:20290602T170000
DTSTAMP:20260423T160704
CREATED:20260317T191416Z
LAST-MODIFIED:20260317T191416Z
UID:10006490-1875085200-1875114000@av8maps.com
SUMMARY:1st Annual Plane Fun Poker Run (KONL\, KANW\, KTIF\, KODX\, KONL)
DESCRIPTION:1st Annual Plane Fun Poker Run to fly over some beautiful Nebraska sandhills. \nThe run will start and end in O’Neill (KONL) with stops in Ainsworth (KANW)\, Thedford (KTIF)\, and Ord (KODX). \nIf you are interested or have any questions\, please call or text Brady Dexter 1-402-340-2581. \nWe heard there are sure to be some surprises along the way!
URL:https://av8maps.com/event/1st-annual-plane-fun-poker-run-konl-kanw-ktif-kodx-konl/2029-06-02/
LOCATION:O’Neill Airport\, 87204 John L Baker Rd\, O'Neill\, NE\, 68763
ATTACH;FMTTYPE=image/jpeg:https://av8maps.com/wp-content/uploads/2026/03/Annual-Plane-Fun-Poker-Run-KONL-e1773774791223.jpg
GEO:42.4661777;-98.6864979
X-APPLE-STRUCTURED-LOCATION;VALUE=URI;X-ADDRESS=O’Neill Airport 87204 John L Baker Rd O'Neill NE 68763;X-APPLE-RADIUS=500;X-TITLE=87204 John L Baker Rd:geo:-98.6864979,42.4661777
END:VEVENT
BEGIN:VEVENT
DTSTART;TZID=America/New_York:20300601T090000
DTEND;TZID=America/New_York:20300601T170000
DTSTAMP:20260423T160704
CREATED:20260317T191416Z
LAST-MODIFIED:20260317T191416Z
UID:10006491-1906534800-1906563600@av8maps.com
SUMMARY:1st Annual Plane Fun Poker Run (KONL\, KANW\, KTIF\, KODX\, KONL)
DESCRIPTION:1st Annual Plane Fun Poker Run to fly over some beautiful Nebraska sandhills. \nThe run will start and end in O’Neill (KONL) with stops in Ainsworth (KANW)\, Thedford (KTIF)\, and Ord (KODX). \nIf you are interested or have any questions\, please call or text Brady Dexter 1-402-340-2581. \nWe heard there are sure to be some surprises along the way!
URL:https://av8maps.com/event/1st-annual-plane-fun-poker-run-konl-kanw-ktif-kodx-konl/2030-06-01/
LOCATION:O’Neill Airport\, 87204 John L Baker Rd\, O'Neill\, NE\, 68763
ATTACH;FMTTYPE=image/jpeg:https://av8maps.com/wp-content/uploads/2026/03/Annual-Plane-Fun-Poker-Run-KONL-e1773774791223.jpg
GEO:42.4661777;-98.6864979
X-APPLE-STRUCTURED-LOCATION;VALUE=URI;X-ADDRESS=O’Neill Airport 87204 John L Baker Rd O'Neill NE 68763;X-APPLE-RADIUS=500;X-TITLE=87204 John L Baker Rd:geo:-98.6864979,42.4661777
END:VEVENT
END:VCALENDAR