BEGIN:VCALENDAR
VERSION:2.0
PRODID:-//AV8MAPS.COM - ECPv6.15.20//NONSGML v1.0//EN
CALSCALE:GREGORIAN
METHOD:PUBLISH
X-WR-CALNAME:AV8MAPS.COM
X-ORIGINAL-URL:https://av8maps.com
X-WR-CALDESC:Events for AV8MAPS.COM
REFRESH-INTERVAL;VALUE=DURATION:PT1H
X-Robots-Tag:noindex
X-PUBLISHED-TTL:PT1H
BEGIN:VTIMEZONE
TZID:America/New_York
BEGIN:DAYLIGHT
TZOFFSETFROM:-0500
TZOFFSETTO:-0400
TZNAME:EDT
DTSTART:20260308T070000
END:DAYLIGHT
BEGIN:STANDARD
TZOFFSETFROM:-0400
TZOFFSETTO:-0500
TZNAME:EST
DTSTART:20261101T060000
END:STANDARD
BEGIN:DAYLIGHT
TZOFFSETFROM:-0500
TZOFFSETTO:-0400
TZNAME:EDT
DTSTART:20270314T070000
END:DAYLIGHT
BEGIN:STANDARD
TZOFFSETFROM:-0400
TZOFFSETTO:-0500
TZNAME:EST
DTSTART:20271107T060000
END:STANDARD
BEGIN:DAYLIGHT
TZOFFSETFROM:-0500
TZOFFSETTO:-0400
TZNAME:EDT
DTSTART:20280312T070000
END:DAYLIGHT
BEGIN:STANDARD
TZOFFSETFROM:-0400
TZOFFSETTO:-0500
TZNAME:EST
DTSTART:20281105T060000
END:STANDARD
BEGIN:DAYLIGHT
TZOFFSETFROM:-0500
TZOFFSETTO:-0400
TZNAME:EDT
DTSTART:20290311T070000
END:DAYLIGHT
BEGIN:STANDARD
TZOFFSETFROM:-0400
TZOFFSETTO:-0500
TZNAME:EST
DTSTART:20291104T060000
END:STANDARD
BEGIN:DAYLIGHT
TZOFFSETFROM:-0500
TZOFFSETTO:-0400
TZNAME:EDT
DTSTART:20300310T070000
END:DAYLIGHT
BEGIN:STANDARD
TZOFFSETFROM:-0400
TZOFFSETTO:-0500
TZNAME:EST
DTSTART:20301103T060000
END:STANDARD
BEGIN:DAYLIGHT
TZOFFSETFROM:-0500
TZOFFSETTO:-0400
TZNAME:EDT
DTSTART:20310309T070000
END:DAYLIGHT
BEGIN:STANDARD
TZOFFSETFROM:-0400
TZOFFSETTO:-0500
TZNAME:EST
DTSTART:20311102T060000
END:STANDARD
BEGIN:DAYLIGHT
TZOFFSETFROM:-0500
TZOFFSETTO:-0400
TZNAME:EDT
DTSTART:20320314T070000
END:DAYLIGHT
BEGIN:STANDARD
TZOFFSETFROM:-0400
TZOFFSETTO:-0500
TZNAME:EST
DTSTART:20321107T060000
END:STANDARD
END:VTIMEZONE
BEGIN:VEVENT
DTSTART;TZID=America/New_York:20270320T093000
DTEND;TZID=America/New_York:20270320T170000
DTSTAMP:20260423T164756
CREATED:20260319T191559Z
LAST-MODIFIED:20260320T003125Z
UID:10006505-1805535000-1805562000@av8maps.com
SUMMARY:Annual FD04 Spring Fling Fly-in (FD04)
DESCRIPTION:Fly or drive to Leeward Air Ranch Red Barn Community Center GPS 8539 SE 72nd Ave Ocala\, Florida 34472 \nBBQ Lunch includes pulled pork\, baked beans\, potato salad\, roll\, dessert and drink $18.00 \nEvent begins at 9:30am with coffee & donuts. Lunch served between 11:30am- 1:30pm \nAirplanes on static display include classics\, warbirds\, home-builts and antiques \nFor more information:\nCody Welch  1-586-946-5381  Cody@codywelch.com
URL:https://av8maps.com/event/annual-fd04-spring-fling-fly-in-fd04/2027-03-20/
LOCATION:Leeward Air Ranch\, 8539 SE 72 Ave\, Ocala\, FL\, 34472
ATTACH;FMTTYPE=image/jpeg:https://av8maps.com/wp-content/uploads/2026/03/IMG_0498.jpeg
GEO:29.097431;-82.0329995
X-APPLE-STRUCTURED-LOCATION;VALUE=URI;X-ADDRESS=Leeward Air Ranch 8539 SE 72 Ave Ocala FL 34472;X-APPLE-RADIUS=500;X-TITLE=8539 SE 72 Ave:geo:-82.0329995,29.097431
END:VEVENT
BEGIN:VEVENT
DTSTART;TZID=America/New_York:20280318T093000
DTEND;TZID=America/New_York:20280318T170000
DTSTAMP:20260423T164756
CREATED:20260319T191559Z
LAST-MODIFIED:20260320T003125Z
UID:10006506-1836984600-1837011600@av8maps.com
SUMMARY:Annual FD04 Spring Fling Fly-in (FD04)
DESCRIPTION:Fly or drive to Leeward Air Ranch Red Barn Community Center GPS 8539 SE 72nd Ave Ocala\, Florida 34472 \nBBQ Lunch includes pulled pork\, baked beans\, potato salad\, roll\, dessert and drink $18.00 \nEvent begins at 9:30am with coffee & donuts. Lunch served between 11:30am- 1:30pm \nAirplanes on static display include classics\, warbirds\, home-builts and antiques \nFor more information:\nCody Welch  1-586-946-5381  Cody@codywelch.com
URL:https://av8maps.com/event/annual-fd04-spring-fling-fly-in-fd04/2028-03-18/
LOCATION:Leeward Air Ranch\, 8539 SE 72 Ave\, Ocala\, FL\, 34472
ATTACH;FMTTYPE=image/jpeg:https://av8maps.com/wp-content/uploads/2026/03/IMG_0498.jpeg
GEO:29.097431;-82.0329995
X-APPLE-STRUCTURED-LOCATION;VALUE=URI;X-ADDRESS=Leeward Air Ranch 8539 SE 72 Ave Ocala FL 34472;X-APPLE-RADIUS=500;X-TITLE=8539 SE 72 Ave:geo:-82.0329995,29.097431
END:VEVENT
BEGIN:VEVENT
DTSTART;TZID=America/New_York:20290317T093000
DTEND;TZID=America/New_York:20290317T170000
DTSTAMP:20260423T164756
CREATED:20260319T191559Z
LAST-MODIFIED:20260320T003125Z
UID:10006507-1868434200-1868461200@av8maps.com
SUMMARY:Annual FD04 Spring Fling Fly-in (FD04)
DESCRIPTION:Fly or drive to Leeward Air Ranch Red Barn Community Center GPS 8539 SE 72nd Ave Ocala\, Florida 34472 \nBBQ Lunch includes pulled pork\, baked beans\, potato salad\, roll\, dessert and drink $18.00 \nEvent begins at 9:30am with coffee & donuts. Lunch served between 11:30am- 1:30pm \nAirplanes on static display include classics\, warbirds\, home-builts and antiques \nFor more information:\nCody Welch  1-586-946-5381  Cody@codywelch.com
URL:https://av8maps.com/event/annual-fd04-spring-fling-fly-in-fd04/2029-03-17/
LOCATION:Leeward Air Ranch\, 8539 SE 72 Ave\, Ocala\, FL\, 34472
ATTACH;FMTTYPE=image/jpeg:https://av8maps.com/wp-content/uploads/2026/03/IMG_0498.jpeg
GEO:29.097431;-82.0329995
X-APPLE-STRUCTURED-LOCATION;VALUE=URI;X-ADDRESS=Leeward Air Ranch 8539 SE 72 Ave Ocala FL 34472;X-APPLE-RADIUS=500;X-TITLE=8539 SE 72 Ave:geo:-82.0329995,29.097431
END:VEVENT
BEGIN:VEVENT
DTSTART;TZID=America/New_York:20300316T093000
DTEND;TZID=America/New_York:20300316T170000
DTSTAMP:20260423T164756
CREATED:20260319T191559Z
LAST-MODIFIED:20260320T003125Z
UID:10006508-1899883800-1899910800@av8maps.com
SUMMARY:Annual FD04 Spring Fling Fly-in (FD04)
DESCRIPTION:Fly or drive to Leeward Air Ranch Red Barn Community Center GPS 8539 SE 72nd Ave Ocala\, Florida 34472 \nBBQ Lunch includes pulled pork\, baked beans\, potato salad\, roll\, dessert and drink $18.00 \nEvent begins at 9:30am with coffee & donuts. Lunch served between 11:30am- 1:30pm \nAirplanes on static display include classics\, warbirds\, home-builts and antiques \nFor more information:\nCody Welch  1-586-946-5381  Cody@codywelch.com
URL:https://av8maps.com/event/annual-fd04-spring-fling-fly-in-fd04/2030-03-16/
LOCATION:Leeward Air Ranch\, 8539 SE 72 Ave\, Ocala\, FL\, 34472
ATTACH;FMTTYPE=image/jpeg:https://av8maps.com/wp-content/uploads/2026/03/IMG_0498.jpeg
GEO:29.097431;-82.0329995
X-APPLE-STRUCTURED-LOCATION;VALUE=URI;X-ADDRESS=Leeward Air Ranch 8539 SE 72 Ave Ocala FL 34472;X-APPLE-RADIUS=500;X-TITLE=8539 SE 72 Ave:geo:-82.0329995,29.097431
END:VEVENT
BEGIN:VEVENT
DTSTART;TZID=America/New_York:20310315T093000
DTEND;TZID=America/New_York:20310315T170000
DTSTAMP:20260423T164756
CREATED:20260319T191559Z
LAST-MODIFIED:20260320T003125Z
UID:10006509-1931333400-1931360400@av8maps.com
SUMMARY:Annual FD04 Spring Fling Fly-in (FD04)
DESCRIPTION:Fly or drive to Leeward Air Ranch Red Barn Community Center GPS 8539 SE 72nd Ave Ocala\, Florida 34472 \nBBQ Lunch includes pulled pork\, baked beans\, potato salad\, roll\, dessert and drink $18.00 \nEvent begins at 9:30am with coffee & donuts. Lunch served between 11:30am- 1:30pm \nAirplanes on static display include classics\, warbirds\, home-builts and antiques \nFor more information:\nCody Welch  1-586-946-5381  Cody@codywelch.com
URL:https://av8maps.com/event/annual-fd04-spring-fling-fly-in-fd04/2031-03-15/
LOCATION:Leeward Air Ranch\, 8539 SE 72 Ave\, Ocala\, FL\, 34472
ATTACH;FMTTYPE=image/jpeg:https://av8maps.com/wp-content/uploads/2026/03/IMG_0498.jpeg
GEO:29.097431;-82.0329995
X-APPLE-STRUCTURED-LOCATION;VALUE=URI;X-ADDRESS=Leeward Air Ranch 8539 SE 72 Ave Ocala FL 34472;X-APPLE-RADIUS=500;X-TITLE=8539 SE 72 Ave:geo:-82.0329995,29.097431
END:VEVENT
END:VCALENDAR