BEGIN:VCALENDAR
VERSION:2.0
PRODID:-//AV8MAPS.COM - ECPv6.15.20//NONSGML v1.0//EN
CALSCALE:GREGORIAN
METHOD:PUBLISH
X-WR-CALNAME:AV8MAPS.COM
X-ORIGINAL-URL:https://av8maps.com
X-WR-CALDESC:Events for AV8MAPS.COM
REFRESH-INTERVAL;VALUE=DURATION:PT1H
X-Robots-Tag:noindex
X-PUBLISHED-TTL:PT1H
BEGIN:VTIMEZONE
TZID:America/New_York
BEGIN:DAYLIGHT
TZOFFSETFROM:-0500
TZOFFSETTO:-0400
TZNAME:EDT
DTSTART:20250309T070000
END:DAYLIGHT
BEGIN:STANDARD
TZOFFSETFROM:-0400
TZOFFSETTO:-0500
TZNAME:EST
DTSTART:20251102T060000
END:STANDARD
BEGIN:DAYLIGHT
TZOFFSETFROM:-0500
TZOFFSETTO:-0400
TZNAME:EDT
DTSTART:20260308T070000
END:DAYLIGHT
BEGIN:STANDARD
TZOFFSETFROM:-0400
TZOFFSETTO:-0500
TZNAME:EST
DTSTART:20261101T060000
END:STANDARD
BEGIN:DAYLIGHT
TZOFFSETFROM:-0500
TZOFFSETTO:-0400
TZNAME:EDT
DTSTART:20270314T070000
END:DAYLIGHT
BEGIN:STANDARD
TZOFFSETFROM:-0400
TZOFFSETTO:-0500
TZNAME:EST
DTSTART:20271107T060000
END:STANDARD
BEGIN:DAYLIGHT
TZOFFSETFROM:-0500
TZOFFSETTO:-0400
TZNAME:EDT
DTSTART:20280312T070000
END:DAYLIGHT
BEGIN:STANDARD
TZOFFSETFROM:-0400
TZOFFSETTO:-0500
TZNAME:EST
DTSTART:20281105T060000
END:STANDARD
BEGIN:DAYLIGHT
TZOFFSETFROM:-0500
TZOFFSETTO:-0400
TZNAME:EDT
DTSTART:20290311T070000
END:DAYLIGHT
BEGIN:STANDARD
TZOFFSETFROM:-0400
TZOFFSETTO:-0500
TZNAME:EST
DTSTART:20291104T060000
END:STANDARD
BEGIN:DAYLIGHT
TZOFFSETFROM:-0500
TZOFFSETTO:-0400
TZNAME:EDT
DTSTART:20300310T070000
END:DAYLIGHT
BEGIN:STANDARD
TZOFFSETFROM:-0400
TZOFFSETTO:-0500
TZNAME:EST
DTSTART:20301103T060000
END:STANDARD
BEGIN:DAYLIGHT
TZOFFSETFROM:-0500
TZOFFSETTO:-0400
TZNAME:EDT
DTSTART:20310309T070000
END:DAYLIGHT
BEGIN:STANDARD
TZOFFSETFROM:-0400
TZOFFSETTO:-0500
TZNAME:EST
DTSTART:20311102T060000
END:STANDARD
END:VTIMEZONE
BEGIN:VEVENT
DTSTART;TZID=America/New_York:20260425T110000
DTEND;TZID=America/New_York:20260425T140000
DTSTAMP:20260422T195638
CREATED:20260408T001630Z
LAST-MODIFIED:20260408T001630Z
UID:10006541-1777114800-1777125600@av8maps.com
SUMMARY:Annual Wheels\, Tracks\, and Wings (Y63)
DESCRIPTION:Join us at the Elbow Lake Airport for the 4th Annual Wheels\, Tracks & Wings as we celebrate the Month of the Military Child. This is a fly-in\, drive-in event built for the whole community—on the ground and in the air.\n\n\n\n\n\n FREE Admission Open to the Public Fun for All Ages\n\n\n Elbow Lake Airport (Y63) Saturday\, April 25th 11:00 AM – 2:00 PM Gates Open: 10:30 AM Flyover at 11:00 AM\n\n\n\n\n\nSpend the day up close with the equipment\, aircraft\, and people that serve our communities every day.\n\n\n Youth Activities & Kids Zone Food Trucks & Concessions Emergency Medical Vehicles Military Vehicles Farm Equipment Aircraft Displays & Fly-In Traffic Touch-a-Truck + Interactive Exhibits Young Eagles Flights (Ages 8–17) hosted by EAA Chapter 1174 Vintage Cars\, Pedal Cars\, Bounce House & more\n\n\n Sponsored by: American Legion Auxiliary Unit #357 Hosted by: Elbow Lake Airport\n\n\n\n\n\n GIVEAWAY \n\n\nWe’re giving away a DJI Neo 2 Motion Fly More Combo\n\n\n FPV flying Motion control 4K video Goggles + controller + 3 batteries\n\n\n Show up. Sign up. Fly away.\n\n\n\n\n\nBring the family\, invite your friends\, and come celebrate and support military kids and families in our community.\n\n\nMore updates\, demos\, and door prizes coming soon—this one’s shaping up to be the best yet.
URL:https://av8maps.com/event/annual-wheels-tracks-and-wings-y63/2026-04-25/
LOCATION:Elbow Lake Airport\, 1111 2nd St SW\, Elbow Lake\, MN\, 56531
ATTACH;FMTTYPE=image/jpeg:https://av8maps.com/wp-content/uploads/2026/04/Wheels-Tracks-and-Wings-Y63-e1775607318602.jpg
GEO:45.9905556;-95.9755556
X-APPLE-STRUCTURED-LOCATION;VALUE=URI;X-ADDRESS=Elbow Lake Airport 1111 2nd St SW Elbow Lake MN 56531;X-APPLE-RADIUS=500;X-TITLE=1111 2nd St SW:geo:-95.9755556,45.9905556
END:VEVENT
BEGIN:VEVENT
DTSTART;TZID=America/New_York:20270424T110000
DTEND;TZID=America/New_York:20270424T140000
DTSTAMP:20260422T195638
CREATED:20260408T001630Z
LAST-MODIFIED:20260408T001630Z
UID:10006542-1808564400-1808575200@av8maps.com
SUMMARY:Annual Wheels\, Tracks\, and Wings (Y63)
DESCRIPTION:Join us at the Elbow Lake Airport for the 4th Annual Wheels\, Tracks & Wings as we celebrate the Month of the Military Child. This is a fly-in\, drive-in event built for the whole community—on the ground and in the air.\n\n\n\n\n\n FREE Admission Open to the Public Fun for All Ages\n\n\n Elbow Lake Airport (Y63) Saturday\, April 25th 11:00 AM – 2:00 PM Gates Open: 10:30 AM Flyover at 11:00 AM\n\n\n\n\n\nSpend the day up close with the equipment\, aircraft\, and people that serve our communities every day.\n\n\n Youth Activities & Kids Zone Food Trucks & Concessions Emergency Medical Vehicles Military Vehicles Farm Equipment Aircraft Displays & Fly-In Traffic Touch-a-Truck + Interactive Exhibits Young Eagles Flights (Ages 8–17) hosted by EAA Chapter 1174 Vintage Cars\, Pedal Cars\, Bounce House & more\n\n\n Sponsored by: American Legion Auxiliary Unit #357 Hosted by: Elbow Lake Airport\n\n\n\n\n\n GIVEAWAY \n\n\nWe’re giving away a DJI Neo 2 Motion Fly More Combo\n\n\n FPV flying Motion control 4K video Goggles + controller + 3 batteries\n\n\n Show up. Sign up. Fly away.\n\n\n\n\n\nBring the family\, invite your friends\, and come celebrate and support military kids and families in our community.\n\n\nMore updates\, demos\, and door prizes coming soon—this one’s shaping up to be the best yet.
URL:https://av8maps.com/event/annual-wheels-tracks-and-wings-y63/2027-04-24/
LOCATION:Elbow Lake Airport\, 1111 2nd St SW\, Elbow Lake\, MN\, 56531
ATTACH;FMTTYPE=image/jpeg:https://av8maps.com/wp-content/uploads/2026/04/Wheels-Tracks-and-Wings-Y63-e1775607318602.jpg
GEO:45.9905556;-95.9755556
X-APPLE-STRUCTURED-LOCATION;VALUE=URI;X-ADDRESS=Elbow Lake Airport 1111 2nd St SW Elbow Lake MN 56531;X-APPLE-RADIUS=500;X-TITLE=1111 2nd St SW:geo:-95.9755556,45.9905556
END:VEVENT
BEGIN:VEVENT
DTSTART;TZID=America/New_York:20280422T110000
DTEND;TZID=America/New_York:20280422T140000
DTSTAMP:20260422T195639
CREATED:20260408T001630Z
LAST-MODIFIED:20260408T001630Z
UID:10006543-1840014000-1840024800@av8maps.com
SUMMARY:Annual Wheels\, Tracks\, and Wings (Y63)
DESCRIPTION:Join us at the Elbow Lake Airport for the 4th Annual Wheels\, Tracks & Wings as we celebrate the Month of the Military Child. This is a fly-in\, drive-in event built for the whole community—on the ground and in the air.\n\n\n\n\n\n FREE Admission Open to the Public Fun for All Ages\n\n\n Elbow Lake Airport (Y63) Saturday\, April 25th 11:00 AM – 2:00 PM Gates Open: 10:30 AM Flyover at 11:00 AM\n\n\n\n\n\nSpend the day up close with the equipment\, aircraft\, and people that serve our communities every day.\n\n\n Youth Activities & Kids Zone Food Trucks & Concessions Emergency Medical Vehicles Military Vehicles Farm Equipment Aircraft Displays & Fly-In Traffic Touch-a-Truck + Interactive Exhibits Young Eagles Flights (Ages 8–17) hosted by EAA Chapter 1174 Vintage Cars\, Pedal Cars\, Bounce House & more\n\n\n Sponsored by: American Legion Auxiliary Unit #357 Hosted by: Elbow Lake Airport\n\n\n\n\n\n GIVEAWAY \n\n\nWe’re giving away a DJI Neo 2 Motion Fly More Combo\n\n\n FPV flying Motion control 4K video Goggles + controller + 3 batteries\n\n\n Show up. Sign up. Fly away.\n\n\n\n\n\nBring the family\, invite your friends\, and come celebrate and support military kids and families in our community.\n\n\nMore updates\, demos\, and door prizes coming soon—this one’s shaping up to be the best yet.
URL:https://av8maps.com/event/annual-wheels-tracks-and-wings-y63/2028-04-22/
LOCATION:Elbow Lake Airport\, 1111 2nd St SW\, Elbow Lake\, MN\, 56531
ATTACH;FMTTYPE=image/jpeg:https://av8maps.com/wp-content/uploads/2026/04/Wheels-Tracks-and-Wings-Y63-e1775607318602.jpg
GEO:45.9905556;-95.9755556
X-APPLE-STRUCTURED-LOCATION;VALUE=URI;X-ADDRESS=Elbow Lake Airport 1111 2nd St SW Elbow Lake MN 56531;X-APPLE-RADIUS=500;X-TITLE=1111 2nd St SW:geo:-95.9755556,45.9905556
END:VEVENT
BEGIN:VEVENT
DTSTART;TZID=America/New_York:20290428T110000
DTEND;TZID=America/New_York:20290428T140000
DTSTAMP:20260422T195639
CREATED:20260408T001630Z
LAST-MODIFIED:20260408T001630Z
UID:10006544-1872068400-1872079200@av8maps.com
SUMMARY:Annual Wheels\, Tracks\, and Wings (Y63)
DESCRIPTION:Join us at the Elbow Lake Airport for the 4th Annual Wheels\, Tracks & Wings as we celebrate the Month of the Military Child. This is a fly-in\, drive-in event built for the whole community—on the ground and in the air.\n\n\n\n\n\n FREE Admission Open to the Public Fun for All Ages\n\n\n Elbow Lake Airport (Y63) Saturday\, April 25th 11:00 AM – 2:00 PM Gates Open: 10:30 AM Flyover at 11:00 AM\n\n\n\n\n\nSpend the day up close with the equipment\, aircraft\, and people that serve our communities every day.\n\n\n Youth Activities & Kids Zone Food Trucks & Concessions Emergency Medical Vehicles Military Vehicles Farm Equipment Aircraft Displays & Fly-In Traffic Touch-a-Truck + Interactive Exhibits Young Eagles Flights (Ages 8–17) hosted by EAA Chapter 1174 Vintage Cars\, Pedal Cars\, Bounce House & more\n\n\n Sponsored by: American Legion Auxiliary Unit #357 Hosted by: Elbow Lake Airport\n\n\n\n\n\n GIVEAWAY \n\n\nWe’re giving away a DJI Neo 2 Motion Fly More Combo\n\n\n FPV flying Motion control 4K video Goggles + controller + 3 batteries\n\n\n Show up. Sign up. Fly away.\n\n\n\n\n\nBring the family\, invite your friends\, and come celebrate and support military kids and families in our community.\n\n\nMore updates\, demos\, and door prizes coming soon—this one’s shaping up to be the best yet.
URL:https://av8maps.com/event/annual-wheels-tracks-and-wings-y63/2029-04-28/
LOCATION:Elbow Lake Airport\, 1111 2nd St SW\, Elbow Lake\, MN\, 56531
ATTACH;FMTTYPE=image/jpeg:https://av8maps.com/wp-content/uploads/2026/04/Wheels-Tracks-and-Wings-Y63-e1775607318602.jpg
GEO:45.9905556;-95.9755556
X-APPLE-STRUCTURED-LOCATION;VALUE=URI;X-ADDRESS=Elbow Lake Airport 1111 2nd St SW Elbow Lake MN 56531;X-APPLE-RADIUS=500;X-TITLE=1111 2nd St SW:geo:-95.9755556,45.9905556
END:VEVENT
BEGIN:VEVENT
DTSTART;TZID=America/New_York:20300427T110000
DTEND;TZID=America/New_York:20300427T140000
DTSTAMP:20260422T195639
CREATED:20260408T001630Z
LAST-MODIFIED:20260408T001630Z
UID:10006545-1903518000-1903528800@av8maps.com
SUMMARY:Annual Wheels\, Tracks\, and Wings (Y63)
DESCRIPTION:Join us at the Elbow Lake Airport for the 4th Annual Wheels\, Tracks & Wings as we celebrate the Month of the Military Child. This is a fly-in\, drive-in event built for the whole community—on the ground and in the air.\n\n\n\n\n\n FREE Admission Open to the Public Fun for All Ages\n\n\n Elbow Lake Airport (Y63) Saturday\, April 25th 11:00 AM – 2:00 PM Gates Open: 10:30 AM Flyover at 11:00 AM\n\n\n\n\n\nSpend the day up close with the equipment\, aircraft\, and people that serve our communities every day.\n\n\n Youth Activities & Kids Zone Food Trucks & Concessions Emergency Medical Vehicles Military Vehicles Farm Equipment Aircraft Displays & Fly-In Traffic Touch-a-Truck + Interactive Exhibits Young Eagles Flights (Ages 8–17) hosted by EAA Chapter 1174 Vintage Cars\, Pedal Cars\, Bounce House & more\n\n\n Sponsored by: American Legion Auxiliary Unit #357 Hosted by: Elbow Lake Airport\n\n\n\n\n\n GIVEAWAY \n\n\nWe’re giving away a DJI Neo 2 Motion Fly More Combo\n\n\n FPV flying Motion control 4K video Goggles + controller + 3 batteries\n\n\n Show up. Sign up. Fly away.\n\n\n\n\n\nBring the family\, invite your friends\, and come celebrate and support military kids and families in our community.\n\n\nMore updates\, demos\, and door prizes coming soon—this one’s shaping up to be the best yet.
URL:https://av8maps.com/event/annual-wheels-tracks-and-wings-y63/2030-04-27/
LOCATION:Elbow Lake Airport\, 1111 2nd St SW\, Elbow Lake\, MN\, 56531
ATTACH;FMTTYPE=image/jpeg:https://av8maps.com/wp-content/uploads/2026/04/Wheels-Tracks-and-Wings-Y63-e1775607318602.jpg
GEO:45.9905556;-95.9755556
X-APPLE-STRUCTURED-LOCATION;VALUE=URI;X-ADDRESS=Elbow Lake Airport 1111 2nd St SW Elbow Lake MN 56531;X-APPLE-RADIUS=500;X-TITLE=1111 2nd St SW:geo:-95.9755556,45.9905556
END:VEVENT
END:VCALENDAR