BEGIN:VCALENDAR
VERSION:2.0
PRODID:-//AV8MAPS.COM - ECPv6.15.20//NONSGML v1.0//EN
CALSCALE:GREGORIAN
METHOD:PUBLISH
X-WR-CALNAME:AV8MAPS.COM
X-ORIGINAL-URL:https://av8maps.com
X-WR-CALDESC:Events for AV8MAPS.COM
REFRESH-INTERVAL;VALUE=DURATION:PT1H
X-Robots-Tag:noindex
X-PUBLISHED-TTL:PT1H
BEGIN:VTIMEZONE
TZID:America/New_York
BEGIN:DAYLIGHT
TZOFFSETFROM:-0500
TZOFFSETTO:-0400
TZNAME:EDT
DTSTART:20250309T070000
END:DAYLIGHT
BEGIN:STANDARD
TZOFFSETFROM:-0400
TZOFFSETTO:-0500
TZNAME:EST
DTSTART:20251102T060000
END:STANDARD
BEGIN:DAYLIGHT
TZOFFSETFROM:-0500
TZOFFSETTO:-0400
TZNAME:EDT
DTSTART:20260308T070000
END:DAYLIGHT
BEGIN:STANDARD
TZOFFSETFROM:-0400
TZOFFSETTO:-0500
TZNAME:EST
DTSTART:20261101T060000
END:STANDARD
BEGIN:DAYLIGHT
TZOFFSETFROM:-0500
TZOFFSETTO:-0400
TZNAME:EDT
DTSTART:20270314T070000
END:DAYLIGHT
BEGIN:STANDARD
TZOFFSETFROM:-0400
TZOFFSETTO:-0500
TZNAME:EST
DTSTART:20271107T060000
END:STANDARD
BEGIN:DAYLIGHT
TZOFFSETFROM:-0500
TZOFFSETTO:-0400
TZNAME:EDT
DTSTART:20280312T070000
END:DAYLIGHT
BEGIN:STANDARD
TZOFFSETFROM:-0400
TZOFFSETTO:-0500
TZNAME:EST
DTSTART:20281105T060000
END:STANDARD
BEGIN:DAYLIGHT
TZOFFSETFROM:-0500
TZOFFSETTO:-0400
TZNAME:EDT
DTSTART:20290311T070000
END:DAYLIGHT
BEGIN:STANDARD
TZOFFSETFROM:-0400
TZOFFSETTO:-0500
TZNAME:EST
DTSTART:20291104T060000
END:STANDARD
BEGIN:DAYLIGHT
TZOFFSETFROM:-0500
TZOFFSETTO:-0400
TZNAME:EDT
DTSTART:20300310T070000
END:DAYLIGHT
BEGIN:STANDARD
TZOFFSETFROM:-0400
TZOFFSETTO:-0500
TZNAME:EST
DTSTART:20301103T060000
END:STANDARD
BEGIN:DAYLIGHT
TZOFFSETFROM:-0500
TZOFFSETTO:-0400
TZNAME:EDT
DTSTART:20310309T070000
END:DAYLIGHT
BEGIN:STANDARD
TZOFFSETFROM:-0400
TZOFFSETTO:-0500
TZNAME:EST
DTSTART:20311102T060000
END:STANDARD
END:VTIMEZONE
BEGIN:VEVENT
DTSTART;TZID=America/New_York:20260620T070000
DTEND;TZID=America/New_York:20260620T130000
DTSTAMP:20260423T015711
CREATED:20260408T011730Z
LAST-MODIFIED:20260408T012128Z
UID:10006547-1781938800-1781960400@av8maps.com
SUMMARY:Big Timber Fly-in (6S0)
DESCRIPTION:Big Timber\, MT! K6S0 Fly In & Car Show.\n\n\nBreakfast & Pig Roast Lunch\n\n\nRC Cars\, Pine Wood Derby Race\, Appearance by Smokey the Bear!\,\n\n\nScavenger Hunt for kids and more!\n\n\nDon’t miss this event!\n\n\nJune 20th\, 2026 7am -1pm
URL:https://av8maps.com/event/big-timber-fly-in-6s0/2026-06-20/
LOCATION:Big Timber Airport\, 168 Airport Road\, Big Timber\, MT\, 59011
ATTACH;FMTTYPE=image/jpeg:https://av8maps.com/wp-content/uploads/2026/04/Big-Timber-Fly-in-6S0-e1775611039995.jpg
GEO:45.8090877;-109.9733382
X-APPLE-STRUCTURED-LOCATION;VALUE=URI;X-ADDRESS=Big Timber Airport 168 Airport Road Big Timber MT 59011;X-APPLE-RADIUS=500;X-TITLE=168 Airport Road:geo:-109.9733382,45.8090877
END:VEVENT
BEGIN:VEVENT
DTSTART;TZID=America/New_York:20270619T070000
DTEND;TZID=America/New_York:20270619T130000
DTSTAMP:20260423T015711
CREATED:20260408T011730Z
LAST-MODIFIED:20260408T012128Z
UID:10006548-1813388400-1813410000@av8maps.com
SUMMARY:Big Timber Fly-in (6S0)
DESCRIPTION:Big Timber\, MT! K6S0 Fly In & Car Show.\n\n\nBreakfast & Pig Roast Lunch\n\n\nRC Cars\, Pine Wood Derby Race\, Appearance by Smokey the Bear!\,\n\n\nScavenger Hunt for kids and more!\n\n\nDon’t miss this event!\n\n\nJune 20th\, 2026 7am -1pm
URL:https://av8maps.com/event/big-timber-fly-in-6s0/2027-06-19/
LOCATION:Big Timber Airport\, 168 Airport Road\, Big Timber\, MT\, 59011
ATTACH;FMTTYPE=image/jpeg:https://av8maps.com/wp-content/uploads/2026/04/Big-Timber-Fly-in-6S0-e1775611039995.jpg
GEO:45.8090877;-109.9733382
X-APPLE-STRUCTURED-LOCATION;VALUE=URI;X-ADDRESS=Big Timber Airport 168 Airport Road Big Timber MT 59011;X-APPLE-RADIUS=500;X-TITLE=168 Airport Road:geo:-109.9733382,45.8090877
END:VEVENT
BEGIN:VEVENT
DTSTART;TZID=America/New_York:20280617T070000
DTEND;TZID=America/New_York:20280617T130000
DTSTAMP:20260423T015711
CREATED:20260408T011730Z
LAST-MODIFIED:20260408T012128Z
UID:10006549-1844838000-1844859600@av8maps.com
SUMMARY:Big Timber Fly-in (6S0)
DESCRIPTION:Big Timber\, MT! K6S0 Fly In & Car Show.\n\n\nBreakfast & Pig Roast Lunch\n\n\nRC Cars\, Pine Wood Derby Race\, Appearance by Smokey the Bear!\,\n\n\nScavenger Hunt for kids and more!\n\n\nDon’t miss this event!\n\n\nJune 20th\, 2026 7am -1pm
URL:https://av8maps.com/event/big-timber-fly-in-6s0/2028-06-17/
LOCATION:Big Timber Airport\, 168 Airport Road\, Big Timber\, MT\, 59011
ATTACH;FMTTYPE=image/jpeg:https://av8maps.com/wp-content/uploads/2026/04/Big-Timber-Fly-in-6S0-e1775611039995.jpg
GEO:45.8090877;-109.9733382
X-APPLE-STRUCTURED-LOCATION;VALUE=URI;X-ADDRESS=Big Timber Airport 168 Airport Road Big Timber MT 59011;X-APPLE-RADIUS=500;X-TITLE=168 Airport Road:geo:-109.9733382,45.8090877
END:VEVENT
BEGIN:VEVENT
DTSTART;TZID=America/New_York:20290616T070000
DTEND;TZID=America/New_York:20290616T130000
DTSTAMP:20260423T015711
CREATED:20260408T011730Z
LAST-MODIFIED:20260408T012128Z
UID:10006550-1876287600-1876309200@av8maps.com
SUMMARY:Big Timber Fly-in (6S0)
DESCRIPTION:Big Timber\, MT! K6S0 Fly In & Car Show.\n\n\nBreakfast & Pig Roast Lunch\n\n\nRC Cars\, Pine Wood Derby Race\, Appearance by Smokey the Bear!\,\n\n\nScavenger Hunt for kids and more!\n\n\nDon’t miss this event!\n\n\nJune 20th\, 2026 7am -1pm
URL:https://av8maps.com/event/big-timber-fly-in-6s0/2029-06-16/
LOCATION:Big Timber Airport\, 168 Airport Road\, Big Timber\, MT\, 59011
ATTACH;FMTTYPE=image/jpeg:https://av8maps.com/wp-content/uploads/2026/04/Big-Timber-Fly-in-6S0-e1775611039995.jpg
GEO:45.8090877;-109.9733382
X-APPLE-STRUCTURED-LOCATION;VALUE=URI;X-ADDRESS=Big Timber Airport 168 Airport Road Big Timber MT 59011;X-APPLE-RADIUS=500;X-TITLE=168 Airport Road:geo:-109.9733382,45.8090877
END:VEVENT
BEGIN:VEVENT
DTSTART;TZID=America/New_York:20300615T070000
DTEND;TZID=America/New_York:20300615T130000
DTSTAMP:20260423T015711
CREATED:20260408T011730Z
LAST-MODIFIED:20260408T012128Z
UID:10006551-1907737200-1907758800@av8maps.com
SUMMARY:Big Timber Fly-in (6S0)
DESCRIPTION:Big Timber\, MT! K6S0 Fly In & Car Show.\n\n\nBreakfast & Pig Roast Lunch\n\n\nRC Cars\, Pine Wood Derby Race\, Appearance by Smokey the Bear!\,\n\n\nScavenger Hunt for kids and more!\n\n\nDon’t miss this event!\n\n\nJune 20th\, 2026 7am -1pm
URL:https://av8maps.com/event/big-timber-fly-in-6s0/2030-06-15/
LOCATION:Big Timber Airport\, 168 Airport Road\, Big Timber\, MT\, 59011
ATTACH;FMTTYPE=image/jpeg:https://av8maps.com/wp-content/uploads/2026/04/Big-Timber-Fly-in-6S0-e1775611039995.jpg
GEO:45.8090877;-109.9733382
X-APPLE-STRUCTURED-LOCATION;VALUE=URI;X-ADDRESS=Big Timber Airport 168 Airport Road Big Timber MT 59011;X-APPLE-RADIUS=500;X-TITLE=168 Airport Road:geo:-109.9733382,45.8090877
END:VEVENT
END:VCALENDAR