BEGIN:VCALENDAR
VERSION:2.0
PRODID:-//AV8MAPS.COM - ECPv6.15.20//NONSGML v1.0//EN
CALSCALE:GREGORIAN
METHOD:PUBLISH
X-WR-CALNAME:AV8MAPS.COM
X-ORIGINAL-URL:https://av8maps.com
X-WR-CALDESC:Events for AV8MAPS.COM
REFRESH-INTERVAL;VALUE=DURATION:PT1H
X-Robots-Tag:noindex
X-PUBLISHED-TTL:PT1H
BEGIN:VTIMEZONE
TZID:America/New_York
BEGIN:DAYLIGHT
TZOFFSETFROM:-0500
TZOFFSETTO:-0400
TZNAME:EDT
DTSTART:20250309T070000
END:DAYLIGHT
BEGIN:STANDARD
TZOFFSETFROM:-0400
TZOFFSETTO:-0500
TZNAME:EST
DTSTART:20251102T060000
END:STANDARD
BEGIN:DAYLIGHT
TZOFFSETFROM:-0500
TZOFFSETTO:-0400
TZNAME:EDT
DTSTART:20260308T070000
END:DAYLIGHT
BEGIN:STANDARD
TZOFFSETFROM:-0400
TZOFFSETTO:-0500
TZNAME:EST
DTSTART:20261101T060000
END:STANDARD
BEGIN:DAYLIGHT
TZOFFSETFROM:-0500
TZOFFSETTO:-0400
TZNAME:EDT
DTSTART:20270314T070000
END:DAYLIGHT
BEGIN:STANDARD
TZOFFSETFROM:-0400
TZOFFSETTO:-0500
TZNAME:EST
DTSTART:20271107T060000
END:STANDARD
END:VTIMEZONE
BEGIN:VEVENT
DTSTART;TZID=America/New_York:20260502T080000
DTEND;TZID=America/New_York:20260502T110000
DTSTAMP:20260423T005045
CREATED:20260412T184158Z
LAST-MODIFIED:20260412T184314Z
UID:10006564-1777708800-1777719600@av8maps.com
SUMMARY:Richfield Airport Fly-in Breakfast (KRIF)
DESCRIPTION:Join us in beautiful Central Utah\, for our spring Fly-In! \nAlways great food\, great company\, and always $5 bucks!!
URL:https://av8maps.com/event/richfield-airport-fly-in-breakfast-krif/2026-05-02/
LOCATION:Richfield Municipal Airport\, 1615 S Airport Rd\, Richfield\, UT\, 84701
ATTACH;FMTTYPE=image/jpeg:https://av8maps.com/wp-content/uploads/2026/04/Richfield-Airport-Fly-in-Breakfast-KRIF-e1776019266518.jpg
GEO:38.7449744;-112.0968201
X-APPLE-STRUCTURED-LOCATION;VALUE=URI;X-ADDRESS=Richfield Municipal Airport 1615 S Airport Rd Richfield UT 84701;X-APPLE-RADIUS=500;X-TITLE=1615 S Airport Rd:geo:-112.0968201,38.7449744
END:VEVENT
BEGIN:VEVENT
DTSTART;TZID=America/New_York:20260905T080000
DTEND;TZID=America/New_York:20260905T110000
DTSTAMP:20260423T005045
CREATED:20260412T184158Z
LAST-MODIFIED:20260412T184314Z
UID:10006565-1788595200-1788606000@av8maps.com
SUMMARY:Richfield Airport Fly-in Breakfast (KRIF)
DESCRIPTION:Join us in beautiful Central Utah\, for our spring Fly-In! \nAlways great food\, great company\, and always $5 bucks!!
URL:https://av8maps.com/event/richfield-airport-fly-in-breakfast-krif/2026-09-05/
LOCATION:Richfield Municipal Airport\, 1615 S Airport Rd\, Richfield\, UT\, 84701
ATTACH;FMTTYPE=image/jpeg:https://av8maps.com/wp-content/uploads/2026/04/Richfield-Airport-Fly-in-Breakfast-KRIF-e1776019266518.jpg
GEO:38.7449744;-112.0968201
X-APPLE-STRUCTURED-LOCATION;VALUE=URI;X-ADDRESS=Richfield Municipal Airport 1615 S Airport Rd Richfield UT 84701;X-APPLE-RADIUS=500;X-TITLE=1615 S Airport Rd:geo:-112.0968201,38.7449744
END:VEVENT
END:VCALENDAR