BEGIN:VCALENDAR
VERSION:2.0
PRODID:-//AV8MAPS.COM - ECPv6.15.20//NONSGML v1.0//EN
CALSCALE:GREGORIAN
METHOD:PUBLISH
X-WR-CALNAME:AV8MAPS.COM
X-ORIGINAL-URL:https://av8maps.com
X-WR-CALDESC:Events for AV8MAPS.COM
REFRESH-INTERVAL;VALUE=DURATION:PT1H
X-Robots-Tag:noindex
X-PUBLISHED-TTL:PT1H
BEGIN:VTIMEZONE
TZID:America/New_York
BEGIN:DAYLIGHT
TZOFFSETFROM:-0500
TZOFFSETTO:-0400
TZNAME:EDT
DTSTART:20250309T070000
END:DAYLIGHT
BEGIN:STANDARD
TZOFFSETFROM:-0400
TZOFFSETTO:-0500
TZNAME:EST
DTSTART:20251102T060000
END:STANDARD
BEGIN:DAYLIGHT
TZOFFSETFROM:-0500
TZOFFSETTO:-0400
TZNAME:EDT
DTSTART:20260308T070000
END:DAYLIGHT
BEGIN:STANDARD
TZOFFSETFROM:-0400
TZOFFSETTO:-0500
TZNAME:EST
DTSTART:20261101T060000
END:STANDARD
BEGIN:DAYLIGHT
TZOFFSETFROM:-0500
TZOFFSETTO:-0400
TZNAME:EDT
DTSTART:20270314T070000
END:DAYLIGHT
BEGIN:STANDARD
TZOFFSETFROM:-0400
TZOFFSETTO:-0500
TZNAME:EST
DTSTART:20271107T060000
END:STANDARD
BEGIN:DAYLIGHT
TZOFFSETFROM:-0500
TZOFFSETTO:-0400
TZNAME:EDT
DTSTART:20280312T070000
END:DAYLIGHT
BEGIN:STANDARD
TZOFFSETFROM:-0400
TZOFFSETTO:-0500
TZNAME:EST
DTSTART:20281105T060000
END:STANDARD
BEGIN:DAYLIGHT
TZOFFSETFROM:-0500
TZOFFSETTO:-0400
TZNAME:EDT
DTSTART:20290311T070000
END:DAYLIGHT
BEGIN:STANDARD
TZOFFSETFROM:-0400
TZOFFSETTO:-0500
TZNAME:EST
DTSTART:20291104T060000
END:STANDARD
BEGIN:DAYLIGHT
TZOFFSETFROM:-0500
TZOFFSETTO:-0400
TZNAME:EDT
DTSTART:20300310T070000
END:DAYLIGHT
BEGIN:STANDARD
TZOFFSETFROM:-0400
TZOFFSETTO:-0500
TZNAME:EST
DTSTART:20301103T060000
END:STANDARD
BEGIN:DAYLIGHT
TZOFFSETFROM:-0500
TZOFFSETTO:-0400
TZNAME:EDT
DTSTART:20310309T070000
END:DAYLIGHT
BEGIN:STANDARD
TZOFFSETFROM:-0400
TZOFFSETTO:-0500
TZNAME:EST
DTSTART:20311102T060000
END:STANDARD
END:VTIMEZONE
BEGIN:VEVENT
DTSTART;TZID=America/New_York:20260620T080000
DTEND;TZID=America/New_York:20260620T120000
DTSTAMP:20260423T075523
CREATED:20260412T185256Z
LAST-MODIFIED:20260412T185317Z
UID:10006566-1781942400-1781956800@av8maps.com
SUMMARY:Annual Fly-in (Y31)
DESCRIPTION: Don’t go out… Go up! \nLooking for a fun and meaningful way to experience history?\nTake a real airplane ride aboard the WWII transport aircraft C-47 “Hairless Joe” during an unforgettable Air Adventure.\nThe C-47 was built to carry troops and paratroopers during World War II\, but today\, it offers passengers a smooth\, scenic flight and a rare chance to fly in a historic aircraft that shaped aviation history.\nThis is a real flight in a real historic airplane.You’ll walk on\, buckle in\, and take off.\n Great for history lovers\, families\, aviation enthusiasts\, or anyone ready to try something unique\, memorable\, and completely out of the ordinary.\n See flight schedules & book your C-47 Air Adventure:
URL:https://av8maps.com/event/annual-fly-in-y31/2026-06-20/
LOCATION:West Branch Community Airport\, Horton Township\, MI\, 48661
ATTACH;FMTTYPE=image/jpeg:https://av8maps.com/wp-content/uploads/2026/04/Annual-Fly-in-Y31-e1776019951145.jpg
GEO:44.2477517;-84.1870829
END:VEVENT
BEGIN:VEVENT
DTSTART;TZID=America/New_York:20270619T080000
DTEND;TZID=America/New_York:20270619T120000
DTSTAMP:20260423T075523
CREATED:20260412T185256Z
LAST-MODIFIED:20260412T185317Z
UID:10006567-1813392000-1813406400@av8maps.com
SUMMARY:Annual Fly-in (Y31)
DESCRIPTION: Don’t go out… Go up! \nLooking for a fun and meaningful way to experience history?\nTake a real airplane ride aboard the WWII transport aircraft C-47 “Hairless Joe” during an unforgettable Air Adventure.\nThe C-47 was built to carry troops and paratroopers during World War II\, but today\, it offers passengers a smooth\, scenic flight and a rare chance to fly in a historic aircraft that shaped aviation history.\nThis is a real flight in a real historic airplane.You’ll walk on\, buckle in\, and take off.\n Great for history lovers\, families\, aviation enthusiasts\, or anyone ready to try something unique\, memorable\, and completely out of the ordinary.\n See flight schedules & book your C-47 Air Adventure:
URL:https://av8maps.com/event/annual-fly-in-y31/2027-06-19/
LOCATION:West Branch Community Airport\, Horton Township\, MI\, 48661
ATTACH;FMTTYPE=image/jpeg:https://av8maps.com/wp-content/uploads/2026/04/Annual-Fly-in-Y31-e1776019951145.jpg
GEO:44.2477517;-84.1870829
END:VEVENT
BEGIN:VEVENT
DTSTART;TZID=America/New_York:20280617T080000
DTEND;TZID=America/New_York:20280617T120000
DTSTAMP:20260423T075523
CREATED:20260412T185256Z
LAST-MODIFIED:20260412T185317Z
UID:10006568-1844841600-1844856000@av8maps.com
SUMMARY:Annual Fly-in (Y31)
DESCRIPTION: Don’t go out… Go up! \nLooking for a fun and meaningful way to experience history?\nTake a real airplane ride aboard the WWII transport aircraft C-47 “Hairless Joe” during an unforgettable Air Adventure.\nThe C-47 was built to carry troops and paratroopers during World War II\, but today\, it offers passengers a smooth\, scenic flight and a rare chance to fly in a historic aircraft that shaped aviation history.\nThis is a real flight in a real historic airplane.You’ll walk on\, buckle in\, and take off.\n Great for history lovers\, families\, aviation enthusiasts\, or anyone ready to try something unique\, memorable\, and completely out of the ordinary.\n See flight schedules & book your C-47 Air Adventure:
URL:https://av8maps.com/event/annual-fly-in-y31/2028-06-17/
LOCATION:West Branch Community Airport\, Horton Township\, MI\, 48661
ATTACH;FMTTYPE=image/jpeg:https://av8maps.com/wp-content/uploads/2026/04/Annual-Fly-in-Y31-e1776019951145.jpg
GEO:44.2477517;-84.1870829
END:VEVENT
BEGIN:VEVENT
DTSTART;TZID=America/New_York:20290616T080000
DTEND;TZID=America/New_York:20290616T120000
DTSTAMP:20260423T075523
CREATED:20260412T185256Z
LAST-MODIFIED:20260412T185317Z
UID:10006569-1876291200-1876305600@av8maps.com
SUMMARY:Annual Fly-in (Y31)
DESCRIPTION: Don’t go out… Go up! \nLooking for a fun and meaningful way to experience history?\nTake a real airplane ride aboard the WWII transport aircraft C-47 “Hairless Joe” during an unforgettable Air Adventure.\nThe C-47 was built to carry troops and paratroopers during World War II\, but today\, it offers passengers a smooth\, scenic flight and a rare chance to fly in a historic aircraft that shaped aviation history.\nThis is a real flight in a real historic airplane.You’ll walk on\, buckle in\, and take off.\n Great for history lovers\, families\, aviation enthusiasts\, or anyone ready to try something unique\, memorable\, and completely out of the ordinary.\n See flight schedules & book your C-47 Air Adventure:
URL:https://av8maps.com/event/annual-fly-in-y31/2029-06-16/
LOCATION:West Branch Community Airport\, Horton Township\, MI\, 48661
ATTACH;FMTTYPE=image/jpeg:https://av8maps.com/wp-content/uploads/2026/04/Annual-Fly-in-Y31-e1776019951145.jpg
GEO:44.2477517;-84.1870829
END:VEVENT
BEGIN:VEVENT
DTSTART;TZID=America/New_York:20300615T080000
DTEND;TZID=America/New_York:20300615T120000
DTSTAMP:20260423T075523
CREATED:20260412T185256Z
LAST-MODIFIED:20260412T185317Z
UID:10006570-1907740800-1907755200@av8maps.com
SUMMARY:Annual Fly-in (Y31)
DESCRIPTION: Don’t go out… Go up! \nLooking for a fun and meaningful way to experience history?\nTake a real airplane ride aboard the WWII transport aircraft C-47 “Hairless Joe” during an unforgettable Air Adventure.\nThe C-47 was built to carry troops and paratroopers during World War II\, but today\, it offers passengers a smooth\, scenic flight and a rare chance to fly in a historic aircraft that shaped aviation history.\nThis is a real flight in a real historic airplane.You’ll walk on\, buckle in\, and take off.\n Great for history lovers\, families\, aviation enthusiasts\, or anyone ready to try something unique\, memorable\, and completely out of the ordinary.\n See flight schedules & book your C-47 Air Adventure:
URL:https://av8maps.com/event/annual-fly-in-y31/2030-06-15/
LOCATION:West Branch Community Airport\, Horton Township\, MI\, 48661
ATTACH;FMTTYPE=image/jpeg:https://av8maps.com/wp-content/uploads/2026/04/Annual-Fly-in-Y31-e1776019951145.jpg
GEO:44.2477517;-84.1870829
END:VEVENT
END:VCALENDAR