BEGIN:VCALENDAR
VERSION:2.0
PRODID:-//AV8MAPS.COM - ECPv6.15.20//NONSGML v1.0//EN
CALSCALE:GREGORIAN
METHOD:PUBLISH
X-WR-CALNAME:AV8MAPS.COM
X-ORIGINAL-URL:https://av8maps.com
X-WR-CALDESC:Events for AV8MAPS.COM
REFRESH-INTERVAL;VALUE=DURATION:PT1H
X-Robots-Tag:noindex
X-PUBLISHED-TTL:PT1H
BEGIN:VTIMEZONE
TZID:America/New_York
BEGIN:DAYLIGHT
TZOFFSETFROM:-0500
TZOFFSETTO:-0400
TZNAME:EDT
DTSTART:20250309T070000
END:DAYLIGHT
BEGIN:STANDARD
TZOFFSETFROM:-0400
TZOFFSETTO:-0500
TZNAME:EST
DTSTART:20251102T060000
END:STANDARD
BEGIN:DAYLIGHT
TZOFFSETFROM:-0500
TZOFFSETTO:-0400
TZNAME:EDT
DTSTART:20260308T070000
END:DAYLIGHT
BEGIN:STANDARD
TZOFFSETFROM:-0400
TZOFFSETTO:-0500
TZNAME:EST
DTSTART:20261101T060000
END:STANDARD
BEGIN:DAYLIGHT
TZOFFSETFROM:-0500
TZOFFSETTO:-0400
TZNAME:EDT
DTSTART:20270314T070000
END:DAYLIGHT
BEGIN:STANDARD
TZOFFSETFROM:-0400
TZOFFSETTO:-0500
TZNAME:EST
DTSTART:20271107T060000
END:STANDARD
BEGIN:DAYLIGHT
TZOFFSETFROM:-0500
TZOFFSETTO:-0400
TZNAME:EDT
DTSTART:20280312T070000
END:DAYLIGHT
BEGIN:STANDARD
TZOFFSETFROM:-0400
TZOFFSETTO:-0500
TZNAME:EST
DTSTART:20281105T060000
END:STANDARD
BEGIN:DAYLIGHT
TZOFFSETFROM:-0500
TZOFFSETTO:-0400
TZNAME:EDT
DTSTART:20290311T070000
END:DAYLIGHT
BEGIN:STANDARD
TZOFFSETFROM:-0400
TZOFFSETTO:-0500
TZNAME:EST
DTSTART:20291104T060000
END:STANDARD
BEGIN:DAYLIGHT
TZOFFSETFROM:-0500
TZOFFSETTO:-0400
TZNAME:EDT
DTSTART:20300310T070000
END:DAYLIGHT
BEGIN:STANDARD
TZOFFSETFROM:-0400
TZOFFSETTO:-0500
TZNAME:EST
DTSTART:20301103T060000
END:STANDARD
BEGIN:DAYLIGHT
TZOFFSETFROM:-0500
TZOFFSETTO:-0400
TZNAME:EDT
DTSTART:20310309T070000
END:DAYLIGHT
BEGIN:STANDARD
TZOFFSETFROM:-0400
TZOFFSETTO:-0500
TZNAME:EST
DTSTART:20311102T060000
END:STANDARD
END:VTIMEZONE
BEGIN:VEVENT
DTSTART;TZID=America/New_York:20260606T090000
DTEND;TZID=America/New_York:20260606T170000
DTSTAMP:20260423T080515
CREATED:20260414T195755Z
LAST-MODIFIED:20260414T195929Z
UID:10006571-1780736400-1780765200@av8maps.com
SUMMARY:Paine Field Community Day (KPAE)
DESCRIPTION:Paine Field Community Day 2026 is returning on Saturday\, June 6. This beloved tradition at the Snohomish County-owned airport is back for a third year. This year’s event is proudly hosted by Paine Field Airport in partnership with the Paine Field Chapter of the Washington Pilots Association. We’re grateful for the outstanding support of Propeller Airports\, Alaska Airlines\, the Flying Heritage & Combat Armor Museum\, the Experimental Aircraft Association (EAA)\, EAA Chapter 84\, Cascade Warbirds and the Civil Air Patrol\, whose partnership helps make this community celebration possible. \nJoin us for a FREE youth-focused event filled with aviation education\, impressive aircraft displays\, military planes\, and delicious food vendors. \nDate: Saturday\, June 6\, 2026\nTime: 9 AM – 5 PM\nLocation: Paine Field Airport\nNO ON-SITE PARKING \nFREE PARKING with continuous shuttle to the event available at\n9902 24th Place West\, Everett\, WA 98204
URL:https://av8maps.com/event/paine-field-community-day-kpae/2026-06-06/
LOCATION:Paine Field Airport\, 3220 100th St SW\, Everett\, WA\, 98204
ATTACH;FMTTYPE=image/png:https://av8maps.com/wp-content/uploads/2026/04/Paine-Field-Community-Day--e1776196436281.png
GEO:47.9076198;-122.2777402
X-APPLE-STRUCTURED-LOCATION;VALUE=URI;X-ADDRESS=Paine Field Airport 3220 100th St SW Everett WA 98204;X-APPLE-RADIUS=500;X-TITLE=3220 100th St SW:geo:-122.2777402,47.9076198
END:VEVENT
BEGIN:VEVENT
DTSTART;TZID=America/New_York:20270605T090000
DTEND;TZID=America/New_York:20270605T170000
DTSTAMP:20260423T080515
CREATED:20260414T195755Z
LAST-MODIFIED:20260414T195929Z
UID:10006572-1812186000-1812214800@av8maps.com
SUMMARY:Paine Field Community Day (KPAE)
DESCRIPTION:Paine Field Community Day 2026 is returning on Saturday\, June 6. This beloved tradition at the Snohomish County-owned airport is back for a third year. This year’s event is proudly hosted by Paine Field Airport in partnership with the Paine Field Chapter of the Washington Pilots Association. We’re grateful for the outstanding support of Propeller Airports\, Alaska Airlines\, the Flying Heritage & Combat Armor Museum\, the Experimental Aircraft Association (EAA)\, EAA Chapter 84\, Cascade Warbirds and the Civil Air Patrol\, whose partnership helps make this community celebration possible. \nJoin us for a FREE youth-focused event filled with aviation education\, impressive aircraft displays\, military planes\, and delicious food vendors. \nDate: Saturday\, June 6\, 2026\nTime: 9 AM – 5 PM\nLocation: Paine Field Airport\nNO ON-SITE PARKING \nFREE PARKING with continuous shuttle to the event available at\n9902 24th Place West\, Everett\, WA 98204
URL:https://av8maps.com/event/paine-field-community-day-kpae/2027-06-05/
LOCATION:Paine Field Airport\, 3220 100th St SW\, Everett\, WA\, 98204
ATTACH;FMTTYPE=image/png:https://av8maps.com/wp-content/uploads/2026/04/Paine-Field-Community-Day--e1776196436281.png
GEO:47.9076198;-122.2777402
X-APPLE-STRUCTURED-LOCATION;VALUE=URI;X-ADDRESS=Paine Field Airport 3220 100th St SW Everett WA 98204;X-APPLE-RADIUS=500;X-TITLE=3220 100th St SW:geo:-122.2777402,47.9076198
END:VEVENT
BEGIN:VEVENT
DTSTART;TZID=America/New_York:20280603T090000
DTEND;TZID=America/New_York:20280603T170000
DTSTAMP:20260423T080515
CREATED:20260414T195755Z
LAST-MODIFIED:20260414T195929Z
UID:10006573-1843635600-1843664400@av8maps.com
SUMMARY:Paine Field Community Day (KPAE)
DESCRIPTION:Paine Field Community Day 2026 is returning on Saturday\, June 6. This beloved tradition at the Snohomish County-owned airport is back for a third year. This year’s event is proudly hosted by Paine Field Airport in partnership with the Paine Field Chapter of the Washington Pilots Association. We’re grateful for the outstanding support of Propeller Airports\, Alaska Airlines\, the Flying Heritage & Combat Armor Museum\, the Experimental Aircraft Association (EAA)\, EAA Chapter 84\, Cascade Warbirds and the Civil Air Patrol\, whose partnership helps make this community celebration possible. \nJoin us for a FREE youth-focused event filled with aviation education\, impressive aircraft displays\, military planes\, and delicious food vendors. \nDate: Saturday\, June 6\, 2026\nTime: 9 AM – 5 PM\nLocation: Paine Field Airport\nNO ON-SITE PARKING \nFREE PARKING with continuous shuttle to the event available at\n9902 24th Place West\, Everett\, WA 98204
URL:https://av8maps.com/event/paine-field-community-day-kpae/2028-06-03/
LOCATION:Paine Field Airport\, 3220 100th St SW\, Everett\, WA\, 98204
ATTACH;FMTTYPE=image/png:https://av8maps.com/wp-content/uploads/2026/04/Paine-Field-Community-Day--e1776196436281.png
GEO:47.9076198;-122.2777402
X-APPLE-STRUCTURED-LOCATION;VALUE=URI;X-ADDRESS=Paine Field Airport 3220 100th St SW Everett WA 98204;X-APPLE-RADIUS=500;X-TITLE=3220 100th St SW:geo:-122.2777402,47.9076198
END:VEVENT
BEGIN:VEVENT
DTSTART;TZID=America/New_York:20290602T090000
DTEND;TZID=America/New_York:20290602T170000
DTSTAMP:20260423T080515
CREATED:20260414T195755Z
LAST-MODIFIED:20260414T195929Z
UID:10006574-1875085200-1875114000@av8maps.com
SUMMARY:Paine Field Community Day (KPAE)
DESCRIPTION:Paine Field Community Day 2026 is returning on Saturday\, June 6. This beloved tradition at the Snohomish County-owned airport is back for a third year. This year’s event is proudly hosted by Paine Field Airport in partnership with the Paine Field Chapter of the Washington Pilots Association. We’re grateful for the outstanding support of Propeller Airports\, Alaska Airlines\, the Flying Heritage & Combat Armor Museum\, the Experimental Aircraft Association (EAA)\, EAA Chapter 84\, Cascade Warbirds and the Civil Air Patrol\, whose partnership helps make this community celebration possible. \nJoin us for a FREE youth-focused event filled with aviation education\, impressive aircraft displays\, military planes\, and delicious food vendors. \nDate: Saturday\, June 6\, 2026\nTime: 9 AM – 5 PM\nLocation: Paine Field Airport\nNO ON-SITE PARKING \nFREE PARKING with continuous shuttle to the event available at\n9902 24th Place West\, Everett\, WA 98204
URL:https://av8maps.com/event/paine-field-community-day-kpae/2029-06-02/
LOCATION:Paine Field Airport\, 3220 100th St SW\, Everett\, WA\, 98204
ATTACH;FMTTYPE=image/png:https://av8maps.com/wp-content/uploads/2026/04/Paine-Field-Community-Day--e1776196436281.png
GEO:47.9076198;-122.2777402
X-APPLE-STRUCTURED-LOCATION;VALUE=URI;X-ADDRESS=Paine Field Airport 3220 100th St SW Everett WA 98204;X-APPLE-RADIUS=500;X-TITLE=3220 100th St SW:geo:-122.2777402,47.9076198
END:VEVENT
BEGIN:VEVENT
DTSTART;TZID=America/New_York:20300601T090000
DTEND;TZID=America/New_York:20300601T170000
DTSTAMP:20260423T080515
CREATED:20260414T195755Z
LAST-MODIFIED:20260414T195929Z
UID:10006575-1906534800-1906563600@av8maps.com
SUMMARY:Paine Field Community Day (KPAE)
DESCRIPTION:Paine Field Community Day 2026 is returning on Saturday\, June 6. This beloved tradition at the Snohomish County-owned airport is back for a third year. This year’s event is proudly hosted by Paine Field Airport in partnership with the Paine Field Chapter of the Washington Pilots Association. We’re grateful for the outstanding support of Propeller Airports\, Alaska Airlines\, the Flying Heritage & Combat Armor Museum\, the Experimental Aircraft Association (EAA)\, EAA Chapter 84\, Cascade Warbirds and the Civil Air Patrol\, whose partnership helps make this community celebration possible. \nJoin us for a FREE youth-focused event filled with aviation education\, impressive aircraft displays\, military planes\, and delicious food vendors. \nDate: Saturday\, June 6\, 2026\nTime: 9 AM – 5 PM\nLocation: Paine Field Airport\nNO ON-SITE PARKING \nFREE PARKING with continuous shuttle to the event available at\n9902 24th Place West\, Everett\, WA 98204
URL:https://av8maps.com/event/paine-field-community-day-kpae/2030-06-01/
LOCATION:Paine Field Airport\, 3220 100th St SW\, Everett\, WA\, 98204
ATTACH;FMTTYPE=image/png:https://av8maps.com/wp-content/uploads/2026/04/Paine-Field-Community-Day--e1776196436281.png
GEO:47.9076198;-122.2777402
X-APPLE-STRUCTURED-LOCATION;VALUE=URI;X-ADDRESS=Paine Field Airport 3220 100th St SW Everett WA 98204;X-APPLE-RADIUS=500;X-TITLE=3220 100th St SW:geo:-122.2777402,47.9076198
END:VEVENT
END:VCALENDAR