BEGIN:VCALENDAR
VERSION:2.0
PRODID:-//AV8MAPS.COM - ECPv6.15.20//NONSGML v1.0//EN
CALSCALE:GREGORIAN
METHOD:PUBLISH
X-WR-CALNAME:AV8MAPS.COM
X-ORIGINAL-URL:https://av8maps.com
X-WR-CALDESC:Events for AV8MAPS.COM
REFRESH-INTERVAL;VALUE=DURATION:PT1H
X-Robots-Tag:noindex
X-PUBLISHED-TTL:PT1H
BEGIN:VTIMEZONE
TZID:America/New_York
BEGIN:DAYLIGHT
TZOFFSETFROM:-0500
TZOFFSETTO:-0400
TZNAME:EDT
DTSTART:20250309T070000
END:DAYLIGHT
BEGIN:STANDARD
TZOFFSETFROM:-0400
TZOFFSETTO:-0500
TZNAME:EST
DTSTART:20251102T060000
END:STANDARD
BEGIN:DAYLIGHT
TZOFFSETFROM:-0500
TZOFFSETTO:-0400
TZNAME:EDT
DTSTART:20260308T070000
END:DAYLIGHT
BEGIN:STANDARD
TZOFFSETFROM:-0400
TZOFFSETTO:-0500
TZNAME:EST
DTSTART:20261101T060000
END:STANDARD
BEGIN:DAYLIGHT
TZOFFSETFROM:-0500
TZOFFSETTO:-0400
TZNAME:EDT
DTSTART:20270314T070000
END:DAYLIGHT
BEGIN:STANDARD
TZOFFSETFROM:-0400
TZOFFSETTO:-0500
TZNAME:EST
DTSTART:20271107T060000
END:STANDARD
BEGIN:DAYLIGHT
TZOFFSETFROM:-0500
TZOFFSETTO:-0400
TZNAME:EDT
DTSTART:20280312T070000
END:DAYLIGHT
BEGIN:STANDARD
TZOFFSETFROM:-0400
TZOFFSETTO:-0500
TZNAME:EST
DTSTART:20281105T060000
END:STANDARD
BEGIN:DAYLIGHT
TZOFFSETFROM:-0500
TZOFFSETTO:-0400
TZNAME:EDT
DTSTART:20290311T070000
END:DAYLIGHT
BEGIN:STANDARD
TZOFFSETFROM:-0400
TZOFFSETTO:-0500
TZNAME:EST
DTSTART:20291104T060000
END:STANDARD
BEGIN:DAYLIGHT
TZOFFSETFROM:-0500
TZOFFSETTO:-0400
TZNAME:EDT
DTSTART:20300310T070000
END:DAYLIGHT
BEGIN:STANDARD
TZOFFSETFROM:-0400
TZOFFSETTO:-0500
TZNAME:EST
DTSTART:20301103T060000
END:STANDARD
BEGIN:DAYLIGHT
TZOFFSETFROM:-0500
TZOFFSETTO:-0400
TZNAME:EDT
DTSTART:20310309T070000
END:DAYLIGHT
BEGIN:STANDARD
TZOFFSETFROM:-0400
TZOFFSETTO:-0500
TZNAME:EST
DTSTART:20311102T060000
END:STANDARD
END:VTIMEZONE
BEGIN:VEVENT
DTSTART;TZID=America/New_York:20260501T000000
DTEND;TZID=America/New_York:20260503T235959
DTSTAMP:20260422T232609
CREATED:20260416T132906Z
LAST-MODIFIED:20260416T132906Z
UID:10006588-1777593600-1777852799@av8maps.com
SUMMARY:The Great Annual Sedona Fly-in (KSEZ)
DESCRIPTION:The Sedona Airport is hosting the annual “Great Sedona Fly-In” on May 1st to the 3rd. \nFly to Sedona and enjoy the spring weather while earning Wings Credits at five great sessions!
URL:https://av8maps.com/event/the-great-annual-sedona-fly-in-ksez/2026-05-01/
LOCATION:Sedona Airport\, 235 Air Terminal Dr\, Sedona\, AZ\, 86336
ATTACH;FMTTYPE=image/jpeg:https://av8maps.com/wp-content/uploads/2026/04/The-Great-Sedona-FLy-in-KSEZ-e1776346131150.jpg
GEO:34.8521259;-111.7862691
X-APPLE-STRUCTURED-LOCATION;VALUE=URI;X-ADDRESS=Sedona Airport 235 Air Terminal Dr Sedona AZ 86336;X-APPLE-RADIUS=500;X-TITLE=235 Air Terminal Dr:geo:-111.7862691,34.8521259
END:VEVENT
BEGIN:VEVENT
DTSTART;TZID=America/New_York:20270507T000000
DTEND;TZID=America/New_York:20270509T235959
DTSTAMP:20260422T232609
CREATED:20260416T132906Z
LAST-MODIFIED:20260416T132906Z
UID:10006589-1809648000-1809907199@av8maps.com
SUMMARY:The Great Annual Sedona Fly-in (KSEZ)
DESCRIPTION:The Sedona Airport is hosting the annual “Great Sedona Fly-In” on May 1st to the 3rd. \nFly to Sedona and enjoy the spring weather while earning Wings Credits at five great sessions!
URL:https://av8maps.com/event/the-great-annual-sedona-fly-in-ksez/2027-05-07/
LOCATION:Sedona Airport\, 235 Air Terminal Dr\, Sedona\, AZ\, 86336
ATTACH;FMTTYPE=image/jpeg:https://av8maps.com/wp-content/uploads/2026/04/The-Great-Sedona-FLy-in-KSEZ-e1776346131150.jpg
GEO:34.8521259;-111.7862691
X-APPLE-STRUCTURED-LOCATION;VALUE=URI;X-ADDRESS=Sedona Airport 235 Air Terminal Dr Sedona AZ 86336;X-APPLE-RADIUS=500;X-TITLE=235 Air Terminal Dr:geo:-111.7862691,34.8521259
END:VEVENT
BEGIN:VEVENT
DTSTART;TZID=America/New_York:20280505T000000
DTEND;TZID=America/New_York:20280507T235959
DTSTAMP:20260422T232609
CREATED:20260416T132906Z
LAST-MODIFIED:20260416T132906Z
UID:10006590-1841097600-1841356799@av8maps.com
SUMMARY:The Great Annual Sedona Fly-in (KSEZ)
DESCRIPTION:The Sedona Airport is hosting the annual “Great Sedona Fly-In” on May 1st to the 3rd. \nFly to Sedona and enjoy the spring weather while earning Wings Credits at five great sessions!
URL:https://av8maps.com/event/the-great-annual-sedona-fly-in-ksez/2028-05-05/
LOCATION:Sedona Airport\, 235 Air Terminal Dr\, Sedona\, AZ\, 86336
ATTACH;FMTTYPE=image/jpeg:https://av8maps.com/wp-content/uploads/2026/04/The-Great-Sedona-FLy-in-KSEZ-e1776346131150.jpg
GEO:34.8521259;-111.7862691
X-APPLE-STRUCTURED-LOCATION;VALUE=URI;X-ADDRESS=Sedona Airport 235 Air Terminal Dr Sedona AZ 86336;X-APPLE-RADIUS=500;X-TITLE=235 Air Terminal Dr:geo:-111.7862691,34.8521259
END:VEVENT
BEGIN:VEVENT
DTSTART;TZID=America/New_York:20290504T000000
DTEND;TZID=America/New_York:20290506T235959
DTSTAMP:20260422T232609
CREATED:20260416T132906Z
LAST-MODIFIED:20260416T132906Z
UID:10006591-1872547200-1872806399@av8maps.com
SUMMARY:The Great Annual Sedona Fly-in (KSEZ)
DESCRIPTION:The Sedona Airport is hosting the annual “Great Sedona Fly-In” on May 1st to the 3rd. \nFly to Sedona and enjoy the spring weather while earning Wings Credits at five great sessions!
URL:https://av8maps.com/event/the-great-annual-sedona-fly-in-ksez/2029-05-04/
LOCATION:Sedona Airport\, 235 Air Terminal Dr\, Sedona\, AZ\, 86336
ATTACH;FMTTYPE=image/jpeg:https://av8maps.com/wp-content/uploads/2026/04/The-Great-Sedona-FLy-in-KSEZ-e1776346131150.jpg
GEO:34.8521259;-111.7862691
X-APPLE-STRUCTURED-LOCATION;VALUE=URI;X-ADDRESS=Sedona Airport 235 Air Terminal Dr Sedona AZ 86336;X-APPLE-RADIUS=500;X-TITLE=235 Air Terminal Dr:geo:-111.7862691,34.8521259
END:VEVENT
BEGIN:VEVENT
DTSTART;TZID=America/New_York:20300503T000000
DTEND;TZID=America/New_York:20300505T235959
DTSTAMP:20260422T232609
CREATED:20260416T132906Z
LAST-MODIFIED:20260416T132906Z
UID:10006592-1903996800-1904255999@av8maps.com
SUMMARY:The Great Annual Sedona Fly-in (KSEZ)
DESCRIPTION:The Sedona Airport is hosting the annual “Great Sedona Fly-In” on May 1st to the 3rd. \nFly to Sedona and enjoy the spring weather while earning Wings Credits at five great sessions!
URL:https://av8maps.com/event/the-great-annual-sedona-fly-in-ksez/2030-05-03/
LOCATION:Sedona Airport\, 235 Air Terminal Dr\, Sedona\, AZ\, 86336
ATTACH;FMTTYPE=image/jpeg:https://av8maps.com/wp-content/uploads/2026/04/The-Great-Sedona-FLy-in-KSEZ-e1776346131150.jpg
GEO:34.8521259;-111.7862691
X-APPLE-STRUCTURED-LOCATION;VALUE=URI;X-ADDRESS=Sedona Airport 235 Air Terminal Dr Sedona AZ 86336;X-APPLE-RADIUS=500;X-TITLE=235 Air Terminal Dr:geo:-111.7862691,34.8521259
END:VEVENT
END:VCALENDAR