BEGIN:VCALENDAR
VERSION:2.0
PRODID:-//AV8MAPS.COM - ECPv6.15.20//NONSGML v1.0//EN
CALSCALE:GREGORIAN
METHOD:PUBLISH
X-WR-CALNAME:AV8MAPS.COM
X-ORIGINAL-URL:https://av8maps.com
X-WR-CALDESC:Events for AV8MAPS.COM
REFRESH-INTERVAL;VALUE=DURATION:PT1H
X-Robots-Tag:noindex
X-PUBLISHED-TTL:PT1H
BEGIN:VTIMEZONE
TZID:America/New_York
BEGIN:DAYLIGHT
TZOFFSETFROM:-0500
TZOFFSETTO:-0400
TZNAME:EDT
DTSTART:20250309T070000
END:DAYLIGHT
BEGIN:STANDARD
TZOFFSETFROM:-0400
TZOFFSETTO:-0500
TZNAME:EST
DTSTART:20251102T060000
END:STANDARD
BEGIN:DAYLIGHT
TZOFFSETFROM:-0500
TZOFFSETTO:-0400
TZNAME:EDT
DTSTART:20260308T070000
END:DAYLIGHT
BEGIN:STANDARD
TZOFFSETFROM:-0400
TZOFFSETTO:-0500
TZNAME:EST
DTSTART:20261101T060000
END:STANDARD
BEGIN:DAYLIGHT
TZOFFSETFROM:-0500
TZOFFSETTO:-0400
TZNAME:EDT
DTSTART:20270314T070000
END:DAYLIGHT
BEGIN:STANDARD
TZOFFSETFROM:-0400
TZOFFSETTO:-0500
TZNAME:EST
DTSTART:20271107T060000
END:STANDARD
END:VTIMEZONE
BEGIN:VEVENT
DTSTART;TZID=America/New_York:20260503T110000
DTEND;TZID=America/New_York:20260503T140000
DTSTAMP:20260423T075217
CREATED:20260416T140724Z
LAST-MODIFIED:20260416T141950Z
UID:10006594-1777806000-1777816800@av8maps.com
SUMMARY:Monthly Sunday Funday Fly-in's at The Runway Ristorante (KFKL)
DESCRIPTION:Excited to announce the dates for our 2026 Season of Fly-Ins and Car Cruises!\n\n\nMark your calendars\, we’ll see you at The Runway for family fun all Summer long!
URL:https://av8maps.com/event/monthly-sunday-funday-fly-ins-at-the-runway-ristorante-kfkl/2026-05-03/
LOCATION:Venango Regional Airport\, 1560 Airport Rd\, Franklin\, PA\, 16323
ATTACH;FMTTYPE=image/jpeg:https://av8maps.com/wp-content/uploads/2026/04/The-Runway-Ristorantie-Flyins-KFKL-e1776348035416.jpg
GEO:41.3758591;-79.8610082
X-APPLE-STRUCTURED-LOCATION;VALUE=URI;X-ADDRESS=Venango Regional Airport 1560 Airport Rd Franklin PA 16323;X-APPLE-RADIUS=500;X-TITLE=1560 Airport Rd:geo:-79.8610082,41.3758591
END:VEVENT
BEGIN:VEVENT
DTSTART;TZID=America/New_York:20260517T110000
DTEND;TZID=America/New_York:20260517T140000
DTSTAMP:20260423T075217
CREATED:20260416T140724Z
LAST-MODIFIED:20260416T141950Z
UID:10006595-1779015600-1779026400@av8maps.com
SUMMARY:Monthly Sunday Funday Fly-in's at The Runway Ristorante (KFKL)
DESCRIPTION:Excited to announce the dates for our 2026 Season of Fly-Ins and Car Cruises!\n\n\nMark your calendars\, we’ll see you at The Runway for family fun all Summer long!
URL:https://av8maps.com/event/monthly-sunday-funday-fly-ins-at-the-runway-ristorante-kfkl/2026-05-17/
LOCATION:Venango Regional Airport\, 1560 Airport Rd\, Franklin\, PA\, 16323
ATTACH;FMTTYPE=image/jpeg:https://av8maps.com/wp-content/uploads/2026/04/The-Runway-Ristorantie-Flyins-KFKL-e1776348035416.jpg
GEO:41.3758591;-79.8610082
X-APPLE-STRUCTURED-LOCATION;VALUE=URI;X-ADDRESS=Venango Regional Airport 1560 Airport Rd Franklin PA 16323;X-APPLE-RADIUS=500;X-TITLE=1560 Airport Rd:geo:-79.8610082,41.3758591
END:VEVENT
BEGIN:VEVENT
DTSTART;TZID=America/New_York:20260531T110000
DTEND;TZID=America/New_York:20260531T140000
DTSTAMP:20260423T075217
CREATED:20260416T140724Z
LAST-MODIFIED:20260416T141950Z
UID:10006596-1780225200-1780236000@av8maps.com
SUMMARY:Monthly Sunday Funday Fly-in's at The Runway Ristorante (KFKL)
DESCRIPTION:Excited to announce the dates for our 2026 Season of Fly-Ins and Car Cruises!\n\n\nMark your calendars\, we’ll see you at The Runway for family fun all Summer long!
URL:https://av8maps.com/event/monthly-sunday-funday-fly-ins-at-the-runway-ristorante-kfkl/2026-05-31/
LOCATION:Venango Regional Airport\, 1560 Airport Rd\, Franklin\, PA\, 16323
ATTACH;FMTTYPE=image/jpeg:https://av8maps.com/wp-content/uploads/2026/04/The-Runway-Ristorantie-Flyins-KFKL-e1776348035416.jpg
GEO:41.3758591;-79.8610082
X-APPLE-STRUCTURED-LOCATION;VALUE=URI;X-ADDRESS=Venango Regional Airport 1560 Airport Rd Franklin PA 16323;X-APPLE-RADIUS=500;X-TITLE=1560 Airport Rd:geo:-79.8610082,41.3758591
END:VEVENT
BEGIN:VEVENT
DTSTART;TZID=America/New_York:20260614T110000
DTEND;TZID=America/New_York:20260614T140000
DTSTAMP:20260423T075217
CREATED:20260416T140724Z
LAST-MODIFIED:20260416T141950Z
UID:10006597-1781434800-1781445600@av8maps.com
SUMMARY:Monthly Sunday Funday Fly-in's at The Runway Ristorante (KFKL)
DESCRIPTION:Excited to announce the dates for our 2026 Season of Fly-Ins and Car Cruises!\n\n\nMark your calendars\, we’ll see you at The Runway for family fun all Summer long!
URL:https://av8maps.com/event/monthly-sunday-funday-fly-ins-at-the-runway-ristorante-kfkl/2026-06-14/
LOCATION:Venango Regional Airport\, 1560 Airport Rd\, Franklin\, PA\, 16323
ATTACH;FMTTYPE=image/jpeg:https://av8maps.com/wp-content/uploads/2026/04/The-Runway-Ristorantie-Flyins-KFKL-e1776348035416.jpg
GEO:41.3758591;-79.8610082
X-APPLE-STRUCTURED-LOCATION;VALUE=URI;X-ADDRESS=Venango Regional Airport 1560 Airport Rd Franklin PA 16323;X-APPLE-RADIUS=500;X-TITLE=1560 Airport Rd:geo:-79.8610082,41.3758591
END:VEVENT
BEGIN:VEVENT
DTSTART;TZID=America/New_York:20260628T110000
DTEND;TZID=America/New_York:20260628T140000
DTSTAMP:20260423T075217
CREATED:20260416T140724Z
LAST-MODIFIED:20260416T141950Z
UID:10006598-1782644400-1782655200@av8maps.com
SUMMARY:Monthly Sunday Funday Fly-in's at The Runway Ristorante (KFKL)
DESCRIPTION:Excited to announce the dates for our 2026 Season of Fly-Ins and Car Cruises!\n\n\nMark your calendars\, we’ll see you at The Runway for family fun all Summer long!
URL:https://av8maps.com/event/monthly-sunday-funday-fly-ins-at-the-runway-ristorante-kfkl/2026-06-28/
LOCATION:Venango Regional Airport\, 1560 Airport Rd\, Franklin\, PA\, 16323
ATTACH;FMTTYPE=image/jpeg:https://av8maps.com/wp-content/uploads/2026/04/The-Runway-Ristorantie-Flyins-KFKL-e1776348035416.jpg
GEO:41.3758591;-79.8610082
X-APPLE-STRUCTURED-LOCATION;VALUE=URI;X-ADDRESS=Venango Regional Airport 1560 Airport Rd Franklin PA 16323;X-APPLE-RADIUS=500;X-TITLE=1560 Airport Rd:geo:-79.8610082,41.3758591
END:VEVENT
BEGIN:VEVENT
DTSTART;TZID=America/New_York:20260712T110000
DTEND;TZID=America/New_York:20260712T140000
DTSTAMP:20260423T075217
CREATED:20260416T140724Z
LAST-MODIFIED:20260416T141950Z
UID:10006599-1783854000-1783864800@av8maps.com
SUMMARY:Monthly Sunday Funday Fly-in's at The Runway Ristorante (KFKL)
DESCRIPTION:Excited to announce the dates for our 2026 Season of Fly-Ins and Car Cruises!\n\n\nMark your calendars\, we’ll see you at The Runway for family fun all Summer long!
URL:https://av8maps.com/event/monthly-sunday-funday-fly-ins-at-the-runway-ristorante-kfkl/2026-07-12/
LOCATION:Venango Regional Airport\, 1560 Airport Rd\, Franklin\, PA\, 16323
ATTACH;FMTTYPE=image/jpeg:https://av8maps.com/wp-content/uploads/2026/04/The-Runway-Ristorantie-Flyins-KFKL-e1776348035416.jpg
GEO:41.3758591;-79.8610082
X-APPLE-STRUCTURED-LOCATION;VALUE=URI;X-ADDRESS=Venango Regional Airport 1560 Airport Rd Franklin PA 16323;X-APPLE-RADIUS=500;X-TITLE=1560 Airport Rd:geo:-79.8610082,41.3758591
END:VEVENT
BEGIN:VEVENT
DTSTART;TZID=America/New_York:20260726T110000
DTEND;TZID=America/New_York:20260726T140000
DTSTAMP:20260423T075217
CREATED:20260416T140724Z
LAST-MODIFIED:20260416T141950Z
UID:10006600-1785063600-1785074400@av8maps.com
SUMMARY:Monthly Sunday Funday Fly-in's at The Runway Ristorante (KFKL)
DESCRIPTION:Excited to announce the dates for our 2026 Season of Fly-Ins and Car Cruises!\n\n\nMark your calendars\, we’ll see you at The Runway for family fun all Summer long!
URL:https://av8maps.com/event/monthly-sunday-funday-fly-ins-at-the-runway-ristorante-kfkl/2026-07-26/
LOCATION:Venango Regional Airport\, 1560 Airport Rd\, Franklin\, PA\, 16323
ATTACH;FMTTYPE=image/jpeg:https://av8maps.com/wp-content/uploads/2026/04/The-Runway-Ristorantie-Flyins-KFKL-e1776348035416.jpg
GEO:41.3758591;-79.8610082
X-APPLE-STRUCTURED-LOCATION;VALUE=URI;X-ADDRESS=Venango Regional Airport 1560 Airport Rd Franklin PA 16323;X-APPLE-RADIUS=500;X-TITLE=1560 Airport Rd:geo:-79.8610082,41.3758591
END:VEVENT
BEGIN:VEVENT
DTSTART;TZID=America/New_York:20260816T110000
DTEND;TZID=America/New_York:20260816T140000
DTSTAMP:20260423T075217
CREATED:20260416T140724Z
LAST-MODIFIED:20260416T141950Z
UID:10006601-1786878000-1786888800@av8maps.com
SUMMARY:Monthly Sunday Funday Fly-in's at The Runway Ristorante (KFKL)
DESCRIPTION:Excited to announce the dates for our 2026 Season of Fly-Ins and Car Cruises!\n\n\nMark your calendars\, we’ll see you at The Runway for family fun all Summer long!
URL:https://av8maps.com/event/monthly-sunday-funday-fly-ins-at-the-runway-ristorante-kfkl/2026-08-16/
LOCATION:Venango Regional Airport\, 1560 Airport Rd\, Franklin\, PA\, 16323
ATTACH;FMTTYPE=image/jpeg:https://av8maps.com/wp-content/uploads/2026/04/The-Runway-Ristorantie-Flyins-KFKL-e1776348035416.jpg
GEO:41.3758591;-79.8610082
X-APPLE-STRUCTURED-LOCATION;VALUE=URI;X-ADDRESS=Venango Regional Airport 1560 Airport Rd Franklin PA 16323;X-APPLE-RADIUS=500;X-TITLE=1560 Airport Rd:geo:-79.8610082,41.3758591
END:VEVENT
BEGIN:VEVENT
DTSTART;TZID=America/New_York:20260830T110000
DTEND;TZID=America/New_York:20260830T140000
DTSTAMP:20260423T075217
CREATED:20260416T140724Z
LAST-MODIFIED:20260416T141950Z
UID:10006602-1788087600-1788098400@av8maps.com
SUMMARY:Monthly Sunday Funday Fly-in's at The Runway Ristorante (KFKL)
DESCRIPTION:Excited to announce the dates for our 2026 Season of Fly-Ins and Car Cruises!\n\n\nMark your calendars\, we’ll see you at The Runway for family fun all Summer long!
URL:https://av8maps.com/event/monthly-sunday-funday-fly-ins-at-the-runway-ristorante-kfkl/2026-08-30/
LOCATION:Venango Regional Airport\, 1560 Airport Rd\, Franklin\, PA\, 16323
ATTACH;FMTTYPE=image/jpeg:https://av8maps.com/wp-content/uploads/2026/04/The-Runway-Ristorantie-Flyins-KFKL-e1776348035416.jpg
GEO:41.3758591;-79.8610082
X-APPLE-STRUCTURED-LOCATION;VALUE=URI;X-ADDRESS=Venango Regional Airport 1560 Airport Rd Franklin PA 16323;X-APPLE-RADIUS=500;X-TITLE=1560 Airport Rd:geo:-79.8610082,41.3758591
END:VEVENT
END:VCALENDAR