BEGIN:VCALENDAR
VERSION:2.0
PRODID:-//AV8MAPS.COM - ECPv6.15.20//NONSGML v1.0//EN
CALSCALE:GREGORIAN
METHOD:PUBLISH
X-WR-CALNAME:AV8MAPS.COM
X-ORIGINAL-URL:https://av8maps.com
X-WR-CALDESC:Events for AV8MAPS.COM
REFRESH-INTERVAL;VALUE=DURATION:PT1H
X-Robots-Tag:noindex
X-PUBLISHED-TTL:PT1H
BEGIN:VTIMEZONE
TZID:America/New_York
BEGIN:DAYLIGHT
TZOFFSETFROM:-0500
TZOFFSETTO:-0400
TZNAME:EDT
DTSTART:20250309T070000
END:DAYLIGHT
BEGIN:STANDARD
TZOFFSETFROM:-0400
TZOFFSETTO:-0500
TZNAME:EST
DTSTART:20251102T060000
END:STANDARD
BEGIN:DAYLIGHT
TZOFFSETFROM:-0500
TZOFFSETTO:-0400
TZNAME:EDT
DTSTART:20260308T070000
END:DAYLIGHT
BEGIN:STANDARD
TZOFFSETFROM:-0400
TZOFFSETTO:-0500
TZNAME:EST
DTSTART:20261101T060000
END:STANDARD
BEGIN:DAYLIGHT
TZOFFSETFROM:-0500
TZOFFSETTO:-0400
TZNAME:EDT
DTSTART:20270314T070000
END:DAYLIGHT
BEGIN:STANDARD
TZOFFSETFROM:-0400
TZOFFSETTO:-0500
TZNAME:EST
DTSTART:20271107T060000
END:STANDARD
BEGIN:DAYLIGHT
TZOFFSETFROM:-0500
TZOFFSETTO:-0400
TZNAME:EDT
DTSTART:20280312T070000
END:DAYLIGHT
BEGIN:STANDARD
TZOFFSETFROM:-0400
TZOFFSETTO:-0500
TZNAME:EST
DTSTART:20281105T060000
END:STANDARD
BEGIN:DAYLIGHT
TZOFFSETFROM:-0500
TZOFFSETTO:-0400
TZNAME:EDT
DTSTART:20290311T070000
END:DAYLIGHT
BEGIN:STANDARD
TZOFFSETFROM:-0400
TZOFFSETTO:-0500
TZNAME:EST
DTSTART:20291104T060000
END:STANDARD
BEGIN:DAYLIGHT
TZOFFSETFROM:-0500
TZOFFSETTO:-0400
TZNAME:EDT
DTSTART:20300310T070000
END:DAYLIGHT
BEGIN:STANDARD
TZOFFSETFROM:-0400
TZOFFSETTO:-0500
TZNAME:EST
DTSTART:20301103T060000
END:STANDARD
BEGIN:DAYLIGHT
TZOFFSETFROM:-0500
TZOFFSETTO:-0400
TZNAME:EDT
DTSTART:20310309T070000
END:DAYLIGHT
BEGIN:STANDARD
TZOFFSETFROM:-0400
TZOFFSETTO:-0500
TZNAME:EST
DTSTART:20311102T060000
END:STANDARD
END:VTIMEZONE
BEGIN:VEVENT
DTSTART;TZID=America/New_York:20260515T090000
DTEND;TZID=America/New_York:20260517T140000
DTSTAMP:20260423T063149
CREATED:20251028T104804Z
LAST-MODIFIED:20251120T205652Z
UID:10001071-1778835600-1779026400@av8maps.com
SUMMARY:The Annual Flying Horseman Fly In (VG16)
DESCRIPTION:The Sixth Annual Flying Horseman Ranch Fly In!\nWe will be hosting 2026’s event on May 15-17. Please feel free to arrive any time on or before the 19th but if you are early we may put you to work. 🙂\nLast years event was a blast and we are looking forward to another great event and again growing it even bigger. We need to say thank you to all of you for treating our home as if it were your own and keeping it clean.\nSame runway info as before. Land to the north on 35\, take off to the south on 17. Make sure to make radio calls and listen out for the air boss. Our ground radios will pick you up out to about 10 miles so please start making calls and usually you can hear us at about 3 miles out. We will work with you for sequencing as needed and watch for ground marshellers to direct you to parking. Our runway is 1900 foot\, grass\, up hill for landing\, down for take off. Please shoot for your touch down point just after the first little roller.\nFor those that need a larger runway please head to MTV which is only 7 miles away and we will send someone over to pick you up either via aircraft or truck but we will get you to the Fly In.\nFor those that are camping we will have a ATV that can pick up your gear and bring it to the camping area if you would like. You are of course welcome to camp under your wing and even drive in campers are welcome.\nThe Menu in 2025 seemed to be a huge success so we will probably keep very close to that for 2026. The shaved ice team will be back again for 2026 and we will be hosting the Kelly Brady Memorial Movie Night.\nWe are also working on shirts for this year.\nCan’t wait to see you all back at the Ranch in 2026 and of course stop in any time before then and say hi!
URL:https://av8maps.com/event/the-sixth-annual-flying-horseman-fly-in/2026-05-15/
LOCATION:Landis Airpark\, 284 Scenic Dr\, Stuart\, FL\, 24171
ATTACH;FMTTYPE=image/jpeg:https://av8maps.com/wp-content/uploads/2025/10/IMG_0189.jpeg
GEO:36.622222;-80.1681072
X-APPLE-STRUCTURED-LOCATION;VALUE=URI;X-ADDRESS=Landis Airpark 284 Scenic Dr Stuart FL 24171;X-APPLE-RADIUS=500;X-TITLE=284 Scenic Dr:geo:-80.1681072,36.622222
END:VEVENT
BEGIN:VEVENT
DTSTART;TZID=America/New_York:20270521T090000
DTEND;TZID=America/New_York:20270523T140000
DTSTAMP:20260423T063149
CREATED:20251028T104804Z
LAST-MODIFIED:20251120T205652Z
UID:10001072-1810890000-1811080800@av8maps.com
SUMMARY:The Annual Flying Horseman Fly In (VG16)
DESCRIPTION:The Sixth Annual Flying Horseman Ranch Fly In!\nWe will be hosting 2026’s event on May 15-17. Please feel free to arrive any time on or before the 19th but if you are early we may put you to work. 🙂\nLast years event was a blast and we are looking forward to another great event and again growing it even bigger. We need to say thank you to all of you for treating our home as if it were your own and keeping it clean.\nSame runway info as before. Land to the north on 35\, take off to the south on 17. Make sure to make radio calls and listen out for the air boss. Our ground radios will pick you up out to about 10 miles so please start making calls and usually you can hear us at about 3 miles out. We will work with you for sequencing as needed and watch for ground marshellers to direct you to parking. Our runway is 1900 foot\, grass\, up hill for landing\, down for take off. Please shoot for your touch down point just after the first little roller.\nFor those that need a larger runway please head to MTV which is only 7 miles away and we will send someone over to pick you up either via aircraft or truck but we will get you to the Fly In.\nFor those that are camping we will have a ATV that can pick up your gear and bring it to the camping area if you would like. You are of course welcome to camp under your wing and even drive in campers are welcome.\nThe Menu in 2025 seemed to be a huge success so we will probably keep very close to that for 2026. The shaved ice team will be back again for 2026 and we will be hosting the Kelly Brady Memorial Movie Night.\nWe are also working on shirts for this year.\nCan’t wait to see you all back at the Ranch in 2026 and of course stop in any time before then and say hi!
URL:https://av8maps.com/event/the-sixth-annual-flying-horseman-fly-in/2027-05-21/
LOCATION:Landis Airpark\, 284 Scenic Dr\, Stuart\, FL\, 24171
ATTACH;FMTTYPE=image/jpeg:https://av8maps.com/wp-content/uploads/2025/10/IMG_0189.jpeg
GEO:36.622222;-80.1681072
X-APPLE-STRUCTURED-LOCATION;VALUE=URI;X-ADDRESS=Landis Airpark 284 Scenic Dr Stuart FL 24171;X-APPLE-RADIUS=500;X-TITLE=284 Scenic Dr:geo:-80.1681072,36.622222
END:VEVENT
BEGIN:VEVENT
DTSTART;TZID=America/New_York:20280519T090000
DTEND;TZID=America/New_York:20280521T140000
DTSTAMP:20260423T063149
CREATED:20251028T104804Z
LAST-MODIFIED:20251120T205652Z
UID:10001073-1842339600-1842530400@av8maps.com
SUMMARY:The Annual Flying Horseman Fly In (VG16)
DESCRIPTION:The Sixth Annual Flying Horseman Ranch Fly In!\nWe will be hosting 2026’s event on May 15-17. Please feel free to arrive any time on or before the 19th but if you are early we may put you to work. 🙂\nLast years event was a blast and we are looking forward to another great event and again growing it even bigger. We need to say thank you to all of you for treating our home as if it were your own and keeping it clean.\nSame runway info as before. Land to the north on 35\, take off to the south on 17. Make sure to make radio calls and listen out for the air boss. Our ground radios will pick you up out to about 10 miles so please start making calls and usually you can hear us at about 3 miles out. We will work with you for sequencing as needed and watch for ground marshellers to direct you to parking. Our runway is 1900 foot\, grass\, up hill for landing\, down for take off. Please shoot for your touch down point just after the first little roller.\nFor those that need a larger runway please head to MTV which is only 7 miles away and we will send someone over to pick you up either via aircraft or truck but we will get you to the Fly In.\nFor those that are camping we will have a ATV that can pick up your gear and bring it to the camping area if you would like. You are of course welcome to camp under your wing and even drive in campers are welcome.\nThe Menu in 2025 seemed to be a huge success so we will probably keep very close to that for 2026. The shaved ice team will be back again for 2026 and we will be hosting the Kelly Brady Memorial Movie Night.\nWe are also working on shirts for this year.\nCan’t wait to see you all back at the Ranch in 2026 and of course stop in any time before then and say hi!
URL:https://av8maps.com/event/the-sixth-annual-flying-horseman-fly-in/2028-05-19/
LOCATION:Landis Airpark\, 284 Scenic Dr\, Stuart\, FL\, 24171
ATTACH;FMTTYPE=image/jpeg:https://av8maps.com/wp-content/uploads/2025/10/IMG_0189.jpeg
GEO:36.622222;-80.1681072
X-APPLE-STRUCTURED-LOCATION;VALUE=URI;X-ADDRESS=Landis Airpark 284 Scenic Dr Stuart FL 24171;X-APPLE-RADIUS=500;X-TITLE=284 Scenic Dr:geo:-80.1681072,36.622222
END:VEVENT
BEGIN:VEVENT
DTSTART;TZID=America/New_York:20290518T090000
DTEND;TZID=America/New_York:20290520T140000
DTSTAMP:20260423T063149
CREATED:20251028T104804Z
LAST-MODIFIED:20251120T205652Z
UID:10001074-1873789200-1873980000@av8maps.com
SUMMARY:The Annual Flying Horseman Fly In (VG16)
DESCRIPTION:The Sixth Annual Flying Horseman Ranch Fly In!\nWe will be hosting 2026’s event on May 15-17. Please feel free to arrive any time on or before the 19th but if you are early we may put you to work. 🙂\nLast years event was a blast and we are looking forward to another great event and again growing it even bigger. We need to say thank you to all of you for treating our home as if it were your own and keeping it clean.\nSame runway info as before. Land to the north on 35\, take off to the south on 17. Make sure to make radio calls and listen out for the air boss. Our ground radios will pick you up out to about 10 miles so please start making calls and usually you can hear us at about 3 miles out. We will work with you for sequencing as needed and watch for ground marshellers to direct you to parking. Our runway is 1900 foot\, grass\, up hill for landing\, down for take off. Please shoot for your touch down point just after the first little roller.\nFor those that need a larger runway please head to MTV which is only 7 miles away and we will send someone over to pick you up either via aircraft or truck but we will get you to the Fly In.\nFor those that are camping we will have a ATV that can pick up your gear and bring it to the camping area if you would like. You are of course welcome to camp under your wing and even drive in campers are welcome.\nThe Menu in 2025 seemed to be a huge success so we will probably keep very close to that for 2026. The shaved ice team will be back again for 2026 and we will be hosting the Kelly Brady Memorial Movie Night.\nWe are also working on shirts for this year.\nCan’t wait to see you all back at the Ranch in 2026 and of course stop in any time before then and say hi!
URL:https://av8maps.com/event/the-sixth-annual-flying-horseman-fly-in/2029-05-18/
LOCATION:Landis Airpark\, 284 Scenic Dr\, Stuart\, FL\, 24171
ATTACH;FMTTYPE=image/jpeg:https://av8maps.com/wp-content/uploads/2025/10/IMG_0189.jpeg
GEO:36.622222;-80.1681072
X-APPLE-STRUCTURED-LOCATION;VALUE=URI;X-ADDRESS=Landis Airpark 284 Scenic Dr Stuart FL 24171;X-APPLE-RADIUS=500;X-TITLE=284 Scenic Dr:geo:-80.1681072,36.622222
END:VEVENT
BEGIN:VEVENT
DTSTART;TZID=America/New_York:20300517T090000
DTEND;TZID=America/New_York:20300519T140000
DTSTAMP:20260423T063149
CREATED:20251028T104804Z
LAST-MODIFIED:20251120T205652Z
UID:10001075-1905238800-1905429600@av8maps.com
SUMMARY:The Annual Flying Horseman Fly In (VG16)
DESCRIPTION:The Sixth Annual Flying Horseman Ranch Fly In!\nWe will be hosting 2026’s event on May 15-17. Please feel free to arrive any time on or before the 19th but if you are early we may put you to work. 🙂\nLast years event was a blast and we are looking forward to another great event and again growing it even bigger. We need to say thank you to all of you for treating our home as if it were your own and keeping it clean.\nSame runway info as before. Land to the north on 35\, take off to the south on 17. Make sure to make radio calls and listen out for the air boss. Our ground radios will pick you up out to about 10 miles so please start making calls and usually you can hear us at about 3 miles out. We will work with you for sequencing as needed and watch for ground marshellers to direct you to parking. Our runway is 1900 foot\, grass\, up hill for landing\, down for take off. Please shoot for your touch down point just after the first little roller.\nFor those that need a larger runway please head to MTV which is only 7 miles away and we will send someone over to pick you up either via aircraft or truck but we will get you to the Fly In.\nFor those that are camping we will have a ATV that can pick up your gear and bring it to the camping area if you would like. You are of course welcome to camp under your wing and even drive in campers are welcome.\nThe Menu in 2025 seemed to be a huge success so we will probably keep very close to that for 2026. The shaved ice team will be back again for 2026 and we will be hosting the Kelly Brady Memorial Movie Night.\nWe are also working on shirts for this year.\nCan’t wait to see you all back at the Ranch in 2026 and of course stop in any time before then and say hi!
URL:https://av8maps.com/event/the-sixth-annual-flying-horseman-fly-in/2030-05-17/
LOCATION:Landis Airpark\, 284 Scenic Dr\, Stuart\, FL\, 24171
ATTACH;FMTTYPE=image/jpeg:https://av8maps.com/wp-content/uploads/2025/10/IMG_0189.jpeg
GEO:36.622222;-80.1681072
X-APPLE-STRUCTURED-LOCATION;VALUE=URI;X-ADDRESS=Landis Airpark 284 Scenic Dr Stuart FL 24171;X-APPLE-RADIUS=500;X-TITLE=284 Scenic Dr:geo:-80.1681072,36.622222
END:VEVENT
END:VCALENDAR