BEGIN:VCALENDAR
VERSION:2.0
PRODID:-//AV8MAPS.COM - ECPv6.15.20//NONSGML v1.0//EN
CALSCALE:GREGORIAN
METHOD:PUBLISH
X-WR-CALNAME:AV8MAPS.COM
X-ORIGINAL-URL:https://av8maps.com
X-WR-CALDESC:Events for AV8MAPS.COM
REFRESH-INTERVAL;VALUE=DURATION:PT1H
X-Robots-Tag:noindex
X-PUBLISHED-TTL:PT1H
BEGIN:VTIMEZONE
TZID:America/North_Dakota/Beulah
BEGIN:DAYLIGHT
TZOFFSETFROM:-0600
TZOFFSETTO:-0500
TZNAME:CDT
DTSTART:20250309T080000
END:DAYLIGHT
BEGIN:STANDARD
TZOFFSETFROM:-0500
TZOFFSETTO:-0600
TZNAME:CST
DTSTART:20251102T070000
END:STANDARD
BEGIN:DAYLIGHT
TZOFFSETFROM:-0600
TZOFFSETTO:-0500
TZNAME:CDT
DTSTART:20260308T080000
END:DAYLIGHT
BEGIN:STANDARD
TZOFFSETFROM:-0500
TZOFFSETTO:-0600
TZNAME:CST
DTSTART:20261101T070000
END:STANDARD
BEGIN:DAYLIGHT
TZOFFSETFROM:-0600
TZOFFSETTO:-0500
TZNAME:CDT
DTSTART:20270314T080000
END:DAYLIGHT
BEGIN:STANDARD
TZOFFSETFROM:-0500
TZOFFSETTO:-0600
TZNAME:CST
DTSTART:20271107T070000
END:STANDARD
END:VTIMEZONE
BEGIN:VEVENT
DTSTART;TZID=America/North_Dakota/Beulah:20260524T083000
DTEND;TZID=America/North_Dakota/Beulah:20260524T113000
DTSTAMP:20260422T234730
CREATED:20250525T171909Z
LAST-MODIFIED:20260423T012729Z
UID:10001159-1779611400-1779622200@av8maps.com
SUMMARY:Coffee at Pilots Paradise (1WA2)
DESCRIPTION:2026 Schedule is published!\nThis summer we will have a variety of vendors to supply your morning caffeine fix.\n Vagabond Coffee PNW will be returning for some of the summer dates.\nMobile Mermaid Espresso will fill in for August\n@code4breakfastandcatering will show up with the foods some months\n\n\nCome join us for a couple of hours on sunday mornings!\n\n\nJoin us for your morning caffeine fix at Pilots Pastures! Come and go as you please — whether you’re enroute to another fly-in or just looking for a good excuse to get some flight time!\nStop by for a great americano\, latte\, tea\, tea latte\, or mocha. Pilots dropping in for a quick coffee before continuing to their destination or another event are always welcome!\nIf you want to stay and socialize\, feel free to bring a folding chair and hang out with friends — old and new.\n\n\nRunway Information\n• All runways are sod (turf)\n• Trees at the departure end of runways 8\, 26\, and 34\n• Windsock near the runway intersection\n• Runway 26: Right traffic\n• Runway 16: Right traffic\n• Runway 16: Departure only (very tall trees on short final)\n• Runway 34: Arrival only (very tall trees at the departure end)\n• CTAF / Unicom: 122.9\n\n\nAircraft Parking\nPrimary parking areas:\n• Around the house and hangar at the runway intersection\n• In front of the pond\n• In front of the hangar\n• Behind the big brown hangar\n• On the lawn to the west side of the departure end of runway 34\n\n\nOverflow parking:\n• Around the windsock (beware of the drainage ditch running N-S along the adjacent runway)\nIf the event is well attended\, please park and stagger your aircraft as close as you comfortably can.\n– In the event of a very large turnout (40+ aircraft)\, we may close runway 16/34 and use it for parking.\n– Rotorwing welcome!\n\n\nDriving Directions\nAddress: 142 Pilots Pastures\, Winlock\, WA 98596\n\n\nProceed up the driveway and park tightly in front of the residence. It is okay to block garages and the RV port.\nPlease leave the paved area in front of the hangar clear — this space is reserved for serving coffee and socializing
URL:https://av8maps.com/event/3304/2026-05-24/
LOCATION:Pilot Pastures\, 142 Pilot Pastures\, Winlock\, WA\, 98596\, United States
ATTACH;FMTTYPE=image/jpeg:https://av8maps.com/wp-content/uploads/2025/05/Pilots-Pastures-e1746583613367.jpg
GEO:46.4912176;-122.9378983
X-APPLE-STRUCTURED-LOCATION;VALUE=URI;X-ADDRESS=Pilot Pastures 142 Pilot Pastures Winlock WA 98596 United States;X-APPLE-RADIUS=500;X-TITLE=142 Pilot Pastures:geo:-122.9378983,46.4912176
END:VEVENT
BEGIN:VEVENT
DTSTART;TZID=America/North_Dakota/Beulah:20260628T083000
DTEND;TZID=America/North_Dakota/Beulah:20260628T113000
DTSTAMP:20260422T234730
CREATED:20250525T171909Z
LAST-MODIFIED:20260423T012729Z
UID:10001160-1782635400-1782646200@av8maps.com
SUMMARY:Coffee at Pilots Paradise (1WA2)
DESCRIPTION:2026 Schedule is published!\nThis summer we will have a variety of vendors to supply your morning caffeine fix.\n Vagabond Coffee PNW will be returning for some of the summer dates.\nMobile Mermaid Espresso will fill in for August\n@code4breakfastandcatering will show up with the foods some months\n\n\nCome join us for a couple of hours on sunday mornings!\n\n\nJoin us for your morning caffeine fix at Pilots Pastures! Come and go as you please — whether you’re enroute to another fly-in or just looking for a good excuse to get some flight time!\nStop by for a great americano\, latte\, tea\, tea latte\, or mocha. Pilots dropping in for a quick coffee before continuing to their destination or another event are always welcome!\nIf you want to stay and socialize\, feel free to bring a folding chair and hang out with friends — old and new.\n\n\nRunway Information\n• All runways are sod (turf)\n• Trees at the departure end of runways 8\, 26\, and 34\n• Windsock near the runway intersection\n• Runway 26: Right traffic\n• Runway 16: Right traffic\n• Runway 16: Departure only (very tall trees on short final)\n• Runway 34: Arrival only (very tall trees at the departure end)\n• CTAF / Unicom: 122.9\n\n\nAircraft Parking\nPrimary parking areas:\n• Around the house and hangar at the runway intersection\n• In front of the pond\n• In front of the hangar\n• Behind the big brown hangar\n• On the lawn to the west side of the departure end of runway 34\n\n\nOverflow parking:\n• Around the windsock (beware of the drainage ditch running N-S along the adjacent runway)\nIf the event is well attended\, please park and stagger your aircraft as close as you comfortably can.\n– In the event of a very large turnout (40+ aircraft)\, we may close runway 16/34 and use it for parking.\n– Rotorwing welcome!\n\n\nDriving Directions\nAddress: 142 Pilots Pastures\, Winlock\, WA 98596\n\n\nProceed up the driveway and park tightly in front of the residence. It is okay to block garages and the RV port.\nPlease leave the paved area in front of the hangar clear — this space is reserved for serving coffee and socializing
URL:https://av8maps.com/event/3304/2026-06-28/
LOCATION:Pilot Pastures\, 142 Pilot Pastures\, Winlock\, WA\, 98596\, United States
ATTACH;FMTTYPE=image/jpeg:https://av8maps.com/wp-content/uploads/2025/05/Pilots-Pastures-e1746583613367.jpg
GEO:46.4912176;-122.9378983
X-APPLE-STRUCTURED-LOCATION;VALUE=URI;X-ADDRESS=Pilot Pastures 142 Pilot Pastures Winlock WA 98596 United States;X-APPLE-RADIUS=500;X-TITLE=142 Pilot Pastures:geo:-122.9378983,46.4912176
END:VEVENT
BEGIN:VEVENT
DTSTART;TZID=America/North_Dakota/Beulah:20260712T083000
DTEND;TZID=America/North_Dakota/Beulah:20260712T113000
DTSTAMP:20260422T234730
CREATED:20260423T012613Z
LAST-MODIFIED:20260423T012640Z
UID:10001161-1783845000-1783855800@av8maps.com
SUMMARY:Coffee at Pilots Paradise (1WA2)
DESCRIPTION:2026 Schedule is published!\nThis summer we will have a variety of vendors to supply your morning caffeine fix.\n Vagabond Coffee PNW will be returning for some of the summer dates.\nMobile Mermaid Espresso will fill in for August\n@code4breakfastandcatering will show up with the foods some months\n\n\nCome join us for a couple of hours on sunday mornings!\n\n\nJoin us for your morning caffeine fix at Pilots Pastures! Come and go as you please — whether you’re enroute to another fly-in or just looking for a good excuse to get some flight time!\nStop by for a great americano\, latte\, tea\, tea latte\, or mocha. Pilots dropping in for a quick coffee before continuing to their destination or another event are always welcome!\nIf you want to stay and socialize\, feel free to bring a folding chair and hang out with friends — old and new.\n\n\nRunway Information\n• All runways are sod (turf)\n• Trees at the departure end of runways 8\, 26\, and 34\n• Windsock near the runway intersection\n• Runway 26: Right traffic\n• Runway 16: Right traffic\n• Runway 16: Departure only (very tall trees on short final)\n• Runway 34: Arrival only (very tall trees at the departure end)\n• CTAF / Unicom: 122.9\n\n\nAircraft Parking\nPrimary parking areas:\n• Around the house and hangar at the runway intersection\n• In front of the pond\n• In front of the hangar\n• Behind the big brown hangar\n• On the lawn to the west side of the departure end of runway 34\n\n\nOverflow parking:\n• Around the windsock (beware of the drainage ditch running N-S along the adjacent runway)\nIf the event is well attended\, please park and stagger your aircraft as close as you comfortably can.\n– In the event of a very large turnout (40+ aircraft)\, we may close runway 16/34 and use it for parking.\n– Rotorwing welcome!\n\n\nDriving Directions\nAddress: 142 Pilots Pastures\, Winlock\, WA 98596\n\n\nProceed up the driveway and park tightly in front of the residence. It is okay to block garages and the RV port.\nPlease leave the paved area in front of the hangar clear — this space is reserved for serving coffee and socializing
URL:https://av8maps.com/event/3304-2/
LOCATION:Pilot Pastures\, 142 Pilot Pastures\, Winlock\, WA\, 98596\, United States
ATTACH;FMTTYPE=image/jpeg:https://av8maps.com/wp-content/uploads/2025/05/Pilots-Pastures-e1746583613367.jpg
GEO:46.4912176;-122.9378983
X-APPLE-STRUCTURED-LOCATION;VALUE=URI;X-ADDRESS=Pilot Pastures 142 Pilot Pastures Winlock WA 98596 United States;X-APPLE-RADIUS=500;X-TITLE=142 Pilot Pastures:geo:-122.9378983,46.4912176
END:VEVENT
BEGIN:VEVENT
DTSTART;TZID=America/North_Dakota/Beulah:20260802T083000
DTEND;TZID=America/North_Dakota/Beulah:20260802T113000
DTSTAMP:20260422T234730
CREATED:20260423T012830Z
LAST-MODIFIED:20260423T012831Z
UID:10006677-1785659400-1785670200@av8maps.com
SUMMARY:Coffee at Pilots Paradise (1WA2)
DESCRIPTION:2026 Schedule is published!\nThis summer we will have a variety of vendors to supply your morning caffeine fix.\n Vagabond Coffee PNW will be returning for some of the summer dates.\nMobile Mermaid Espresso will fill in for August\n@code4breakfastandcatering will show up with the foods some months\n\n\nCome join us for a couple of hours on sunday mornings!\n\n\nJoin us for your morning caffeine fix at Pilots Pastures! Come and go as you please — whether you’re enroute to another fly-in or just looking for a good excuse to get some flight time!\nStop by for a great americano\, latte\, tea\, tea latte\, or mocha. Pilots dropping in for a quick coffee before continuing to their destination or another event are always welcome!\nIf you want to stay and socialize\, feel free to bring a folding chair and hang out with friends — old and new.\n\n\nRunway Information\n• All runways are sod (turf)\n• Trees at the departure end of runways 8\, 26\, and 34\n• Windsock near the runway intersection\n• Runway 26: Right traffic\n• Runway 16: Right traffic\n• Runway 16: Departure only (very tall trees on short final)\n• Runway 34: Arrival only (very tall trees at the departure end)\n• CTAF / Unicom: 122.9\n\n\nAircraft Parking\nPrimary parking areas:\n• Around the house and hangar at the runway intersection\n• In front of the pond\n• In front of the hangar\n• Behind the big brown hangar\n• On the lawn to the west side of the departure end of runway 34\n\n\nOverflow parking:\n• Around the windsock (beware of the drainage ditch running N-S along the adjacent runway)\nIf the event is well attended\, please park and stagger your aircraft as close as you comfortably can.\n– In the event of a very large turnout (40+ aircraft)\, we may close runway 16/34 and use it for parking.\n– Rotorwing welcome!\n\n\nDriving Directions\nAddress: 142 Pilots Pastures\, Winlock\, WA 98596\n\n\nProceed up the driveway and park tightly in front of the residence. It is okay to block garages and the RV port.\nPlease leave the paved area in front of the hangar clear — this space is reserved for serving coffee and socializing
URL:https://av8maps.com/event/3304-2-2/2026-08-02/
LOCATION:Pilot Pastures\, 142 Pilot Pastures\, Winlock\, WA\, 98596\, United States
ATTACH;FMTTYPE=image/jpeg:https://av8maps.com/wp-content/uploads/2025/05/Pilots-Pastures-e1746583613367.jpg
GEO:46.4912176;-122.9378983
X-APPLE-STRUCTURED-LOCATION;VALUE=URI;X-ADDRESS=Pilot Pastures 142 Pilot Pastures Winlock WA 98596 United States;X-APPLE-RADIUS=500;X-TITLE=142 Pilot Pastures:geo:-122.9378983,46.4912176
END:VEVENT
BEGIN:VEVENT
DTSTART;TZID=America/North_Dakota/Beulah:20260906T083000
DTEND;TZID=America/North_Dakota/Beulah:20260906T113000
DTSTAMP:20260422T234730
CREATED:20260423T012830Z
LAST-MODIFIED:20260423T012831Z
UID:10006679-1788683400-1788694200@av8maps.com
SUMMARY:Coffee at Pilots Paradise (1WA2)
DESCRIPTION:2026 Schedule is published!\nThis summer we will have a variety of vendors to supply your morning caffeine fix.\n Vagabond Coffee PNW will be returning for some of the summer dates.\nMobile Mermaid Espresso will fill in for August\n@code4breakfastandcatering will show up with the foods some months\n\n\nCome join us for a couple of hours on sunday mornings!\n\n\nJoin us for your morning caffeine fix at Pilots Pastures! Come and go as you please — whether you’re enroute to another fly-in or just looking for a good excuse to get some flight time!\nStop by for a great americano\, latte\, tea\, tea latte\, or mocha. Pilots dropping in for a quick coffee before continuing to their destination or another event are always welcome!\nIf you want to stay and socialize\, feel free to bring a folding chair and hang out with friends — old and new.\n\n\nRunway Information\n• All runways are sod (turf)\n• Trees at the departure end of runways 8\, 26\, and 34\n• Windsock near the runway intersection\n• Runway 26: Right traffic\n• Runway 16: Right traffic\n• Runway 16: Departure only (very tall trees on short final)\n• Runway 34: Arrival only (very tall trees at the departure end)\n• CTAF / Unicom: 122.9\n\n\nAircraft Parking\nPrimary parking areas:\n• Around the house and hangar at the runway intersection\n• In front of the pond\n• In front of the hangar\n• Behind the big brown hangar\n• On the lawn to the west side of the departure end of runway 34\n\n\nOverflow parking:\n• Around the windsock (beware of the drainage ditch running N-S along the adjacent runway)\nIf the event is well attended\, please park and stagger your aircraft as close as you comfortably can.\n– In the event of a very large turnout (40+ aircraft)\, we may close runway 16/34 and use it for parking.\n– Rotorwing welcome!\n\n\nDriving Directions\nAddress: 142 Pilots Pastures\, Winlock\, WA 98596\n\n\nProceed up the driveway and park tightly in front of the residence. It is okay to block garages and the RV port.\nPlease leave the paved area in front of the hangar clear — this space is reserved for serving coffee and socializing
URL:https://av8maps.com/event/3304-2-2/2026-09-06/
LOCATION:Pilot Pastures\, 142 Pilot Pastures\, Winlock\, WA\, 98596\, United States
ATTACH;FMTTYPE=image/jpeg:https://av8maps.com/wp-content/uploads/2025/05/Pilots-Pastures-e1746583613367.jpg
GEO:46.4912176;-122.9378983
X-APPLE-STRUCTURED-LOCATION;VALUE=URI;X-ADDRESS=Pilot Pastures 142 Pilot Pastures Winlock WA 98596 United States;X-APPLE-RADIUS=500;X-TITLE=142 Pilot Pastures:geo:-122.9378983,46.4912176
END:VEVENT
END:VCALENDAR