BEGIN:VCALENDAR
VERSION:2.0
PRODID:-//AV8MAPS.COM - ECPv6.15.20//NONSGML v1.0//EN
CALSCALE:GREGORIAN
METHOD:PUBLISH
X-WR-CALNAME:AV8MAPS.COM
X-ORIGINAL-URL:https://av8maps.com
X-WR-CALDESC:Events for AV8MAPS.COM
REFRESH-INTERVAL;VALUE=DURATION:PT1H
X-Robots-Tag:noindex
X-PUBLISHED-TTL:PT1H
BEGIN:VTIMEZONE
TZID:America/New_York
BEGIN:DAYLIGHT
TZOFFSETFROM:-0500
TZOFFSETTO:-0400
TZNAME:EDT
DTSTART:20250309T070000
END:DAYLIGHT
BEGIN:STANDARD
TZOFFSETFROM:-0400
TZOFFSETTO:-0500
TZNAME:EST
DTSTART:20251102T060000
END:STANDARD
BEGIN:DAYLIGHT
TZOFFSETFROM:-0500
TZOFFSETTO:-0400
TZNAME:EDT
DTSTART:20260308T070000
END:DAYLIGHT
BEGIN:STANDARD
TZOFFSETFROM:-0400
TZOFFSETTO:-0500
TZNAME:EST
DTSTART:20261101T060000
END:STANDARD
BEGIN:DAYLIGHT
TZOFFSETFROM:-0500
TZOFFSETTO:-0400
TZNAME:EDT
DTSTART:20270314T070000
END:DAYLIGHT
BEGIN:STANDARD
TZOFFSETFROM:-0400
TZOFFSETTO:-0500
TZNAME:EST
DTSTART:20271107T060000
END:STANDARD
BEGIN:DAYLIGHT
TZOFFSETFROM:-0500
TZOFFSETTO:-0400
TZNAME:EDT
DTSTART:20280312T070000
END:DAYLIGHT
BEGIN:STANDARD
TZOFFSETFROM:-0400
TZOFFSETTO:-0500
TZNAME:EST
DTSTART:20281105T060000
END:STANDARD
BEGIN:DAYLIGHT
TZOFFSETFROM:-0500
TZOFFSETTO:-0400
TZNAME:EDT
DTSTART:20290311T070000
END:DAYLIGHT
BEGIN:STANDARD
TZOFFSETFROM:-0400
TZOFFSETTO:-0500
TZNAME:EST
DTSTART:20291104T060000
END:STANDARD
BEGIN:DAYLIGHT
TZOFFSETFROM:-0500
TZOFFSETTO:-0400
TZNAME:EDT
DTSTART:20300310T070000
END:DAYLIGHT
BEGIN:STANDARD
TZOFFSETFROM:-0400
TZOFFSETTO:-0500
TZNAME:EST
DTSTART:20301103T060000
END:STANDARD
BEGIN:DAYLIGHT
TZOFFSETFROM:-0500
TZOFFSETTO:-0400
TZNAME:EDT
DTSTART:20310309T070000
END:DAYLIGHT
BEGIN:STANDARD
TZOFFSETFROM:-0400
TZOFFSETTO:-0500
TZNAME:EST
DTSTART:20311102T060000
END:STANDARD
END:VTIMEZONE
BEGIN:VEVENT
DTSTART;TZID=America/New_York:20261003T100000
DTEND;TZID=America/New_York:20261003T140000
DTSTAMP:20260423T092135
CREATED:20251204T120619Z
LAST-MODIFIED:20251204T120620Z
UID:10001164-1791021600-1791036000@av8maps.com
SUMMARY:Annual Fly-in (M83)
DESCRIPTION:Delivering Flying Family\, Food and Fun! \nIf planning on attending\, PLEASE call or text Mark 1-662-295-5702.
URL:https://av8maps.com/event/2nd-annual-spring-fling-m83-2/2026-10-03/
LOCATION:West Point Airport\, 453-197 Airport Rd\, West Point\, MS 39773
ATTACH;FMTTYPE=image/jpeg:https://av8maps.com/wp-content/uploads/2025/05/FLy-in-M83-e1757034278916.jpg
GEO:33.5841394;-88.666693
X-APPLE-STRUCTURED-LOCATION;VALUE=URI;X-ADDRESS=West Point Airport 453-197 Airport Rd West Point MS 39773;X-APPLE-RADIUS=500;X-TITLE=453-197 Airport Rd\, West Point\, MS 39773:geo:-88.666693,33.5841394
END:VEVENT
BEGIN:VEVENT
DTSTART;TZID=America/New_York:20271002T100000
DTEND;TZID=America/New_York:20271002T140000
DTSTAMP:20260423T092135
CREATED:20251204T120619Z
LAST-MODIFIED:20251204T120620Z
UID:10005730-1822471200-1822485600@av8maps.com
SUMMARY:Annual Fly-in (M83)
DESCRIPTION:Delivering Flying Family\, Food and Fun! \nIf planning on attending\, PLEASE call or text Mark 1-662-295-5702.
URL:https://av8maps.com/event/2nd-annual-spring-fling-m83-2/2027-10-02/
LOCATION:West Point Airport\, 453-197 Airport Rd\, West Point\, MS 39773
ATTACH;FMTTYPE=image/jpeg:https://av8maps.com/wp-content/uploads/2025/05/FLy-in-M83-e1757034278916.jpg
GEO:33.5841394;-88.666693
X-APPLE-STRUCTURED-LOCATION;VALUE=URI;X-ADDRESS=West Point Airport 453-197 Airport Rd West Point MS 39773;X-APPLE-RADIUS=500;X-TITLE=453-197 Airport Rd\, West Point\, MS 39773:geo:-88.666693,33.5841394
END:VEVENT
BEGIN:VEVENT
DTSTART;TZID=America/New_York:20281007T100000
DTEND;TZID=America/New_York:20281007T140000
DTSTAMP:20260423T092135
CREATED:20251204T120619Z
LAST-MODIFIED:20251204T120620Z
UID:10005731-1854525600-1854540000@av8maps.com
SUMMARY:Annual Fly-in (M83)
DESCRIPTION:Delivering Flying Family\, Food and Fun! \nIf planning on attending\, PLEASE call or text Mark 1-662-295-5702.
URL:https://av8maps.com/event/2nd-annual-spring-fling-m83-2/2028-10-07/
LOCATION:West Point Airport\, 453-197 Airport Rd\, West Point\, MS 39773
ATTACH;FMTTYPE=image/jpeg:https://av8maps.com/wp-content/uploads/2025/05/FLy-in-M83-e1757034278916.jpg
GEO:33.5841394;-88.666693
X-APPLE-STRUCTURED-LOCATION;VALUE=URI;X-ADDRESS=West Point Airport 453-197 Airport Rd West Point MS 39773;X-APPLE-RADIUS=500;X-TITLE=453-197 Airport Rd\, West Point\, MS 39773:geo:-88.666693,33.5841394
END:VEVENT
BEGIN:VEVENT
DTSTART;TZID=America/New_York:20291006T100000
DTEND;TZID=America/New_York:20291006T140000
DTSTAMP:20260423T092135
CREATED:20251204T120619Z
LAST-MODIFIED:20251204T120620Z
UID:10005732-1885975200-1885989600@av8maps.com
SUMMARY:Annual Fly-in (M83)
DESCRIPTION:Delivering Flying Family\, Food and Fun! \nIf planning on attending\, PLEASE call or text Mark 1-662-295-5702.
URL:https://av8maps.com/event/2nd-annual-spring-fling-m83-2/2029-10-06/
LOCATION:West Point Airport\, 453-197 Airport Rd\, West Point\, MS 39773
ATTACH;FMTTYPE=image/jpeg:https://av8maps.com/wp-content/uploads/2025/05/FLy-in-M83-e1757034278916.jpg
GEO:33.5841394;-88.666693
X-APPLE-STRUCTURED-LOCATION;VALUE=URI;X-ADDRESS=West Point Airport 453-197 Airport Rd West Point MS 39773;X-APPLE-RADIUS=500;X-TITLE=453-197 Airport Rd\, West Point\, MS 39773:geo:-88.666693,33.5841394
END:VEVENT
BEGIN:VEVENT
DTSTART;TZID=America/New_York:20301005T100000
DTEND;TZID=America/New_York:20301005T140000
DTSTAMP:20260423T092135
CREATED:20251204T120619Z
LAST-MODIFIED:20251204T120620Z
UID:10005733-1917424800-1917439200@av8maps.com
SUMMARY:Annual Fly-in (M83)
DESCRIPTION:Delivering Flying Family\, Food and Fun! \nIf planning on attending\, PLEASE call or text Mark 1-662-295-5702.
URL:https://av8maps.com/event/2nd-annual-spring-fling-m83-2/2030-10-05/
LOCATION:West Point Airport\, 453-197 Airport Rd\, West Point\, MS 39773
ATTACH;FMTTYPE=image/jpeg:https://av8maps.com/wp-content/uploads/2025/05/FLy-in-M83-e1757034278916.jpg
GEO:33.5841394;-88.666693
X-APPLE-STRUCTURED-LOCATION;VALUE=URI;X-ADDRESS=West Point Airport 453-197 Airport Rd West Point MS 39773;X-APPLE-RADIUS=500;X-TITLE=453-197 Airport Rd\, West Point\, MS 39773:geo:-88.666693,33.5841394
END:VEVENT
END:VCALENDAR