BEGIN:VCALENDAR
VERSION:2.0
PRODID:-//AV8MAPS.COM - ECPv6.15.20//NONSGML v1.0//EN
CALSCALE:GREGORIAN
METHOD:PUBLISH
X-WR-CALNAME:AV8MAPS.COM
X-ORIGINAL-URL:https://av8maps.com
X-WR-CALDESC:Events for AV8MAPS.COM
REFRESH-INTERVAL;VALUE=DURATION:PT1H
X-Robots-Tag:noindex
X-PUBLISHED-TTL:PT1H
BEGIN:VTIMEZONE
TZID:America/New_York
BEGIN:DAYLIGHT
TZOFFSETFROM:-0500
TZOFFSETTO:-0400
TZNAME:EDT
DTSTART:20250309T070000
END:DAYLIGHT
BEGIN:STANDARD
TZOFFSETFROM:-0400
TZOFFSETTO:-0500
TZNAME:EST
DTSTART:20251102T060000
END:STANDARD
BEGIN:DAYLIGHT
TZOFFSETFROM:-0500
TZOFFSETTO:-0400
TZNAME:EDT
DTSTART:20260308T070000
END:DAYLIGHT
BEGIN:STANDARD
TZOFFSETFROM:-0400
TZOFFSETTO:-0500
TZNAME:EST
DTSTART:20261101T060000
END:STANDARD
BEGIN:DAYLIGHT
TZOFFSETFROM:-0500
TZOFFSETTO:-0400
TZNAME:EDT
DTSTART:20270314T070000
END:DAYLIGHT
BEGIN:STANDARD
TZOFFSETFROM:-0400
TZOFFSETTO:-0500
TZNAME:EST
DTSTART:20271107T060000
END:STANDARD
BEGIN:DAYLIGHT
TZOFFSETFROM:-0500
TZOFFSETTO:-0400
TZNAME:EDT
DTSTART:20280312T070000
END:DAYLIGHT
BEGIN:STANDARD
TZOFFSETFROM:-0400
TZOFFSETTO:-0500
TZNAME:EST
DTSTART:20281105T060000
END:STANDARD
BEGIN:DAYLIGHT
TZOFFSETFROM:-0500
TZOFFSETTO:-0400
TZNAME:EDT
DTSTART:20290311T070000
END:DAYLIGHT
BEGIN:STANDARD
TZOFFSETFROM:-0400
TZOFFSETTO:-0500
TZNAME:EST
DTSTART:20291104T060000
END:STANDARD
BEGIN:DAYLIGHT
TZOFFSETFROM:-0500
TZOFFSETTO:-0400
TZNAME:EDT
DTSTART:20300310T070000
END:DAYLIGHT
BEGIN:STANDARD
TZOFFSETFROM:-0400
TZOFFSETTO:-0500
TZNAME:EST
DTSTART:20301103T060000
END:STANDARD
BEGIN:DAYLIGHT
TZOFFSETFROM:-0500
TZOFFSETTO:-0400
TZNAME:EDT
DTSTART:20310309T070000
END:DAYLIGHT
BEGIN:STANDARD
TZOFFSETFROM:-0400
TZOFFSETTO:-0500
TZNAME:EST
DTSTART:20311102T060000
END:STANDARD
END:VTIMEZONE
BEGIN:VEVENT
DTSTART;TZID=America/New_York:20260614T073000
DTEND;TZID=America/New_York:20260614T103000
DTSTAMP:20260423T092040
CREATED:20250509T155154Z
LAST-MODIFIED:20251029T133300Z
UID:10001186-1781422200-1781433000@av8maps.com
SUMMARY:Annual Airport Pancake Breakfast (C04)
DESCRIPTION:Soar into a Morning of Fun and Flavor at Oceana County Airport!\nJoin us for a mouthwatering pancake breakfast featuring fluffy\, golden pancakes hot off the griddle\, drizzled with rich maple syrup and topped with fruit. Pair it with scrambled eggs\, savory sausage\, and refreshing drinks for the perfect start to your day!\n🕢 Serving from 7:30 AM to 12:00 PM\nBut that’s not all—experience the thrill of aviation with an exciting display of airplanes\, ultralights\, remote-controlled aircraft\, and antique planes. Whether you’re an aviation enthusiast or just looking for a great family outing\, there’s something for everyone!\n🎟️ Admission:\nAdults: $10\nChildren (5-12): $5\nKids 4 & Under: FREE
URL:https://av8maps.com/event/annual-airport-pancake-breakfast/2026-06-14/
LOCATION:Oceana County Airport\, 1805 W Baseline Rd\, Shelby\, MI 49455\, MI
ATTACH;FMTTYPE=image/jpeg:https://av8maps.com/wp-content/uploads/2025/05/Oceana-County-Pancake-Breakfast-e1746913702317.jpg
GEO:43.6428653;-86.328169
X-APPLE-STRUCTURED-LOCATION;VALUE=URI;X-ADDRESS=Oceana County Airport 1805 W Baseline Rd Shelby MI 49455 MI;X-APPLE-RADIUS=500;X-TITLE=1805 W Baseline Rd\, Shelby\, MI 49455:geo:-86.328169,43.6428653
END:VEVENT
BEGIN:VEVENT
DTSTART;TZID=America/New_York:20270613T073000
DTEND;TZID=America/New_York:20270613T103000
DTSTAMP:20260423T092040
CREATED:20250509T155154Z
LAST-MODIFIED:20251029T133300Z
UID:10001187-1812871800-1812882600@av8maps.com
SUMMARY:Annual Airport Pancake Breakfast (C04)
DESCRIPTION:Soar into a Morning of Fun and Flavor at Oceana County Airport!\nJoin us for a mouthwatering pancake breakfast featuring fluffy\, golden pancakes hot off the griddle\, drizzled with rich maple syrup and topped with fruit. Pair it with scrambled eggs\, savory sausage\, and refreshing drinks for the perfect start to your day!\n🕢 Serving from 7:30 AM to 12:00 PM\nBut that’s not all—experience the thrill of aviation with an exciting display of airplanes\, ultralights\, remote-controlled aircraft\, and antique planes. Whether you’re an aviation enthusiast or just looking for a great family outing\, there’s something for everyone!\n🎟️ Admission:\nAdults: $10\nChildren (5-12): $5\nKids 4 & Under: FREE
URL:https://av8maps.com/event/annual-airport-pancake-breakfast/2027-06-13/
LOCATION:Oceana County Airport\, 1805 W Baseline Rd\, Shelby\, MI 49455\, MI
ATTACH;FMTTYPE=image/jpeg:https://av8maps.com/wp-content/uploads/2025/05/Oceana-County-Pancake-Breakfast-e1746913702317.jpg
GEO:43.6428653;-86.328169
X-APPLE-STRUCTURED-LOCATION;VALUE=URI;X-ADDRESS=Oceana County Airport 1805 W Baseline Rd Shelby MI 49455 MI;X-APPLE-RADIUS=500;X-TITLE=1805 W Baseline Rd\, Shelby\, MI 49455:geo:-86.328169,43.6428653
END:VEVENT
BEGIN:VEVENT
DTSTART;TZID=America/New_York:20280611T073000
DTEND;TZID=America/New_York:20280611T103000
DTSTAMP:20260423T092040
CREATED:20250509T155154Z
LAST-MODIFIED:20251029T133300Z
UID:10001188-1844321400-1844332200@av8maps.com
SUMMARY:Annual Airport Pancake Breakfast (C04)
DESCRIPTION:Soar into a Morning of Fun and Flavor at Oceana County Airport!\nJoin us for a mouthwatering pancake breakfast featuring fluffy\, golden pancakes hot off the griddle\, drizzled with rich maple syrup and topped with fruit. Pair it with scrambled eggs\, savory sausage\, and refreshing drinks for the perfect start to your day!\n🕢 Serving from 7:30 AM to 12:00 PM\nBut that’s not all—experience the thrill of aviation with an exciting display of airplanes\, ultralights\, remote-controlled aircraft\, and antique planes. Whether you’re an aviation enthusiast or just looking for a great family outing\, there’s something for everyone!\n🎟️ Admission:\nAdults: $10\nChildren (5-12): $5\nKids 4 & Under: FREE
URL:https://av8maps.com/event/annual-airport-pancake-breakfast/2028-06-11/
LOCATION:Oceana County Airport\, 1805 W Baseline Rd\, Shelby\, MI 49455\, MI
ATTACH;FMTTYPE=image/jpeg:https://av8maps.com/wp-content/uploads/2025/05/Oceana-County-Pancake-Breakfast-e1746913702317.jpg
GEO:43.6428653;-86.328169
X-APPLE-STRUCTURED-LOCATION;VALUE=URI;X-ADDRESS=Oceana County Airport 1805 W Baseline Rd Shelby MI 49455 MI;X-APPLE-RADIUS=500;X-TITLE=1805 W Baseline Rd\, Shelby\, MI 49455:geo:-86.328169,43.6428653
END:VEVENT
BEGIN:VEVENT
DTSTART;TZID=America/New_York:20290610T073000
DTEND;TZID=America/New_York:20290610T103000
DTSTAMP:20260423T092040
CREATED:20250509T155154Z
LAST-MODIFIED:20251029T133300Z
UID:10001189-1875771000-1875781800@av8maps.com
SUMMARY:Annual Airport Pancake Breakfast (C04)
DESCRIPTION:Soar into a Morning of Fun and Flavor at Oceana County Airport!\nJoin us for a mouthwatering pancake breakfast featuring fluffy\, golden pancakes hot off the griddle\, drizzled with rich maple syrup and topped with fruit. Pair it with scrambled eggs\, savory sausage\, and refreshing drinks for the perfect start to your day!\n🕢 Serving from 7:30 AM to 12:00 PM\nBut that’s not all—experience the thrill of aviation with an exciting display of airplanes\, ultralights\, remote-controlled aircraft\, and antique planes. Whether you’re an aviation enthusiast or just looking for a great family outing\, there’s something for everyone!\n🎟️ Admission:\nAdults: $10\nChildren (5-12): $5\nKids 4 & Under: FREE
URL:https://av8maps.com/event/annual-airport-pancake-breakfast/2029-06-10/
LOCATION:Oceana County Airport\, 1805 W Baseline Rd\, Shelby\, MI 49455\, MI
ATTACH;FMTTYPE=image/jpeg:https://av8maps.com/wp-content/uploads/2025/05/Oceana-County-Pancake-Breakfast-e1746913702317.jpg
GEO:43.6428653;-86.328169
X-APPLE-STRUCTURED-LOCATION;VALUE=URI;X-ADDRESS=Oceana County Airport 1805 W Baseline Rd Shelby MI 49455 MI;X-APPLE-RADIUS=500;X-TITLE=1805 W Baseline Rd\, Shelby\, MI 49455:geo:-86.328169,43.6428653
END:VEVENT
BEGIN:VEVENT
DTSTART;TZID=America/New_York:20300609T073000
DTEND;TZID=America/New_York:20300609T103000
DTSTAMP:20260423T092040
CREATED:20250509T155154Z
LAST-MODIFIED:20251029T133300Z
UID:10001190-1907220600-1907231400@av8maps.com
SUMMARY:Annual Airport Pancake Breakfast (C04)
DESCRIPTION:Soar into a Morning of Fun and Flavor at Oceana County Airport!\nJoin us for a mouthwatering pancake breakfast featuring fluffy\, golden pancakes hot off the griddle\, drizzled with rich maple syrup and topped with fruit. Pair it with scrambled eggs\, savory sausage\, and refreshing drinks for the perfect start to your day!\n🕢 Serving from 7:30 AM to 12:00 PM\nBut that’s not all—experience the thrill of aviation with an exciting display of airplanes\, ultralights\, remote-controlled aircraft\, and antique planes. Whether you’re an aviation enthusiast or just looking for a great family outing\, there’s something for everyone!\n🎟️ Admission:\nAdults: $10\nChildren (5-12): $5\nKids 4 & Under: FREE
URL:https://av8maps.com/event/annual-airport-pancake-breakfast/2030-06-09/
LOCATION:Oceana County Airport\, 1805 W Baseline Rd\, Shelby\, MI 49455\, MI
ATTACH;FMTTYPE=image/jpeg:https://av8maps.com/wp-content/uploads/2025/05/Oceana-County-Pancake-Breakfast-e1746913702317.jpg
GEO:43.6428653;-86.328169
X-APPLE-STRUCTURED-LOCATION;VALUE=URI;X-ADDRESS=Oceana County Airport 1805 W Baseline Rd Shelby MI 49455 MI;X-APPLE-RADIUS=500;X-TITLE=1805 W Baseline Rd\, Shelby\, MI 49455:geo:-86.328169,43.6428653
END:VEVENT
END:VCALENDAR