BEGIN:VCALENDAR
VERSION:2.0
PRODID:-//AV8MAPS.COM - ECPv6.15.20//NONSGML v1.0//EN
CALSCALE:GREGORIAN
METHOD:PUBLISH
X-WR-CALNAME:AV8MAPS.COM
X-ORIGINAL-URL:https://av8maps.com
X-WR-CALDESC:Events for AV8MAPS.COM
REFRESH-INTERVAL;VALUE=DURATION:PT1H
X-Robots-Tag:noindex
X-PUBLISHED-TTL:PT1H
BEGIN:VTIMEZONE
TZID:America/New_York
BEGIN:DAYLIGHT
TZOFFSETFROM:-0500
TZOFFSETTO:-0400
TZNAME:EDT
DTSTART:20250309T070000
END:DAYLIGHT
BEGIN:STANDARD
TZOFFSETFROM:-0400
TZOFFSETTO:-0500
TZNAME:EST
DTSTART:20251102T060000
END:STANDARD
BEGIN:DAYLIGHT
TZOFFSETFROM:-0500
TZOFFSETTO:-0400
TZNAME:EDT
DTSTART:20260308T070000
END:DAYLIGHT
BEGIN:STANDARD
TZOFFSETFROM:-0400
TZOFFSETTO:-0500
TZNAME:EST
DTSTART:20261101T060000
END:STANDARD
BEGIN:DAYLIGHT
TZOFFSETFROM:-0500
TZOFFSETTO:-0400
TZNAME:EDT
DTSTART:20270314T070000
END:DAYLIGHT
BEGIN:STANDARD
TZOFFSETFROM:-0400
TZOFFSETTO:-0500
TZNAME:EST
DTSTART:20271107T060000
END:STANDARD
BEGIN:DAYLIGHT
TZOFFSETFROM:-0500
TZOFFSETTO:-0400
TZNAME:EDT
DTSTART:20280312T070000
END:DAYLIGHT
BEGIN:STANDARD
TZOFFSETFROM:-0400
TZOFFSETTO:-0500
TZNAME:EST
DTSTART:20281105T060000
END:STANDARD
BEGIN:DAYLIGHT
TZOFFSETFROM:-0500
TZOFFSETTO:-0400
TZNAME:EDT
DTSTART:20290311T070000
END:DAYLIGHT
BEGIN:STANDARD
TZOFFSETFROM:-0400
TZOFFSETTO:-0500
TZNAME:EST
DTSTART:20291104T060000
END:STANDARD
BEGIN:DAYLIGHT
TZOFFSETFROM:-0500
TZOFFSETTO:-0400
TZNAME:EDT
DTSTART:20300310T070000
END:DAYLIGHT
BEGIN:STANDARD
TZOFFSETFROM:-0400
TZOFFSETTO:-0500
TZNAME:EST
DTSTART:20301103T060000
END:STANDARD
END:VTIMEZONE
BEGIN:VEVENT
DTSTART;TZID=America/New_York:20261107T090000
DTEND;TZID=America/New_York:20261107T150000
DTSTAMP:20260424T220049
CREATED:20250906T160141Z
LAST-MODIFIED:20251029T183621Z
UID:10001195-1794042000-1794063600@av8maps.com
SUMMARY:Cajun Fly-in (KHUM)
DESCRIPTION:Sponsored by EAA Chapter 513.\nCome out to the Houma-Terrebonne Airport to pass a good time!!!Fly-In\, Car Show\, Live Music\, Gumbo and fun!! \nEVENT SCHEDULE\n9-11 AM – Car Show Registration\n9 AM – Aircraft Arrivals Begins\n9 AM – GATE IS OPEN TO THE PUBLIC\n10AM-2PM – Live Music by Bob Josey\n11 AM – GUMBO Available\n1 PM – Presentation – Bill Fornof’s LA Aviaton HOF Induction.\n3 PM – Event Closes
URL:https://av8maps.com/event/cajun-fly-in/2026-11-07/
LOCATION:Houma–Terrebonne Airport\, 211 Aviation Rd\, Houma\, LA\, 70363\, United States
ATTACH;FMTTYPE=image/jpeg:https://av8maps.com/wp-content/uploads/2025/09/Cajun-Fly-in-e1761701355103.jpg
GEO:29.5760445;-90.6569606
X-APPLE-STRUCTURED-LOCATION;VALUE=URI;X-ADDRESS=Houma–Terrebonne Airport 211 Aviation Rd Houma LA 70363 United States;X-APPLE-RADIUS=500;X-TITLE=211 Aviation Rd:geo:-90.6569606,29.5760445
END:VEVENT
BEGIN:VEVENT
DTSTART;TZID=America/New_York:20271106T090000
DTEND;TZID=America/New_York:20271106T150000
DTSTAMP:20260424T220049
CREATED:20250906T160141Z
LAST-MODIFIED:20251029T183621Z
UID:10001196-1825491600-1825513200@av8maps.com
SUMMARY:Cajun Fly-in (KHUM)
DESCRIPTION:Sponsored by EAA Chapter 513.\nCome out to the Houma-Terrebonne Airport to pass a good time!!!Fly-In\, Car Show\, Live Music\, Gumbo and fun!! \nEVENT SCHEDULE\n9-11 AM – Car Show Registration\n9 AM – Aircraft Arrivals Begins\n9 AM – GATE IS OPEN TO THE PUBLIC\n10AM-2PM – Live Music by Bob Josey\n11 AM – GUMBO Available\n1 PM – Presentation – Bill Fornof’s LA Aviaton HOF Induction.\n3 PM – Event Closes
URL:https://av8maps.com/event/cajun-fly-in/2027-11-06/
LOCATION:Houma–Terrebonne Airport\, 211 Aviation Rd\, Houma\, LA\, 70363\, United States
ATTACH;FMTTYPE=image/jpeg:https://av8maps.com/wp-content/uploads/2025/09/Cajun-Fly-in-e1761701355103.jpg
GEO:29.5760445;-90.6569606
X-APPLE-STRUCTURED-LOCATION;VALUE=URI;X-ADDRESS=Houma–Terrebonne Airport 211 Aviation Rd Houma LA 70363 United States;X-APPLE-RADIUS=500;X-TITLE=211 Aviation Rd:geo:-90.6569606,29.5760445
END:VEVENT
BEGIN:VEVENT
DTSTART;TZID=America/New_York:20281104T090000
DTEND;TZID=America/New_York:20281104T150000
DTSTAMP:20260424T220049
CREATED:20250906T160141Z
LAST-MODIFIED:20251029T183621Z
UID:10001197-1856941200-1856962800@av8maps.com
SUMMARY:Cajun Fly-in (KHUM)
DESCRIPTION:Sponsored by EAA Chapter 513.\nCome out to the Houma-Terrebonne Airport to pass a good time!!!Fly-In\, Car Show\, Live Music\, Gumbo and fun!! \nEVENT SCHEDULE\n9-11 AM – Car Show Registration\n9 AM – Aircraft Arrivals Begins\n9 AM – GATE IS OPEN TO THE PUBLIC\n10AM-2PM – Live Music by Bob Josey\n11 AM – GUMBO Available\n1 PM – Presentation – Bill Fornof’s LA Aviaton HOF Induction.\n3 PM – Event Closes
URL:https://av8maps.com/event/cajun-fly-in/2028-11-04/
LOCATION:Houma–Terrebonne Airport\, 211 Aviation Rd\, Houma\, LA\, 70363\, United States
ATTACH;FMTTYPE=image/jpeg:https://av8maps.com/wp-content/uploads/2025/09/Cajun-Fly-in-e1761701355103.jpg
GEO:29.5760445;-90.6569606
X-APPLE-STRUCTURED-LOCATION;VALUE=URI;X-ADDRESS=Houma–Terrebonne Airport 211 Aviation Rd Houma LA 70363 United States;X-APPLE-RADIUS=500;X-TITLE=211 Aviation Rd:geo:-90.6569606,29.5760445
END:VEVENT
BEGIN:VEVENT
DTSTART;TZID=America/New_York:20291103T090000
DTEND;TZID=America/New_York:20291103T150000
DTSTAMP:20260424T220049
CREATED:20250906T160141Z
LAST-MODIFIED:20251029T183621Z
UID:10001198-1888390800-1888412400@av8maps.com
SUMMARY:Cajun Fly-in (KHUM)
DESCRIPTION:Sponsored by EAA Chapter 513.\nCome out to the Houma-Terrebonne Airport to pass a good time!!!Fly-In\, Car Show\, Live Music\, Gumbo and fun!! \nEVENT SCHEDULE\n9-11 AM – Car Show Registration\n9 AM – Aircraft Arrivals Begins\n9 AM – GATE IS OPEN TO THE PUBLIC\n10AM-2PM – Live Music by Bob Josey\n11 AM – GUMBO Available\n1 PM – Presentation – Bill Fornof’s LA Aviaton HOF Induction.\n3 PM – Event Closes
URL:https://av8maps.com/event/cajun-fly-in/2029-11-03/
LOCATION:Houma–Terrebonne Airport\, 211 Aviation Rd\, Houma\, LA\, 70363\, United States
ATTACH;FMTTYPE=image/jpeg:https://av8maps.com/wp-content/uploads/2025/09/Cajun-Fly-in-e1761701355103.jpg
GEO:29.5760445;-90.6569606
X-APPLE-STRUCTURED-LOCATION;VALUE=URI;X-ADDRESS=Houma–Terrebonne Airport 211 Aviation Rd Houma LA 70363 United States;X-APPLE-RADIUS=500;X-TITLE=211 Aviation Rd:geo:-90.6569606,29.5760445
END:VEVENT
END:VCALENDAR