BEGIN:VCALENDAR
VERSION:2.0
PRODID:-//AV8MAPS.COM - ECPv6.15.20//NONSGML v1.0//EN
CALSCALE:GREGORIAN
METHOD:PUBLISH
X-WR-CALNAME:AV8MAPS.COM
X-ORIGINAL-URL:https://av8maps.com
X-WR-CALDESC:Events for AV8MAPS.COM
REFRESH-INTERVAL;VALUE=DURATION:PT1H
X-Robots-Tag:noindex
X-PUBLISHED-TTL:PT1H
BEGIN:VTIMEZONE
TZID:America/New_York
BEGIN:DAYLIGHT
TZOFFSETFROM:-0500
TZOFFSETTO:-0400
TZNAME:EDT
DTSTART:20250309T070000
END:DAYLIGHT
BEGIN:STANDARD
TZOFFSETFROM:-0400
TZOFFSETTO:-0500
TZNAME:EST
DTSTART:20251102T060000
END:STANDARD
BEGIN:DAYLIGHT
TZOFFSETFROM:-0500
TZOFFSETTO:-0400
TZNAME:EDT
DTSTART:20260308T070000
END:DAYLIGHT
BEGIN:STANDARD
TZOFFSETFROM:-0400
TZOFFSETTO:-0500
TZNAME:EST
DTSTART:20261101T060000
END:STANDARD
BEGIN:DAYLIGHT
TZOFFSETFROM:-0500
TZOFFSETTO:-0400
TZNAME:EDT
DTSTART:20270314T070000
END:DAYLIGHT
BEGIN:STANDARD
TZOFFSETFROM:-0400
TZOFFSETTO:-0500
TZNAME:EST
DTSTART:20271107T060000
END:STANDARD
END:VTIMEZONE
BEGIN:VEVENT
DTSTART;TZID=America/New_York:20260423T113000
DTEND;TZID=America/New_York:20260423T140000
DTSTAMP:20260422T195607
CREATED:20251030T011021Z
LAST-MODIFIED:20251030T012122Z
UID:10001229-1776943800-1776952800@av8maps.com
SUMMARY:Dawg Gone Thursdays (42J)
DESCRIPTION:Come on out and have some great hot dogs with some great people. \nAny questions please call the FBO @ 1-352-473-0031
URL:https://av8maps.com/event/dawg-gone-thursdays-42j/2026-04-23/
LOCATION:Keystone Heights Airport\, 7150 Airport Rd\, Starke\, FL\, 32091
ATTACH;FMTTYPE=image/png:https://av8maps.com/wp-content/uploads/2025/10/Keystone-Heights-Airport-42J-e1761786579798.png
GEO:29.8384606;-82.0459281
X-APPLE-STRUCTURED-LOCATION;VALUE=URI;X-ADDRESS=Keystone Heights Airport 7150 Airport Rd Starke FL 32091;X-APPLE-RADIUS=500;X-TITLE=7150 Airport Rd:geo:-82.0459281,29.8384606
END:VEVENT
BEGIN:VEVENT
DTSTART;TZID=America/New_York:20260430T113000
DTEND;TZID=America/New_York:20260430T140000
DTSTAMP:20260422T195607
CREATED:20251030T011021Z
LAST-MODIFIED:20251030T012122Z
UID:10001230-1777548600-1777557600@av8maps.com
SUMMARY:Dawg Gone Thursdays (42J)
DESCRIPTION:Come on out and have some great hot dogs with some great people. \nAny questions please call the FBO @ 1-352-473-0031
URL:https://av8maps.com/event/dawg-gone-thursdays-42j/2026-04-30/
LOCATION:Keystone Heights Airport\, 7150 Airport Rd\, Starke\, FL\, 32091
ATTACH;FMTTYPE=image/png:https://av8maps.com/wp-content/uploads/2025/10/Keystone-Heights-Airport-42J-e1761786579798.png
GEO:29.8384606;-82.0459281
X-APPLE-STRUCTURED-LOCATION;VALUE=URI;X-ADDRESS=Keystone Heights Airport 7150 Airport Rd Starke FL 32091;X-APPLE-RADIUS=500;X-TITLE=7150 Airport Rd:geo:-82.0459281,29.8384606
END:VEVENT
BEGIN:VEVENT
DTSTART;TZID=America/New_York:20260507T113000
DTEND;TZID=America/New_York:20260507T140000
DTSTAMP:20260422T195608
CREATED:20251030T011021Z
LAST-MODIFIED:20251030T012122Z
UID:10001231-1778153400-1778162400@av8maps.com
SUMMARY:Dawg Gone Thursdays (42J)
DESCRIPTION:Come on out and have some great hot dogs with some great people. \nAny questions please call the FBO @ 1-352-473-0031
URL:https://av8maps.com/event/dawg-gone-thursdays-42j/2026-05-07/
LOCATION:Keystone Heights Airport\, 7150 Airport Rd\, Starke\, FL\, 32091
ATTACH;FMTTYPE=image/png:https://av8maps.com/wp-content/uploads/2025/10/Keystone-Heights-Airport-42J-e1761786579798.png
GEO:29.8384606;-82.0459281
X-APPLE-STRUCTURED-LOCATION;VALUE=URI;X-ADDRESS=Keystone Heights Airport 7150 Airport Rd Starke FL 32091;X-APPLE-RADIUS=500;X-TITLE=7150 Airport Rd:geo:-82.0459281,29.8384606
END:VEVENT
BEGIN:VEVENT
DTSTART;TZID=America/New_York:20260514T113000
DTEND;TZID=America/New_York:20260514T140000
DTSTAMP:20260422T195608
CREATED:20251030T011021Z
LAST-MODIFIED:20251030T012122Z
UID:10001232-1778758200-1778767200@av8maps.com
SUMMARY:Dawg Gone Thursdays (42J)
DESCRIPTION:Come on out and have some great hot dogs with some great people. \nAny questions please call the FBO @ 1-352-473-0031
URL:https://av8maps.com/event/dawg-gone-thursdays-42j/2026-05-14/
LOCATION:Keystone Heights Airport\, 7150 Airport Rd\, Starke\, FL\, 32091
ATTACH;FMTTYPE=image/png:https://av8maps.com/wp-content/uploads/2025/10/Keystone-Heights-Airport-42J-e1761786579798.png
GEO:29.8384606;-82.0459281
X-APPLE-STRUCTURED-LOCATION;VALUE=URI;X-ADDRESS=Keystone Heights Airport 7150 Airport Rd Starke FL 32091;X-APPLE-RADIUS=500;X-TITLE=7150 Airport Rd:geo:-82.0459281,29.8384606
END:VEVENT
BEGIN:VEVENT
DTSTART;TZID=America/New_York:20260521T113000
DTEND;TZID=America/New_York:20260521T140000
DTSTAMP:20260422T195608
CREATED:20251030T011021Z
LAST-MODIFIED:20251030T012122Z
UID:10001233-1779363000-1779372000@av8maps.com
SUMMARY:Dawg Gone Thursdays (42J)
DESCRIPTION:Come on out and have some great hot dogs with some great people. \nAny questions please call the FBO @ 1-352-473-0031
URL:https://av8maps.com/event/dawg-gone-thursdays-42j/2026-05-21/
LOCATION:Keystone Heights Airport\, 7150 Airport Rd\, Starke\, FL\, 32091
ATTACH;FMTTYPE=image/png:https://av8maps.com/wp-content/uploads/2025/10/Keystone-Heights-Airport-42J-e1761786579798.png
GEO:29.8384606;-82.0459281
X-APPLE-STRUCTURED-LOCATION;VALUE=URI;X-ADDRESS=Keystone Heights Airport 7150 Airport Rd Starke FL 32091;X-APPLE-RADIUS=500;X-TITLE=7150 Airport Rd:geo:-82.0459281,29.8384606
END:VEVENT
BEGIN:VEVENT
DTSTART;TZID=America/New_York:20260528T113000
DTEND;TZID=America/New_York:20260528T140000
DTSTAMP:20260422T195608
CREATED:20251030T011021Z
LAST-MODIFIED:20251030T012122Z
UID:10001234-1779967800-1779976800@av8maps.com
SUMMARY:Dawg Gone Thursdays (42J)
DESCRIPTION:Come on out and have some great hot dogs with some great people. \nAny questions please call the FBO @ 1-352-473-0031
URL:https://av8maps.com/event/dawg-gone-thursdays-42j/2026-05-28/
LOCATION:Keystone Heights Airport\, 7150 Airport Rd\, Starke\, FL\, 32091
ATTACH;FMTTYPE=image/png:https://av8maps.com/wp-content/uploads/2025/10/Keystone-Heights-Airport-42J-e1761786579798.png
GEO:29.8384606;-82.0459281
X-APPLE-STRUCTURED-LOCATION;VALUE=URI;X-ADDRESS=Keystone Heights Airport 7150 Airport Rd Starke FL 32091;X-APPLE-RADIUS=500;X-TITLE=7150 Airport Rd:geo:-82.0459281,29.8384606
END:VEVENT
BEGIN:VEVENT
DTSTART;TZID=America/New_York:20260604T113000
DTEND;TZID=America/New_York:20260604T140000
DTSTAMP:20260422T195608
CREATED:20251030T011021Z
LAST-MODIFIED:20251030T012122Z
UID:10001235-1780572600-1780581600@av8maps.com
SUMMARY:Dawg Gone Thursdays (42J)
DESCRIPTION:Come on out and have some great hot dogs with some great people. \nAny questions please call the FBO @ 1-352-473-0031
URL:https://av8maps.com/event/dawg-gone-thursdays-42j/2026-06-04/
LOCATION:Keystone Heights Airport\, 7150 Airport Rd\, Starke\, FL\, 32091
ATTACH;FMTTYPE=image/png:https://av8maps.com/wp-content/uploads/2025/10/Keystone-Heights-Airport-42J-e1761786579798.png
GEO:29.8384606;-82.0459281
X-APPLE-STRUCTURED-LOCATION;VALUE=URI;X-ADDRESS=Keystone Heights Airport 7150 Airport Rd Starke FL 32091;X-APPLE-RADIUS=500;X-TITLE=7150 Airport Rd:geo:-82.0459281,29.8384606
END:VEVENT
BEGIN:VEVENT
DTSTART;TZID=America/New_York:20260611T113000
DTEND;TZID=America/New_York:20260611T140000
DTSTAMP:20260422T195608
CREATED:20251030T011021Z
LAST-MODIFIED:20251030T012122Z
UID:10001236-1781177400-1781186400@av8maps.com
SUMMARY:Dawg Gone Thursdays (42J)
DESCRIPTION:Come on out and have some great hot dogs with some great people. \nAny questions please call the FBO @ 1-352-473-0031
URL:https://av8maps.com/event/dawg-gone-thursdays-42j/2026-06-11/
LOCATION:Keystone Heights Airport\, 7150 Airport Rd\, Starke\, FL\, 32091
ATTACH;FMTTYPE=image/png:https://av8maps.com/wp-content/uploads/2025/10/Keystone-Heights-Airport-42J-e1761786579798.png
GEO:29.8384606;-82.0459281
X-APPLE-STRUCTURED-LOCATION;VALUE=URI;X-ADDRESS=Keystone Heights Airport 7150 Airport Rd Starke FL 32091;X-APPLE-RADIUS=500;X-TITLE=7150 Airport Rd:geo:-82.0459281,29.8384606
END:VEVENT
BEGIN:VEVENT
DTSTART;TZID=America/New_York:20260618T113000
DTEND;TZID=America/New_York:20260618T140000
DTSTAMP:20260422T195608
CREATED:20251030T011021Z
LAST-MODIFIED:20251030T012122Z
UID:10001237-1781782200-1781791200@av8maps.com
SUMMARY:Dawg Gone Thursdays (42J)
DESCRIPTION:Come on out and have some great hot dogs with some great people. \nAny questions please call the FBO @ 1-352-473-0031
URL:https://av8maps.com/event/dawg-gone-thursdays-42j/2026-06-18/
LOCATION:Keystone Heights Airport\, 7150 Airport Rd\, Starke\, FL\, 32091
ATTACH;FMTTYPE=image/png:https://av8maps.com/wp-content/uploads/2025/10/Keystone-Heights-Airport-42J-e1761786579798.png
GEO:29.8384606;-82.0459281
X-APPLE-STRUCTURED-LOCATION;VALUE=URI;X-ADDRESS=Keystone Heights Airport 7150 Airport Rd Starke FL 32091;X-APPLE-RADIUS=500;X-TITLE=7150 Airport Rd:geo:-82.0459281,29.8384606
END:VEVENT
BEGIN:VEVENT
DTSTART;TZID=America/New_York:20260625T113000
DTEND;TZID=America/New_York:20260625T140000
DTSTAMP:20260422T195608
CREATED:20251030T011021Z
LAST-MODIFIED:20251030T012122Z
UID:10001238-1782387000-1782396000@av8maps.com
SUMMARY:Dawg Gone Thursdays (42J)
DESCRIPTION:Come on out and have some great hot dogs with some great people. \nAny questions please call the FBO @ 1-352-473-0031
URL:https://av8maps.com/event/dawg-gone-thursdays-42j/2026-06-25/
LOCATION:Keystone Heights Airport\, 7150 Airport Rd\, Starke\, FL\, 32091
ATTACH;FMTTYPE=image/png:https://av8maps.com/wp-content/uploads/2025/10/Keystone-Heights-Airport-42J-e1761786579798.png
GEO:29.8384606;-82.0459281
X-APPLE-STRUCTURED-LOCATION;VALUE=URI;X-ADDRESS=Keystone Heights Airport 7150 Airport Rd Starke FL 32091;X-APPLE-RADIUS=500;X-TITLE=7150 Airport Rd:geo:-82.0459281,29.8384606
END:VEVENT
BEGIN:VEVENT
DTSTART;TZID=America/New_York:20260702T113000
DTEND;TZID=America/New_York:20260702T140000
DTSTAMP:20260422T195608
CREATED:20251030T011021Z
LAST-MODIFIED:20251030T012122Z
UID:10001239-1782991800-1783000800@av8maps.com
SUMMARY:Dawg Gone Thursdays (42J)
DESCRIPTION:Come on out and have some great hot dogs with some great people. \nAny questions please call the FBO @ 1-352-473-0031
URL:https://av8maps.com/event/dawg-gone-thursdays-42j/2026-07-02/
LOCATION:Keystone Heights Airport\, 7150 Airport Rd\, Starke\, FL\, 32091
ATTACH;FMTTYPE=image/png:https://av8maps.com/wp-content/uploads/2025/10/Keystone-Heights-Airport-42J-e1761786579798.png
GEO:29.8384606;-82.0459281
X-APPLE-STRUCTURED-LOCATION;VALUE=URI;X-ADDRESS=Keystone Heights Airport 7150 Airport Rd Starke FL 32091;X-APPLE-RADIUS=500;X-TITLE=7150 Airport Rd:geo:-82.0459281,29.8384606
END:VEVENT
BEGIN:VEVENT
DTSTART;TZID=America/New_York:20260709T113000
DTEND;TZID=America/New_York:20260709T140000
DTSTAMP:20260422T195608
CREATED:20251030T011021Z
LAST-MODIFIED:20251030T012122Z
UID:10001240-1783596600-1783605600@av8maps.com
SUMMARY:Dawg Gone Thursdays (42J)
DESCRIPTION:Come on out and have some great hot dogs with some great people. \nAny questions please call the FBO @ 1-352-473-0031
URL:https://av8maps.com/event/dawg-gone-thursdays-42j/2026-07-09/
LOCATION:Keystone Heights Airport\, 7150 Airport Rd\, Starke\, FL\, 32091
ATTACH;FMTTYPE=image/png:https://av8maps.com/wp-content/uploads/2025/10/Keystone-Heights-Airport-42J-e1761786579798.png
GEO:29.8384606;-82.0459281
X-APPLE-STRUCTURED-LOCATION;VALUE=URI;X-ADDRESS=Keystone Heights Airport 7150 Airport Rd Starke FL 32091;X-APPLE-RADIUS=500;X-TITLE=7150 Airport Rd:geo:-82.0459281,29.8384606
END:VEVENT
BEGIN:VEVENT
DTSTART;TZID=America/New_York:20260716T113000
DTEND;TZID=America/New_York:20260716T140000
DTSTAMP:20260422T195608
CREATED:20251030T011021Z
LAST-MODIFIED:20251030T012122Z
UID:10001241-1784201400-1784210400@av8maps.com
SUMMARY:Dawg Gone Thursdays (42J)
DESCRIPTION:Come on out and have some great hot dogs with some great people. \nAny questions please call the FBO @ 1-352-473-0031
URL:https://av8maps.com/event/dawg-gone-thursdays-42j/2026-07-16/
LOCATION:Keystone Heights Airport\, 7150 Airport Rd\, Starke\, FL\, 32091
ATTACH;FMTTYPE=image/png:https://av8maps.com/wp-content/uploads/2025/10/Keystone-Heights-Airport-42J-e1761786579798.png
GEO:29.8384606;-82.0459281
X-APPLE-STRUCTURED-LOCATION;VALUE=URI;X-ADDRESS=Keystone Heights Airport 7150 Airport Rd Starke FL 32091;X-APPLE-RADIUS=500;X-TITLE=7150 Airport Rd:geo:-82.0459281,29.8384606
END:VEVENT
BEGIN:VEVENT
DTSTART;TZID=America/New_York:20260723T113000
DTEND;TZID=America/New_York:20260723T140000
DTSTAMP:20260422T195608
CREATED:20251030T011021Z
LAST-MODIFIED:20251030T012122Z
UID:10001242-1784806200-1784815200@av8maps.com
SUMMARY:Dawg Gone Thursdays (42J)
DESCRIPTION:Come on out and have some great hot dogs with some great people. \nAny questions please call the FBO @ 1-352-473-0031
URL:https://av8maps.com/event/dawg-gone-thursdays-42j/2026-07-23/
LOCATION:Keystone Heights Airport\, 7150 Airport Rd\, Starke\, FL\, 32091
ATTACH;FMTTYPE=image/png:https://av8maps.com/wp-content/uploads/2025/10/Keystone-Heights-Airport-42J-e1761786579798.png
GEO:29.8384606;-82.0459281
X-APPLE-STRUCTURED-LOCATION;VALUE=URI;X-ADDRESS=Keystone Heights Airport 7150 Airport Rd Starke FL 32091;X-APPLE-RADIUS=500;X-TITLE=7150 Airport Rd:geo:-82.0459281,29.8384606
END:VEVENT
BEGIN:VEVENT
DTSTART;TZID=America/New_York:20260730T113000
DTEND;TZID=America/New_York:20260730T140000
DTSTAMP:20260422T195608
CREATED:20251030T011021Z
LAST-MODIFIED:20251030T012122Z
UID:10001243-1785411000-1785420000@av8maps.com
SUMMARY:Dawg Gone Thursdays (42J)
DESCRIPTION:Come on out and have some great hot dogs with some great people. \nAny questions please call the FBO @ 1-352-473-0031
URL:https://av8maps.com/event/dawg-gone-thursdays-42j/2026-07-30/
LOCATION:Keystone Heights Airport\, 7150 Airport Rd\, Starke\, FL\, 32091
ATTACH;FMTTYPE=image/png:https://av8maps.com/wp-content/uploads/2025/10/Keystone-Heights-Airport-42J-e1761786579798.png
GEO:29.8384606;-82.0459281
X-APPLE-STRUCTURED-LOCATION;VALUE=URI;X-ADDRESS=Keystone Heights Airport 7150 Airport Rd Starke FL 32091;X-APPLE-RADIUS=500;X-TITLE=7150 Airport Rd:geo:-82.0459281,29.8384606
END:VEVENT
BEGIN:VEVENT
DTSTART;TZID=America/New_York:20260806T113000
DTEND;TZID=America/New_York:20260806T140000
DTSTAMP:20260422T195608
CREATED:20251030T011021Z
LAST-MODIFIED:20251030T012122Z
UID:10001244-1786015800-1786024800@av8maps.com
SUMMARY:Dawg Gone Thursdays (42J)
DESCRIPTION:Come on out and have some great hot dogs with some great people. \nAny questions please call the FBO @ 1-352-473-0031
URL:https://av8maps.com/event/dawg-gone-thursdays-42j/2026-08-06/
LOCATION:Keystone Heights Airport\, 7150 Airport Rd\, Starke\, FL\, 32091
ATTACH;FMTTYPE=image/png:https://av8maps.com/wp-content/uploads/2025/10/Keystone-Heights-Airport-42J-e1761786579798.png
GEO:29.8384606;-82.0459281
X-APPLE-STRUCTURED-LOCATION;VALUE=URI;X-ADDRESS=Keystone Heights Airport 7150 Airport Rd Starke FL 32091;X-APPLE-RADIUS=500;X-TITLE=7150 Airport Rd:geo:-82.0459281,29.8384606
END:VEVENT
BEGIN:VEVENT
DTSTART;TZID=America/New_York:20260813T113000
DTEND;TZID=America/New_York:20260813T140000
DTSTAMP:20260422T195608
CREATED:20251030T011021Z
LAST-MODIFIED:20251030T012122Z
UID:10001245-1786620600-1786629600@av8maps.com
SUMMARY:Dawg Gone Thursdays (42J)
DESCRIPTION:Come on out and have some great hot dogs with some great people. \nAny questions please call the FBO @ 1-352-473-0031
URL:https://av8maps.com/event/dawg-gone-thursdays-42j/2026-08-13/
LOCATION:Keystone Heights Airport\, 7150 Airport Rd\, Starke\, FL\, 32091
ATTACH;FMTTYPE=image/png:https://av8maps.com/wp-content/uploads/2025/10/Keystone-Heights-Airport-42J-e1761786579798.png
GEO:29.8384606;-82.0459281
X-APPLE-STRUCTURED-LOCATION;VALUE=URI;X-ADDRESS=Keystone Heights Airport 7150 Airport Rd Starke FL 32091;X-APPLE-RADIUS=500;X-TITLE=7150 Airport Rd:geo:-82.0459281,29.8384606
END:VEVENT
BEGIN:VEVENT
DTSTART;TZID=America/New_York:20260820T113000
DTEND;TZID=America/New_York:20260820T140000
DTSTAMP:20260422T195608
CREATED:20251030T011021Z
LAST-MODIFIED:20251030T012122Z
UID:10001246-1787225400-1787234400@av8maps.com
SUMMARY:Dawg Gone Thursdays (42J)
DESCRIPTION:Come on out and have some great hot dogs with some great people. \nAny questions please call the FBO @ 1-352-473-0031
URL:https://av8maps.com/event/dawg-gone-thursdays-42j/2026-08-20/
LOCATION:Keystone Heights Airport\, 7150 Airport Rd\, Starke\, FL\, 32091
ATTACH;FMTTYPE=image/png:https://av8maps.com/wp-content/uploads/2025/10/Keystone-Heights-Airport-42J-e1761786579798.png
GEO:29.8384606;-82.0459281
X-APPLE-STRUCTURED-LOCATION;VALUE=URI;X-ADDRESS=Keystone Heights Airport 7150 Airport Rd Starke FL 32091;X-APPLE-RADIUS=500;X-TITLE=7150 Airport Rd:geo:-82.0459281,29.8384606
END:VEVENT
BEGIN:VEVENT
DTSTART;TZID=America/New_York:20260827T113000
DTEND;TZID=America/New_York:20260827T140000
DTSTAMP:20260422T195608
CREATED:20251030T011021Z
LAST-MODIFIED:20251030T012122Z
UID:10001247-1787830200-1787839200@av8maps.com
SUMMARY:Dawg Gone Thursdays (42J)
DESCRIPTION:Come on out and have some great hot dogs with some great people. \nAny questions please call the FBO @ 1-352-473-0031
URL:https://av8maps.com/event/dawg-gone-thursdays-42j/2026-08-27/
LOCATION:Keystone Heights Airport\, 7150 Airport Rd\, Starke\, FL\, 32091
ATTACH;FMTTYPE=image/png:https://av8maps.com/wp-content/uploads/2025/10/Keystone-Heights-Airport-42J-e1761786579798.png
GEO:29.8384606;-82.0459281
X-APPLE-STRUCTURED-LOCATION;VALUE=URI;X-ADDRESS=Keystone Heights Airport 7150 Airport Rd Starke FL 32091;X-APPLE-RADIUS=500;X-TITLE=7150 Airport Rd:geo:-82.0459281,29.8384606
END:VEVENT
BEGIN:VEVENT
DTSTART;TZID=America/New_York:20260903T113000
DTEND;TZID=America/New_York:20260903T140000
DTSTAMP:20260422T195608
CREATED:20251030T011021Z
LAST-MODIFIED:20251030T012122Z
UID:10001248-1788435000-1788444000@av8maps.com
SUMMARY:Dawg Gone Thursdays (42J)
DESCRIPTION:Come on out and have some great hot dogs with some great people. \nAny questions please call the FBO @ 1-352-473-0031
URL:https://av8maps.com/event/dawg-gone-thursdays-42j/2026-09-03/
LOCATION:Keystone Heights Airport\, 7150 Airport Rd\, Starke\, FL\, 32091
ATTACH;FMTTYPE=image/png:https://av8maps.com/wp-content/uploads/2025/10/Keystone-Heights-Airport-42J-e1761786579798.png
GEO:29.8384606;-82.0459281
X-APPLE-STRUCTURED-LOCATION;VALUE=URI;X-ADDRESS=Keystone Heights Airport 7150 Airport Rd Starke FL 32091;X-APPLE-RADIUS=500;X-TITLE=7150 Airport Rd:geo:-82.0459281,29.8384606
END:VEVENT
BEGIN:VEVENT
DTSTART;TZID=America/New_York:20260910T113000
DTEND;TZID=America/New_York:20260910T140000
DTSTAMP:20260422T195608
CREATED:20251030T011021Z
LAST-MODIFIED:20251030T012122Z
UID:10001249-1789039800-1789048800@av8maps.com
SUMMARY:Dawg Gone Thursdays (42J)
DESCRIPTION:Come on out and have some great hot dogs with some great people. \nAny questions please call the FBO @ 1-352-473-0031
URL:https://av8maps.com/event/dawg-gone-thursdays-42j/2026-09-10/
LOCATION:Keystone Heights Airport\, 7150 Airport Rd\, Starke\, FL\, 32091
ATTACH;FMTTYPE=image/png:https://av8maps.com/wp-content/uploads/2025/10/Keystone-Heights-Airport-42J-e1761786579798.png
GEO:29.8384606;-82.0459281
X-APPLE-STRUCTURED-LOCATION;VALUE=URI;X-ADDRESS=Keystone Heights Airport 7150 Airport Rd Starke FL 32091;X-APPLE-RADIUS=500;X-TITLE=7150 Airport Rd:geo:-82.0459281,29.8384606
END:VEVENT
BEGIN:VEVENT
DTSTART;TZID=America/New_York:20260917T113000
DTEND;TZID=America/New_York:20260917T140000
DTSTAMP:20260422T195608
CREATED:20251030T011021Z
LAST-MODIFIED:20251030T012122Z
UID:10001250-1789644600-1789653600@av8maps.com
SUMMARY:Dawg Gone Thursdays (42J)
DESCRIPTION:Come on out and have some great hot dogs with some great people. \nAny questions please call the FBO @ 1-352-473-0031
URL:https://av8maps.com/event/dawg-gone-thursdays-42j/2026-09-17/
LOCATION:Keystone Heights Airport\, 7150 Airport Rd\, Starke\, FL\, 32091
ATTACH;FMTTYPE=image/png:https://av8maps.com/wp-content/uploads/2025/10/Keystone-Heights-Airport-42J-e1761786579798.png
GEO:29.8384606;-82.0459281
X-APPLE-STRUCTURED-LOCATION;VALUE=URI;X-ADDRESS=Keystone Heights Airport 7150 Airport Rd Starke FL 32091;X-APPLE-RADIUS=500;X-TITLE=7150 Airport Rd:geo:-82.0459281,29.8384606
END:VEVENT
BEGIN:VEVENT
DTSTART;TZID=America/New_York:20260924T113000
DTEND;TZID=America/New_York:20260924T140000
DTSTAMP:20260422T195608
CREATED:20251030T011021Z
LAST-MODIFIED:20251030T012122Z
UID:10001251-1790249400-1790258400@av8maps.com
SUMMARY:Dawg Gone Thursdays (42J)
DESCRIPTION:Come on out and have some great hot dogs with some great people. \nAny questions please call the FBO @ 1-352-473-0031
URL:https://av8maps.com/event/dawg-gone-thursdays-42j/2026-09-24/
LOCATION:Keystone Heights Airport\, 7150 Airport Rd\, Starke\, FL\, 32091
ATTACH;FMTTYPE=image/png:https://av8maps.com/wp-content/uploads/2025/10/Keystone-Heights-Airport-42J-e1761786579798.png
GEO:29.8384606;-82.0459281
X-APPLE-STRUCTURED-LOCATION;VALUE=URI;X-ADDRESS=Keystone Heights Airport 7150 Airport Rd Starke FL 32091;X-APPLE-RADIUS=500;X-TITLE=7150 Airport Rd:geo:-82.0459281,29.8384606
END:VEVENT
BEGIN:VEVENT
DTSTART;TZID=America/New_York:20261001T113000
DTEND;TZID=America/New_York:20261001T140000
DTSTAMP:20260422T195608
CREATED:20251030T011021Z
LAST-MODIFIED:20251030T012122Z
UID:10001252-1790854200-1790863200@av8maps.com
SUMMARY:Dawg Gone Thursdays (42J)
DESCRIPTION:Come on out and have some great hot dogs with some great people. \nAny questions please call the FBO @ 1-352-473-0031
URL:https://av8maps.com/event/dawg-gone-thursdays-42j/2026-10-01/
LOCATION:Keystone Heights Airport\, 7150 Airport Rd\, Starke\, FL\, 32091
ATTACH;FMTTYPE=image/png:https://av8maps.com/wp-content/uploads/2025/10/Keystone-Heights-Airport-42J-e1761786579798.png
GEO:29.8384606;-82.0459281
X-APPLE-STRUCTURED-LOCATION;VALUE=URI;X-ADDRESS=Keystone Heights Airport 7150 Airport Rd Starke FL 32091;X-APPLE-RADIUS=500;X-TITLE=7150 Airport Rd:geo:-82.0459281,29.8384606
END:VEVENT
BEGIN:VEVENT
DTSTART;TZID=America/New_York:20261008T113000
DTEND;TZID=America/New_York:20261008T140000
DTSTAMP:20260422T195608
CREATED:20251030T011021Z
LAST-MODIFIED:20251030T012122Z
UID:10001253-1791459000-1791468000@av8maps.com
SUMMARY:Dawg Gone Thursdays (42J)
DESCRIPTION:Come on out and have some great hot dogs with some great people. \nAny questions please call the FBO @ 1-352-473-0031
URL:https://av8maps.com/event/dawg-gone-thursdays-42j/2026-10-08/
LOCATION:Keystone Heights Airport\, 7150 Airport Rd\, Starke\, FL\, 32091
ATTACH;FMTTYPE=image/png:https://av8maps.com/wp-content/uploads/2025/10/Keystone-Heights-Airport-42J-e1761786579798.png
GEO:29.8384606;-82.0459281
X-APPLE-STRUCTURED-LOCATION;VALUE=URI;X-ADDRESS=Keystone Heights Airport 7150 Airport Rd Starke FL 32091;X-APPLE-RADIUS=500;X-TITLE=7150 Airport Rd:geo:-82.0459281,29.8384606
END:VEVENT
BEGIN:VEVENT
DTSTART;TZID=America/New_York:20261015T113000
DTEND;TZID=America/New_York:20261015T140000
DTSTAMP:20260422T195608
CREATED:20251030T011021Z
LAST-MODIFIED:20251030T012122Z
UID:10001254-1792063800-1792072800@av8maps.com
SUMMARY:Dawg Gone Thursdays (42J)
DESCRIPTION:Come on out and have some great hot dogs with some great people. \nAny questions please call the FBO @ 1-352-473-0031
URL:https://av8maps.com/event/dawg-gone-thursdays-42j/2026-10-15/
LOCATION:Keystone Heights Airport\, 7150 Airport Rd\, Starke\, FL\, 32091
ATTACH;FMTTYPE=image/png:https://av8maps.com/wp-content/uploads/2025/10/Keystone-Heights-Airport-42J-e1761786579798.png
GEO:29.8384606;-82.0459281
X-APPLE-STRUCTURED-LOCATION;VALUE=URI;X-ADDRESS=Keystone Heights Airport 7150 Airport Rd Starke FL 32091;X-APPLE-RADIUS=500;X-TITLE=7150 Airport Rd:geo:-82.0459281,29.8384606
END:VEVENT
BEGIN:VEVENT
DTSTART;TZID=America/New_York:20261022T113000
DTEND;TZID=America/New_York:20261022T140000
DTSTAMP:20260422T195608
CREATED:20251030T011021Z
LAST-MODIFIED:20251030T012122Z
UID:10001255-1792668600-1792677600@av8maps.com
SUMMARY:Dawg Gone Thursdays (42J)
DESCRIPTION:Come on out and have some great hot dogs with some great people. \nAny questions please call the FBO @ 1-352-473-0031
URL:https://av8maps.com/event/dawg-gone-thursdays-42j/2026-10-22/
LOCATION:Keystone Heights Airport\, 7150 Airport Rd\, Starke\, FL\, 32091
ATTACH;FMTTYPE=image/png:https://av8maps.com/wp-content/uploads/2025/10/Keystone-Heights-Airport-42J-e1761786579798.png
GEO:29.8384606;-82.0459281
X-APPLE-STRUCTURED-LOCATION;VALUE=URI;X-ADDRESS=Keystone Heights Airport 7150 Airport Rd Starke FL 32091;X-APPLE-RADIUS=500;X-TITLE=7150 Airport Rd:geo:-82.0459281,29.8384606
END:VEVENT
BEGIN:VEVENT
DTSTART;TZID=America/New_York:20261029T113000
DTEND;TZID=America/New_York:20261029T140000
DTSTAMP:20260422T195608
CREATED:20251030T011021Z
LAST-MODIFIED:20251030T012122Z
UID:10001256-1793273400-1793282400@av8maps.com
SUMMARY:Dawg Gone Thursdays (42J)
DESCRIPTION:Come on out and have some great hot dogs with some great people. \nAny questions please call the FBO @ 1-352-473-0031
URL:https://av8maps.com/event/dawg-gone-thursdays-42j/2026-10-29/
LOCATION:Keystone Heights Airport\, 7150 Airport Rd\, Starke\, FL\, 32091
ATTACH;FMTTYPE=image/png:https://av8maps.com/wp-content/uploads/2025/10/Keystone-Heights-Airport-42J-e1761786579798.png
GEO:29.8384606;-82.0459281
X-APPLE-STRUCTURED-LOCATION;VALUE=URI;X-ADDRESS=Keystone Heights Airport 7150 Airport Rd Starke FL 32091;X-APPLE-RADIUS=500;X-TITLE=7150 Airport Rd:geo:-82.0459281,29.8384606
END:VEVENT
BEGIN:VEVENT
DTSTART;TZID=America/New_York:20261105T113000
DTEND;TZID=America/New_York:20261105T140000
DTSTAMP:20260422T195608
CREATED:20251030T011021Z
LAST-MODIFIED:20251030T012122Z
UID:10001257-1793878200-1793887200@av8maps.com
SUMMARY:Dawg Gone Thursdays (42J)
DESCRIPTION:Come on out and have some great hot dogs with some great people. \nAny questions please call the FBO @ 1-352-473-0031
URL:https://av8maps.com/event/dawg-gone-thursdays-42j/2026-11-05/
LOCATION:Keystone Heights Airport\, 7150 Airport Rd\, Starke\, FL\, 32091
ATTACH;FMTTYPE=image/png:https://av8maps.com/wp-content/uploads/2025/10/Keystone-Heights-Airport-42J-e1761786579798.png
GEO:29.8384606;-82.0459281
X-APPLE-STRUCTURED-LOCATION;VALUE=URI;X-ADDRESS=Keystone Heights Airport 7150 Airport Rd Starke FL 32091;X-APPLE-RADIUS=500;X-TITLE=7150 Airport Rd:geo:-82.0459281,29.8384606
END:VEVENT
BEGIN:VEVENT
DTSTART;TZID=America/New_York:20261112T113000
DTEND;TZID=America/New_York:20261112T140000
DTSTAMP:20260422T195608
CREATED:20251030T011021Z
LAST-MODIFIED:20251030T012122Z
UID:10001258-1794483000-1794492000@av8maps.com
SUMMARY:Dawg Gone Thursdays (42J)
DESCRIPTION:Come on out and have some great hot dogs with some great people. \nAny questions please call the FBO @ 1-352-473-0031
URL:https://av8maps.com/event/dawg-gone-thursdays-42j/2026-11-12/
LOCATION:Keystone Heights Airport\, 7150 Airport Rd\, Starke\, FL\, 32091
ATTACH;FMTTYPE=image/png:https://av8maps.com/wp-content/uploads/2025/10/Keystone-Heights-Airport-42J-e1761786579798.png
GEO:29.8384606;-82.0459281
X-APPLE-STRUCTURED-LOCATION;VALUE=URI;X-ADDRESS=Keystone Heights Airport 7150 Airport Rd Starke FL 32091;X-APPLE-RADIUS=500;X-TITLE=7150 Airport Rd:geo:-82.0459281,29.8384606
END:VEVENT
END:VCALENDAR