BEGIN:VCALENDAR
VERSION:2.0
PRODID:-//AV8MAPS.COM - ECPv6.15.20//NONSGML v1.0//EN
CALSCALE:GREGORIAN
METHOD:PUBLISH
X-WR-CALNAME:AV8MAPS.COM
X-ORIGINAL-URL:https://av8maps.com
X-WR-CALDESC:Events for AV8MAPS.COM
REFRESH-INTERVAL;VALUE=DURATION:PT1H
X-Robots-Tag:noindex
X-PUBLISHED-TTL:PT1H
BEGIN:VTIMEZONE
TZID:America/New_York
BEGIN:DAYLIGHT
TZOFFSETFROM:-0500
TZOFFSETTO:-0400
TZNAME:EDT
DTSTART:20250309T070000
END:DAYLIGHT
BEGIN:STANDARD
TZOFFSETFROM:-0400
TZOFFSETTO:-0500
TZNAME:EST
DTSTART:20251102T060000
END:STANDARD
BEGIN:DAYLIGHT
TZOFFSETFROM:-0500
TZOFFSETTO:-0400
TZNAME:EDT
DTSTART:20260308T070000
END:DAYLIGHT
BEGIN:STANDARD
TZOFFSETFROM:-0400
TZOFFSETTO:-0500
TZNAME:EST
DTSTART:20261101T060000
END:STANDARD
BEGIN:DAYLIGHT
TZOFFSETFROM:-0500
TZOFFSETTO:-0400
TZNAME:EDT
DTSTART:20270314T070000
END:DAYLIGHT
BEGIN:STANDARD
TZOFFSETFROM:-0400
TZOFFSETTO:-0500
TZNAME:EST
DTSTART:20271107T060000
END:STANDARD
BEGIN:DAYLIGHT
TZOFFSETFROM:-0500
TZOFFSETTO:-0400
TZNAME:EDT
DTSTART:20280312T070000
END:DAYLIGHT
BEGIN:STANDARD
TZOFFSETFROM:-0400
TZOFFSETTO:-0500
TZNAME:EST
DTSTART:20281105T060000
END:STANDARD
BEGIN:DAYLIGHT
TZOFFSETFROM:-0500
TZOFFSETTO:-0400
TZNAME:EDT
DTSTART:20290311T070000
END:DAYLIGHT
BEGIN:STANDARD
TZOFFSETFROM:-0400
TZOFFSETTO:-0500
TZNAME:EST
DTSTART:20291104T060000
END:STANDARD
BEGIN:DAYLIGHT
TZOFFSETFROM:-0500
TZOFFSETTO:-0400
TZNAME:EDT
DTSTART:20300310T070000
END:DAYLIGHT
BEGIN:STANDARD
TZOFFSETFROM:-0400
TZOFFSETTO:-0500
TZNAME:EST
DTSTART:20301103T060000
END:STANDARD
BEGIN:DAYLIGHT
TZOFFSETFROM:-0500
TZOFFSETTO:-0400
TZNAME:EDT
DTSTART:20310309T070000
END:DAYLIGHT
BEGIN:STANDARD
TZOFFSETFROM:-0400
TZOFFSETTO:-0500
TZNAME:EST
DTSTART:20311102T060000
END:STANDARD
END:VTIMEZONE
BEGIN:VEVENT
DTSTART;TZID=America/New_York:20260919T100000
DTEND;TZID=America/New_York:20260919T150000
DTSTAMP:20260425T092527
CREATED:20251031T000354Z
LAST-MODIFIED:20251031T000421Z
UID:10001527-1789812000-1789830000@av8maps.com
SUMMARY:EAA Chapter 1494 Annual Fly-in Drive-in (KMOR)
DESCRIPTION:The Annual Fly-in & Drive-in @ the Morristown Regional Airport (MOR)\n\n\n\n\n\nSaturday\, September 20th from 10am – 3pm\n\n\n\n\n\nFly-in Fuel Discount!!\n\n\nAvgas will be $4.50 out the door!\n\n\n\n\n\nSpecial Activity Announcements!!\n\n\nOpening Ceremony @ 10:30\n\n\nVeteran’s Pinning @ 11:00\n\n\nRosie the Riveter Stories & Group Photo 12:15-12:45\n\n\n“Why I Love the DC-3”\, military & civilian stories @ 1:00\n\n\n\n\n\nVisit the EAA 1494 Facebook Page for a full schedule of activities for the day (Fly-in Event).\n\n\n\n\n\nI hope you can fly or drive over this Saturday\, September 20th.\n\n\nNOTE: All drive in attendee parking (except show cars) is at Alpha Baptist Church\, just west of the terminal building off Old Highway 11E.\n\n\nPlease email us with any questions: eaachapter1494@gmail.com\n\n\nKaren
URL:https://av8maps.com/event/annual-fly-in-drive-in-kmor/2026-09-19/
LOCATION:Morristown Regional Airport\, 5233 Old Hwy 11E\, Morristown\, TN\, 37814
ATTACH;FMTTYPE=image/jpeg:https://av8maps.com/wp-content/uploads/2025/10/Morristown-Regional-Annual-fly-in-KMOR-e1761869019254.jpg
GEO:36.1793847;-83.3754545
X-APPLE-STRUCTURED-LOCATION;VALUE=URI;X-ADDRESS=Morristown Regional Airport 5233 Old Hwy 11E Morristown TN 37814;X-APPLE-RADIUS=500;X-TITLE=5233 Old Hwy 11E:geo:-83.3754545,36.1793847
END:VEVENT
BEGIN:VEVENT
DTSTART;TZID=America/New_York:20270918T100000
DTEND;TZID=America/New_York:20270918T150000
DTSTAMP:20260425T092527
CREATED:20251031T000354Z
LAST-MODIFIED:20251031T000421Z
UID:10001528-1821261600-1821279600@av8maps.com
SUMMARY:EAA Chapter 1494 Annual Fly-in Drive-in (KMOR)
DESCRIPTION:The Annual Fly-in & Drive-in @ the Morristown Regional Airport (MOR)\n\n\n\n\n\nSaturday\, September 20th from 10am – 3pm\n\n\n\n\n\nFly-in Fuel Discount!!\n\n\nAvgas will be $4.50 out the door!\n\n\n\n\n\nSpecial Activity Announcements!!\n\n\nOpening Ceremony @ 10:30\n\n\nVeteran’s Pinning @ 11:00\n\n\nRosie the Riveter Stories & Group Photo 12:15-12:45\n\n\n“Why I Love the DC-3”\, military & civilian stories @ 1:00\n\n\n\n\n\nVisit the EAA 1494 Facebook Page for a full schedule of activities for the day (Fly-in Event).\n\n\n\n\n\nI hope you can fly or drive over this Saturday\, September 20th.\n\n\nNOTE: All drive in attendee parking (except show cars) is at Alpha Baptist Church\, just west of the terminal building off Old Highway 11E.\n\n\nPlease email us with any questions: eaachapter1494@gmail.com\n\n\nKaren
URL:https://av8maps.com/event/annual-fly-in-drive-in-kmor/2027-09-18/
LOCATION:Morristown Regional Airport\, 5233 Old Hwy 11E\, Morristown\, TN\, 37814
ATTACH;FMTTYPE=image/jpeg:https://av8maps.com/wp-content/uploads/2025/10/Morristown-Regional-Annual-fly-in-KMOR-e1761869019254.jpg
GEO:36.1793847;-83.3754545
X-APPLE-STRUCTURED-LOCATION;VALUE=URI;X-ADDRESS=Morristown Regional Airport 5233 Old Hwy 11E Morristown TN 37814;X-APPLE-RADIUS=500;X-TITLE=5233 Old Hwy 11E:geo:-83.3754545,36.1793847
END:VEVENT
BEGIN:VEVENT
DTSTART;TZID=America/New_York:20280916T100000
DTEND;TZID=America/New_York:20280916T150000
DTSTAMP:20260425T092527
CREATED:20251031T000354Z
LAST-MODIFIED:20251031T000421Z
UID:10001529-1852711200-1852729200@av8maps.com
SUMMARY:EAA Chapter 1494 Annual Fly-in Drive-in (KMOR)
DESCRIPTION:The Annual Fly-in & Drive-in @ the Morristown Regional Airport (MOR)\n\n\n\n\n\nSaturday\, September 20th from 10am – 3pm\n\n\n\n\n\nFly-in Fuel Discount!!\n\n\nAvgas will be $4.50 out the door!\n\n\n\n\n\nSpecial Activity Announcements!!\n\n\nOpening Ceremony @ 10:30\n\n\nVeteran’s Pinning @ 11:00\n\n\nRosie the Riveter Stories & Group Photo 12:15-12:45\n\n\n“Why I Love the DC-3”\, military & civilian stories @ 1:00\n\n\n\n\n\nVisit the EAA 1494 Facebook Page for a full schedule of activities for the day (Fly-in Event).\n\n\n\n\n\nI hope you can fly or drive over this Saturday\, September 20th.\n\n\nNOTE: All drive in attendee parking (except show cars) is at Alpha Baptist Church\, just west of the terminal building off Old Highway 11E.\n\n\nPlease email us with any questions: eaachapter1494@gmail.com\n\n\nKaren
URL:https://av8maps.com/event/annual-fly-in-drive-in-kmor/2028-09-16/
LOCATION:Morristown Regional Airport\, 5233 Old Hwy 11E\, Morristown\, TN\, 37814
ATTACH;FMTTYPE=image/jpeg:https://av8maps.com/wp-content/uploads/2025/10/Morristown-Regional-Annual-fly-in-KMOR-e1761869019254.jpg
GEO:36.1793847;-83.3754545
X-APPLE-STRUCTURED-LOCATION;VALUE=URI;X-ADDRESS=Morristown Regional Airport 5233 Old Hwy 11E Morristown TN 37814;X-APPLE-RADIUS=500;X-TITLE=5233 Old Hwy 11E:geo:-83.3754545,36.1793847
END:VEVENT
BEGIN:VEVENT
DTSTART;TZID=America/New_York:20290915T100000
DTEND;TZID=America/New_York:20290915T150000
DTSTAMP:20260425T092527
CREATED:20251031T000354Z
LAST-MODIFIED:20251031T000421Z
UID:10001530-1884160800-1884178800@av8maps.com
SUMMARY:EAA Chapter 1494 Annual Fly-in Drive-in (KMOR)
DESCRIPTION:The Annual Fly-in & Drive-in @ the Morristown Regional Airport (MOR)\n\n\n\n\n\nSaturday\, September 20th from 10am – 3pm\n\n\n\n\n\nFly-in Fuel Discount!!\n\n\nAvgas will be $4.50 out the door!\n\n\n\n\n\nSpecial Activity Announcements!!\n\n\nOpening Ceremony @ 10:30\n\n\nVeteran’s Pinning @ 11:00\n\n\nRosie the Riveter Stories & Group Photo 12:15-12:45\n\n\n“Why I Love the DC-3”\, military & civilian stories @ 1:00\n\n\n\n\n\nVisit the EAA 1494 Facebook Page for a full schedule of activities for the day (Fly-in Event).\n\n\n\n\n\nI hope you can fly or drive over this Saturday\, September 20th.\n\n\nNOTE: All drive in attendee parking (except show cars) is at Alpha Baptist Church\, just west of the terminal building off Old Highway 11E.\n\n\nPlease email us with any questions: eaachapter1494@gmail.com\n\n\nKaren
URL:https://av8maps.com/event/annual-fly-in-drive-in-kmor/2029-09-15/
LOCATION:Morristown Regional Airport\, 5233 Old Hwy 11E\, Morristown\, TN\, 37814
ATTACH;FMTTYPE=image/jpeg:https://av8maps.com/wp-content/uploads/2025/10/Morristown-Regional-Annual-fly-in-KMOR-e1761869019254.jpg
GEO:36.1793847;-83.3754545
X-APPLE-STRUCTURED-LOCATION;VALUE=URI;X-ADDRESS=Morristown Regional Airport 5233 Old Hwy 11E Morristown TN 37814;X-APPLE-RADIUS=500;X-TITLE=5233 Old Hwy 11E:geo:-83.3754545,36.1793847
END:VEVENT
BEGIN:VEVENT
DTSTART;TZID=America/New_York:20300921T100000
DTEND;TZID=America/New_York:20300921T150000
DTSTAMP:20260425T092527
CREATED:20251031T000354Z
LAST-MODIFIED:20251031T000421Z
UID:10001531-1916215200-1916233200@av8maps.com
SUMMARY:EAA Chapter 1494 Annual Fly-in Drive-in (KMOR)
DESCRIPTION:The Annual Fly-in & Drive-in @ the Morristown Regional Airport (MOR)\n\n\n\n\n\nSaturday\, September 20th from 10am – 3pm\n\n\n\n\n\nFly-in Fuel Discount!!\n\n\nAvgas will be $4.50 out the door!\n\n\n\n\n\nSpecial Activity Announcements!!\n\n\nOpening Ceremony @ 10:30\n\n\nVeteran’s Pinning @ 11:00\n\n\nRosie the Riveter Stories & Group Photo 12:15-12:45\n\n\n“Why I Love the DC-3”\, military & civilian stories @ 1:00\n\n\n\n\n\nVisit the EAA 1494 Facebook Page for a full schedule of activities for the day (Fly-in Event).\n\n\n\n\n\nI hope you can fly or drive over this Saturday\, September 20th.\n\n\nNOTE: All drive in attendee parking (except show cars) is at Alpha Baptist Church\, just west of the terminal building off Old Highway 11E.\n\n\nPlease email us with any questions: eaachapter1494@gmail.com\n\n\nKaren
URL:https://av8maps.com/event/annual-fly-in-drive-in-kmor/2030-09-21/
LOCATION:Morristown Regional Airport\, 5233 Old Hwy 11E\, Morristown\, TN\, 37814
ATTACH;FMTTYPE=image/jpeg:https://av8maps.com/wp-content/uploads/2025/10/Morristown-Regional-Annual-fly-in-KMOR-e1761869019254.jpg
GEO:36.1793847;-83.3754545
X-APPLE-STRUCTURED-LOCATION;VALUE=URI;X-ADDRESS=Morristown Regional Airport 5233 Old Hwy 11E Morristown TN 37814;X-APPLE-RADIUS=500;X-TITLE=5233 Old Hwy 11E:geo:-83.3754545,36.1793847
END:VEVENT
END:VCALENDAR