BEGIN:VCALENDAR
VERSION:2.0
PRODID:-//AV8MAPS.COM - ECPv6.15.20//NONSGML v1.0//EN
CALSCALE:GREGORIAN
METHOD:PUBLISH
X-WR-CALNAME:AV8MAPS.COM
X-ORIGINAL-URL:https://av8maps.com
X-WR-CALDESC:Events for AV8MAPS.COM
REFRESH-INTERVAL;VALUE=DURATION:PT1H
X-Robots-Tag:noindex
X-PUBLISHED-TTL:PT1H
BEGIN:VTIMEZONE
TZID:America/New_York
BEGIN:DAYLIGHT
TZOFFSETFROM:-0500
TZOFFSETTO:-0400
TZNAME:EDT
DTSTART:20250309T070000
END:DAYLIGHT
BEGIN:STANDARD
TZOFFSETFROM:-0400
TZOFFSETTO:-0500
TZNAME:EST
DTSTART:20251102T060000
END:STANDARD
BEGIN:DAYLIGHT
TZOFFSETFROM:-0500
TZOFFSETTO:-0400
TZNAME:EDT
DTSTART:20260308T070000
END:DAYLIGHT
BEGIN:STANDARD
TZOFFSETFROM:-0400
TZOFFSETTO:-0500
TZNAME:EST
DTSTART:20261101T060000
END:STANDARD
BEGIN:DAYLIGHT
TZOFFSETFROM:-0500
TZOFFSETTO:-0400
TZNAME:EDT
DTSTART:20270314T070000
END:DAYLIGHT
BEGIN:STANDARD
TZOFFSETFROM:-0400
TZOFFSETTO:-0500
TZNAME:EST
DTSTART:20271107T060000
END:STANDARD
BEGIN:DAYLIGHT
TZOFFSETFROM:-0500
TZOFFSETTO:-0400
TZNAME:EDT
DTSTART:20280312T070000
END:DAYLIGHT
BEGIN:STANDARD
TZOFFSETFROM:-0400
TZOFFSETTO:-0500
TZNAME:EST
DTSTART:20281105T060000
END:STANDARD
BEGIN:DAYLIGHT
TZOFFSETFROM:-0500
TZOFFSETTO:-0400
TZNAME:EDT
DTSTART:20290311T070000
END:DAYLIGHT
BEGIN:STANDARD
TZOFFSETFROM:-0400
TZOFFSETTO:-0500
TZNAME:EST
DTSTART:20291104T060000
END:STANDARD
BEGIN:DAYLIGHT
TZOFFSETFROM:-0500
TZOFFSETTO:-0400
TZNAME:EDT
DTSTART:20300310T070000
END:DAYLIGHT
BEGIN:STANDARD
TZOFFSETFROM:-0400
TZOFFSETTO:-0500
TZNAME:EST
DTSTART:20301103T060000
END:STANDARD
BEGIN:DAYLIGHT
TZOFFSETFROM:-0500
TZOFFSETTO:-0400
TZNAME:EDT
DTSTART:20310309T070000
END:DAYLIGHT
BEGIN:STANDARD
TZOFFSETFROM:-0400
TZOFFSETTO:-0500
TZNAME:EST
DTSTART:20311102T060000
END:STANDARD
END:VTIMEZONE
BEGIN:VEVENT
DTSTART;TZID=America/New_York:20261010T090000
DTEND;TZID=America/New_York:20261010T170000
DTSTAMP:20260423T035030
CREATED:20251031T010603Z
LAST-MODIFIED:20251031T010603Z
UID:10001538-1791622800-1791651600@av8maps.com
SUMMARY:Thomasville Annual Fly-in (KTVI)
DESCRIPTION:Join us for the Annual Thomasville Fly-In hosted by the Thomasville Aviation Club! Come to the airport and immerse yourself in all things aviation! If you’re not a pilot that’s not a problem – we will have lots to do for everyone including a candy drop for kids and cool airplanes to look at all day!\nFor pilots\, there will be the usual amenities: on-field camping with showers and restrooms available. Aviation vendors will be onsite and we will give out some fun awards – plus you’ll have the chance to hang out and enjoy the company of fellow pilots.\nThe Squawk Box Cafe will be serving up the meals and snacks each day: Dinner Friday. Breakfast\, Lunch\, Snack\, and Dinner Saturday. Breakfast Sunday. You don’t want to miss it!
URL:https://av8maps.com/event/thomasville-annual-fly-in-ktvi/2026-10-10/
LOCATION:Thomasville Regional Airport\, 882 Airport Rd\, Thomasville\, GA\, 31757
ATTACH;FMTTYPE=image/jpeg:https://av8maps.com/wp-content/uploads/2025/10/Thomasville-FLy-in-KTVI-e1761872751733.jpg
GEO:30.899094;-83.881156
X-APPLE-STRUCTURED-LOCATION;VALUE=URI;X-ADDRESS=Thomasville Regional Airport 882 Airport Rd Thomasville GA 31757;X-APPLE-RADIUS=500;X-TITLE=882 Airport Rd:geo:-83.881156,30.899094
END:VEVENT
BEGIN:VEVENT
DTSTART;TZID=America/New_York:20271009T090000
DTEND;TZID=America/New_York:20271009T170000
DTSTAMP:20260423T035030
CREATED:20251031T010603Z
LAST-MODIFIED:20251031T010603Z
UID:10001539-1823072400-1823101200@av8maps.com
SUMMARY:Thomasville Annual Fly-in (KTVI)
DESCRIPTION:Join us for the Annual Thomasville Fly-In hosted by the Thomasville Aviation Club! Come to the airport and immerse yourself in all things aviation! If you’re not a pilot that’s not a problem – we will have lots to do for everyone including a candy drop for kids and cool airplanes to look at all day!\nFor pilots\, there will be the usual amenities: on-field camping with showers and restrooms available. Aviation vendors will be onsite and we will give out some fun awards – plus you’ll have the chance to hang out and enjoy the company of fellow pilots.\nThe Squawk Box Cafe will be serving up the meals and snacks each day: Dinner Friday. Breakfast\, Lunch\, Snack\, and Dinner Saturday. Breakfast Sunday. You don’t want to miss it!
URL:https://av8maps.com/event/thomasville-annual-fly-in-ktvi/2027-10-09/
LOCATION:Thomasville Regional Airport\, 882 Airport Rd\, Thomasville\, GA\, 31757
ATTACH;FMTTYPE=image/jpeg:https://av8maps.com/wp-content/uploads/2025/10/Thomasville-FLy-in-KTVI-e1761872751733.jpg
GEO:30.899094;-83.881156
X-APPLE-STRUCTURED-LOCATION;VALUE=URI;X-ADDRESS=Thomasville Regional Airport 882 Airport Rd Thomasville GA 31757;X-APPLE-RADIUS=500;X-TITLE=882 Airport Rd:geo:-83.881156,30.899094
END:VEVENT
BEGIN:VEVENT
DTSTART;TZID=America/New_York:20281014T090000
DTEND;TZID=America/New_York:20281014T170000
DTSTAMP:20260423T035030
CREATED:20251031T010603Z
LAST-MODIFIED:20251031T010603Z
UID:10001540-1855126800-1855155600@av8maps.com
SUMMARY:Thomasville Annual Fly-in (KTVI)
DESCRIPTION:Join us for the Annual Thomasville Fly-In hosted by the Thomasville Aviation Club! Come to the airport and immerse yourself in all things aviation! If you’re not a pilot that’s not a problem – we will have lots to do for everyone including a candy drop for kids and cool airplanes to look at all day!\nFor pilots\, there will be the usual amenities: on-field camping with showers and restrooms available. Aviation vendors will be onsite and we will give out some fun awards – plus you’ll have the chance to hang out and enjoy the company of fellow pilots.\nThe Squawk Box Cafe will be serving up the meals and snacks each day: Dinner Friday. Breakfast\, Lunch\, Snack\, and Dinner Saturday. Breakfast Sunday. You don’t want to miss it!
URL:https://av8maps.com/event/thomasville-annual-fly-in-ktvi/2028-10-14/
LOCATION:Thomasville Regional Airport\, 882 Airport Rd\, Thomasville\, GA\, 31757
ATTACH;FMTTYPE=image/jpeg:https://av8maps.com/wp-content/uploads/2025/10/Thomasville-FLy-in-KTVI-e1761872751733.jpg
GEO:30.899094;-83.881156
X-APPLE-STRUCTURED-LOCATION;VALUE=URI;X-ADDRESS=Thomasville Regional Airport 882 Airport Rd Thomasville GA 31757;X-APPLE-RADIUS=500;X-TITLE=882 Airport Rd:geo:-83.881156,30.899094
END:VEVENT
BEGIN:VEVENT
DTSTART;TZID=America/New_York:20291013T090000
DTEND;TZID=America/New_York:20291013T170000
DTSTAMP:20260423T035030
CREATED:20251031T010603Z
LAST-MODIFIED:20251031T010603Z
UID:10001541-1886576400-1886605200@av8maps.com
SUMMARY:Thomasville Annual Fly-in (KTVI)
DESCRIPTION:Join us for the Annual Thomasville Fly-In hosted by the Thomasville Aviation Club! Come to the airport and immerse yourself in all things aviation! If you’re not a pilot that’s not a problem – we will have lots to do for everyone including a candy drop for kids and cool airplanes to look at all day!\nFor pilots\, there will be the usual amenities: on-field camping with showers and restrooms available. Aviation vendors will be onsite and we will give out some fun awards – plus you’ll have the chance to hang out and enjoy the company of fellow pilots.\nThe Squawk Box Cafe will be serving up the meals and snacks each day: Dinner Friday. Breakfast\, Lunch\, Snack\, and Dinner Saturday. Breakfast Sunday. You don’t want to miss it!
URL:https://av8maps.com/event/thomasville-annual-fly-in-ktvi/2029-10-13/
LOCATION:Thomasville Regional Airport\, 882 Airport Rd\, Thomasville\, GA\, 31757
ATTACH;FMTTYPE=image/jpeg:https://av8maps.com/wp-content/uploads/2025/10/Thomasville-FLy-in-KTVI-e1761872751733.jpg
GEO:30.899094;-83.881156
X-APPLE-STRUCTURED-LOCATION;VALUE=URI;X-ADDRESS=Thomasville Regional Airport 882 Airport Rd Thomasville GA 31757;X-APPLE-RADIUS=500;X-TITLE=882 Airport Rd:geo:-83.881156,30.899094
END:VEVENT
BEGIN:VEVENT
DTSTART;TZID=America/New_York:20301012T090000
DTEND;TZID=America/New_York:20301012T170000
DTSTAMP:20260423T035030
CREATED:20251031T010603Z
LAST-MODIFIED:20251031T010603Z
UID:10001542-1918026000-1918054800@av8maps.com
SUMMARY:Thomasville Annual Fly-in (KTVI)
DESCRIPTION:Join us for the Annual Thomasville Fly-In hosted by the Thomasville Aviation Club! Come to the airport and immerse yourself in all things aviation! If you’re not a pilot that’s not a problem – we will have lots to do for everyone including a candy drop for kids and cool airplanes to look at all day!\nFor pilots\, there will be the usual amenities: on-field camping with showers and restrooms available. Aviation vendors will be onsite and we will give out some fun awards – plus you’ll have the chance to hang out and enjoy the company of fellow pilots.\nThe Squawk Box Cafe will be serving up the meals and snacks each day: Dinner Friday. Breakfast\, Lunch\, Snack\, and Dinner Saturday. Breakfast Sunday. You don’t want to miss it!
URL:https://av8maps.com/event/thomasville-annual-fly-in-ktvi/2030-10-12/
LOCATION:Thomasville Regional Airport\, 882 Airport Rd\, Thomasville\, GA\, 31757
ATTACH;FMTTYPE=image/jpeg:https://av8maps.com/wp-content/uploads/2025/10/Thomasville-FLy-in-KTVI-e1761872751733.jpg
GEO:30.899094;-83.881156
X-APPLE-STRUCTURED-LOCATION;VALUE=URI;X-ADDRESS=Thomasville Regional Airport 882 Airport Rd Thomasville GA 31757;X-APPLE-RADIUS=500;X-TITLE=882 Airport Rd:geo:-83.881156,30.899094
END:VEVENT
END:VCALENDAR