BEGIN:VCALENDAR
VERSION:2.0
PRODID:-//AV8MAPS.COM - ECPv6.15.20//NONSGML v1.0//EN
CALSCALE:GREGORIAN
METHOD:PUBLISH
X-WR-CALNAME:AV8MAPS.COM
X-ORIGINAL-URL:https://av8maps.com
X-WR-CALDESC:Events for AV8MAPS.COM
REFRESH-INTERVAL;VALUE=DURATION:PT1H
X-Robots-Tag:noindex
X-PUBLISHED-TTL:PT1H
BEGIN:VTIMEZONE
TZID:America/New_York
BEGIN:DAYLIGHT
TZOFFSETFROM:-0500
TZOFFSETTO:-0400
TZNAME:EDT
DTSTART:20250309T070000
END:DAYLIGHT
BEGIN:STANDARD
TZOFFSETFROM:-0400
TZOFFSETTO:-0500
TZNAME:EST
DTSTART:20251102T060000
END:STANDARD
BEGIN:DAYLIGHT
TZOFFSETFROM:-0500
TZOFFSETTO:-0400
TZNAME:EDT
DTSTART:20260308T070000
END:DAYLIGHT
BEGIN:STANDARD
TZOFFSETFROM:-0400
TZOFFSETTO:-0500
TZNAME:EST
DTSTART:20261101T060000
END:STANDARD
BEGIN:DAYLIGHT
TZOFFSETFROM:-0500
TZOFFSETTO:-0400
TZNAME:EDT
DTSTART:20270314T070000
END:DAYLIGHT
BEGIN:STANDARD
TZOFFSETFROM:-0400
TZOFFSETTO:-0500
TZNAME:EST
DTSTART:20271107T060000
END:STANDARD
BEGIN:DAYLIGHT
TZOFFSETFROM:-0500
TZOFFSETTO:-0400
TZNAME:EDT
DTSTART:20280312T070000
END:DAYLIGHT
BEGIN:STANDARD
TZOFFSETFROM:-0400
TZOFFSETTO:-0500
TZNAME:EST
DTSTART:20281105T060000
END:STANDARD
BEGIN:DAYLIGHT
TZOFFSETFROM:-0500
TZOFFSETTO:-0400
TZNAME:EDT
DTSTART:20290311T070000
END:DAYLIGHT
BEGIN:STANDARD
TZOFFSETFROM:-0400
TZOFFSETTO:-0500
TZNAME:EST
DTSTART:20291104T060000
END:STANDARD
BEGIN:DAYLIGHT
TZOFFSETFROM:-0500
TZOFFSETTO:-0400
TZNAME:EDT
DTSTART:20300310T070000
END:DAYLIGHT
BEGIN:STANDARD
TZOFFSETFROM:-0400
TZOFFSETTO:-0500
TZNAME:EST
DTSTART:20301103T060000
END:STANDARD
BEGIN:DAYLIGHT
TZOFFSETFROM:-0500
TZOFFSETTO:-0400
TZNAME:EDT
DTSTART:20310309T070000
END:DAYLIGHT
BEGIN:STANDARD
TZOFFSETFROM:-0400
TZOFFSETTO:-0500
TZNAME:EST
DTSTART:20311102T060000
END:STANDARD
END:VTIMEZONE
BEGIN:VEVENT
DTSTART;TZID=America/New_York:20260926T130000
DTEND;TZID=America/New_York:20260926T170000
DTSTAMP:20260423T034035
CREATED:20250521T001657Z
LAST-MODIFIED:20251031T184751Z
UID:10000215-1790427600-1790442000@av8maps.com
SUMMARY:North Texas Aeronautics' Annual Fly-in & Poker Run! (KFWS)
DESCRIPTION:♦️♣️♥️♠️🛬North Texas Aeronautics (NTA) is hosting its Annual Fly-in and Poker Run! 🛫🛥️♠️♥️♣️♦️\nFly-in ✈️ or Drive!🚙 | Family Friendly!🧑‍🧑‍🧒‍🧒\nJoin us for a fun-filled day of:\nFree Food 🌮\nDrinks 🥤\nDemo Flights 🛩️\nStatic Displays 🚁\nDoor Prizes 🎁\nLive Music 🎶\nPoker Run (best & worst hand win)\nRaffle 🎟️\nKids’ Activities 👧🧒\nMovie on the big screen (when the sun goes down) 🎥 🍿\n& more! 💥\nMore Details to Follow!\nWe are so excited‼️
URL:https://av8maps.com/event/%e2%99%a0%ef%b8%8f%e2%99%a5%ef%b8%8f%f0%9f%9b%acnorth-texas-aeronautics-1st-annual-fly-in-poker-run%f0%9f%9b%ab%e2%99%a3%ef%b8%8f%e2%99%a6%ef%b8%8f/2026-09-26/
LOCATION:Spinks Airport\, 12901 Wildcat Way North\, Burleson\, TX
ATTACH;FMTTYPE=image/jpeg:https://av8maps.com/wp-content/uploads/2025/05/NTA-Fly-in-and-Poker-Run-e1747788174279.jpg
GEO:32.5713716;-97.3036495
X-APPLE-STRUCTURED-LOCATION;VALUE=URI;X-ADDRESS=Spinks Airport 12901 Wildcat Way North Burleson TX;X-APPLE-RADIUS=500;X-TITLE=12901 Wildcat Way North:geo:-97.3036495,32.5713716
END:VEVENT
BEGIN:VEVENT
DTSTART;TZID=America/New_York:20270925T130000
DTEND;TZID=America/New_York:20270925T170000
DTSTAMP:20260423T034035
CREATED:20250521T001657Z
LAST-MODIFIED:20251031T184751Z
UID:10001544-1821877200-1821891600@av8maps.com
SUMMARY:North Texas Aeronautics' Annual Fly-in & Poker Run! (KFWS)
DESCRIPTION:♦️♣️♥️♠️🛬North Texas Aeronautics (NTA) is hosting its Annual Fly-in and Poker Run! 🛫🛥️♠️♥️♣️♦️\nFly-in ✈️ or Drive!🚙 | Family Friendly!🧑‍🧑‍🧒‍🧒\nJoin us for a fun-filled day of:\nFree Food 🌮\nDrinks 🥤\nDemo Flights 🛩️\nStatic Displays 🚁\nDoor Prizes 🎁\nLive Music 🎶\nPoker Run (best & worst hand win)\nRaffle 🎟️\nKids’ Activities 👧🧒\nMovie on the big screen (when the sun goes down) 🎥 🍿\n& more! 💥\nMore Details to Follow!\nWe are so excited‼️
URL:https://av8maps.com/event/%e2%99%a0%ef%b8%8f%e2%99%a5%ef%b8%8f%f0%9f%9b%acnorth-texas-aeronautics-1st-annual-fly-in-poker-run%f0%9f%9b%ab%e2%99%a3%ef%b8%8f%e2%99%a6%ef%b8%8f/2027-09-25/
LOCATION:Spinks Airport\, 12901 Wildcat Way North\, Burleson\, TX
ATTACH;FMTTYPE=image/jpeg:https://av8maps.com/wp-content/uploads/2025/05/NTA-Fly-in-and-Poker-Run-e1747788174279.jpg
GEO:32.5713716;-97.3036495
X-APPLE-STRUCTURED-LOCATION;VALUE=URI;X-ADDRESS=Spinks Airport 12901 Wildcat Way North Burleson TX;X-APPLE-RADIUS=500;X-TITLE=12901 Wildcat Way North:geo:-97.3036495,32.5713716
END:VEVENT
BEGIN:VEVENT
DTSTART;TZID=America/New_York:20280923T130000
DTEND;TZID=America/New_York:20280923T170000
DTSTAMP:20260423T034035
CREATED:20250521T001657Z
LAST-MODIFIED:20251031T184751Z
UID:10001545-1853326800-1853341200@av8maps.com
SUMMARY:North Texas Aeronautics' Annual Fly-in & Poker Run! (KFWS)
DESCRIPTION:♦️♣️♥️♠️🛬North Texas Aeronautics (NTA) is hosting its Annual Fly-in and Poker Run! 🛫🛥️♠️♥️♣️♦️\nFly-in ✈️ or Drive!🚙 | Family Friendly!🧑‍🧑‍🧒‍🧒\nJoin us for a fun-filled day of:\nFree Food 🌮\nDrinks 🥤\nDemo Flights 🛩️\nStatic Displays 🚁\nDoor Prizes 🎁\nLive Music 🎶\nPoker Run (best & worst hand win)\nRaffle 🎟️\nKids’ Activities 👧🧒\nMovie on the big screen (when the sun goes down) 🎥 🍿\n& more! 💥\nMore Details to Follow!\nWe are so excited‼️
URL:https://av8maps.com/event/%e2%99%a0%ef%b8%8f%e2%99%a5%ef%b8%8f%f0%9f%9b%acnorth-texas-aeronautics-1st-annual-fly-in-poker-run%f0%9f%9b%ab%e2%99%a3%ef%b8%8f%e2%99%a6%ef%b8%8f/2028-09-23/
LOCATION:Spinks Airport\, 12901 Wildcat Way North\, Burleson\, TX
ATTACH;FMTTYPE=image/jpeg:https://av8maps.com/wp-content/uploads/2025/05/NTA-Fly-in-and-Poker-Run-e1747788174279.jpg
GEO:32.5713716;-97.3036495
X-APPLE-STRUCTURED-LOCATION;VALUE=URI;X-ADDRESS=Spinks Airport 12901 Wildcat Way North Burleson TX;X-APPLE-RADIUS=500;X-TITLE=12901 Wildcat Way North:geo:-97.3036495,32.5713716
END:VEVENT
BEGIN:VEVENT
DTSTART;TZID=America/New_York:20290922T130000
DTEND;TZID=America/New_York:20290922T170000
DTSTAMP:20260423T034035
CREATED:20250521T001657Z
LAST-MODIFIED:20251031T184751Z
UID:10001546-1884776400-1884790800@av8maps.com
SUMMARY:North Texas Aeronautics' Annual Fly-in & Poker Run! (KFWS)
DESCRIPTION:♦️♣️♥️♠️🛬North Texas Aeronautics (NTA) is hosting its Annual Fly-in and Poker Run! 🛫🛥️♠️♥️♣️♦️\nFly-in ✈️ or Drive!🚙 | Family Friendly!🧑‍🧑‍🧒‍🧒\nJoin us for a fun-filled day of:\nFree Food 🌮\nDrinks 🥤\nDemo Flights 🛩️\nStatic Displays 🚁\nDoor Prizes 🎁\nLive Music 🎶\nPoker Run (best & worst hand win)\nRaffle 🎟️\nKids’ Activities 👧🧒\nMovie on the big screen (when the sun goes down) 🎥 🍿\n& more! 💥\nMore Details to Follow!\nWe are so excited‼️
URL:https://av8maps.com/event/%e2%99%a0%ef%b8%8f%e2%99%a5%ef%b8%8f%f0%9f%9b%acnorth-texas-aeronautics-1st-annual-fly-in-poker-run%f0%9f%9b%ab%e2%99%a3%ef%b8%8f%e2%99%a6%ef%b8%8f/2029-09-22/
LOCATION:Spinks Airport\, 12901 Wildcat Way North\, Burleson\, TX
ATTACH;FMTTYPE=image/jpeg:https://av8maps.com/wp-content/uploads/2025/05/NTA-Fly-in-and-Poker-Run-e1747788174279.jpg
GEO:32.5713716;-97.3036495
X-APPLE-STRUCTURED-LOCATION;VALUE=URI;X-ADDRESS=Spinks Airport 12901 Wildcat Way North Burleson TX;X-APPLE-RADIUS=500;X-TITLE=12901 Wildcat Way North:geo:-97.3036495,32.5713716
END:VEVENT
BEGIN:VEVENT
DTSTART;TZID=America/New_York:20300928T130000
DTEND;TZID=America/New_York:20300928T170000
DTSTAMP:20260423T034035
CREATED:20250521T001657Z
LAST-MODIFIED:20251031T184751Z
UID:10001547-1916830800-1916845200@av8maps.com
SUMMARY:North Texas Aeronautics' Annual Fly-in & Poker Run! (KFWS)
DESCRIPTION:♦️♣️♥️♠️🛬North Texas Aeronautics (NTA) is hosting its Annual Fly-in and Poker Run! 🛫🛥️♠️♥️♣️♦️\nFly-in ✈️ or Drive!🚙 | Family Friendly!🧑‍🧑‍🧒‍🧒\nJoin us for a fun-filled day of:\nFree Food 🌮\nDrinks 🥤\nDemo Flights 🛩️\nStatic Displays 🚁\nDoor Prizes 🎁\nLive Music 🎶\nPoker Run (best & worst hand win)\nRaffle 🎟️\nKids’ Activities 👧🧒\nMovie on the big screen (when the sun goes down) 🎥 🍿\n& more! 💥\nMore Details to Follow!\nWe are so excited‼️
URL:https://av8maps.com/event/%e2%99%a0%ef%b8%8f%e2%99%a5%ef%b8%8f%f0%9f%9b%acnorth-texas-aeronautics-1st-annual-fly-in-poker-run%f0%9f%9b%ab%e2%99%a3%ef%b8%8f%e2%99%a6%ef%b8%8f/2030-09-28/
LOCATION:Spinks Airport\, 12901 Wildcat Way North\, Burleson\, TX
ATTACH;FMTTYPE=image/jpeg:https://av8maps.com/wp-content/uploads/2025/05/NTA-Fly-in-and-Poker-Run-e1747788174279.jpg
GEO:32.5713716;-97.3036495
X-APPLE-STRUCTURED-LOCATION;VALUE=URI;X-ADDRESS=Spinks Airport 12901 Wildcat Way North Burleson TX;X-APPLE-RADIUS=500;X-TITLE=12901 Wildcat Way North:geo:-97.3036495,32.5713716
END:VEVENT
END:VCALENDAR