BEGIN:VCALENDAR
VERSION:2.0
PRODID:-//AV8MAPS.COM - ECPv6.15.20//NONSGML v1.0//EN
CALSCALE:GREGORIAN
METHOD:PUBLISH
X-WR-CALNAME:AV8MAPS.COM
X-ORIGINAL-URL:https://av8maps.com
X-WR-CALDESC:Events for AV8MAPS.COM
REFRESH-INTERVAL;VALUE=DURATION:PT1H
X-Robots-Tag:noindex
X-PUBLISHED-TTL:PT1H
BEGIN:VTIMEZONE
TZID:America/New_York
BEGIN:DAYLIGHT
TZOFFSETFROM:-0500
TZOFFSETTO:-0400
TZNAME:EDT
DTSTART:20250309T070000
END:DAYLIGHT
BEGIN:STANDARD
TZOFFSETFROM:-0400
TZOFFSETTO:-0500
TZNAME:EST
DTSTART:20251102T060000
END:STANDARD
BEGIN:DAYLIGHT
TZOFFSETFROM:-0500
TZOFFSETTO:-0400
TZNAME:EDT
DTSTART:20260308T070000
END:DAYLIGHT
BEGIN:STANDARD
TZOFFSETFROM:-0400
TZOFFSETTO:-0500
TZNAME:EST
DTSTART:20261101T060000
END:STANDARD
BEGIN:DAYLIGHT
TZOFFSETFROM:-0500
TZOFFSETTO:-0400
TZNAME:EDT
DTSTART:20270314T070000
END:DAYLIGHT
BEGIN:STANDARD
TZOFFSETFROM:-0400
TZOFFSETTO:-0500
TZNAME:EST
DTSTART:20271107T060000
END:STANDARD
BEGIN:DAYLIGHT
TZOFFSETFROM:-0500
TZOFFSETTO:-0400
TZNAME:EDT
DTSTART:20280312T070000
END:DAYLIGHT
BEGIN:STANDARD
TZOFFSETFROM:-0400
TZOFFSETTO:-0500
TZNAME:EST
DTSTART:20281105T060000
END:STANDARD
BEGIN:DAYLIGHT
TZOFFSETFROM:-0500
TZOFFSETTO:-0400
TZNAME:EDT
DTSTART:20290311T070000
END:DAYLIGHT
BEGIN:STANDARD
TZOFFSETFROM:-0400
TZOFFSETTO:-0500
TZNAME:EST
DTSTART:20291104T060000
END:STANDARD
BEGIN:DAYLIGHT
TZOFFSETFROM:-0500
TZOFFSETTO:-0400
TZNAME:EDT
DTSTART:20300310T070000
END:DAYLIGHT
BEGIN:STANDARD
TZOFFSETFROM:-0400
TZOFFSETTO:-0500
TZNAME:EST
DTSTART:20301103T060000
END:STANDARD
BEGIN:DAYLIGHT
TZOFFSETFROM:-0500
TZOFFSETTO:-0400
TZNAME:EDT
DTSTART:20310309T070000
END:DAYLIGHT
BEGIN:STANDARD
TZOFFSETFROM:-0400
TZOFFSETTO:-0500
TZNAME:EST
DTSTART:20311102T060000
END:STANDARD
END:VTIMEZONE
BEGIN:VEVENT
DTSTART;TZID=America/New_York:20261107T000000
DTEND;TZID=America/New_York:20261107T235959
DTSTAMP:20260423T092241
CREATED:20251031T142608Z
LAST-MODIFIED:20251215T115556Z
UID:10001556-1794009600-1794095999@av8maps.com
SUMMARY:Summerland Key Annual Fly-in (FD51)
DESCRIPTION:We are looking forward to seeing everyone at our annual fly-in. \nOur landing fees are waived for the weekend\, but we still request a COI from your insurance company naming us as additional insured. \nPlease take a look at our SOP for the do’s and don’t’s of our bit of aviation paradise!  If you have any questions\, please do not hesitate to contact our Airport Manager\, Matt!
URL:https://av8maps.com/event/summerland-key-annual-fly-in-fd51/2026-11-07/
LOCATION:Summerland Key Airport\, 260 W Shore Dr\, Summerland Key\, Florida\, 33042
ATTACH;FMTTYPE=image/jpeg:https://av8maps.com/wp-content/uploads/2025/10/Summerland-Key-Airport-Fly-in-e1761920592442.jpg
GEO:24.657224;-81.4424791
X-APPLE-STRUCTURED-LOCATION;VALUE=URI;X-ADDRESS=Summerland Key Airport 260 W Shore Dr Summerland Key Florida 33042;X-APPLE-RADIUS=500;X-TITLE=260 W Shore Dr:geo:-81.4424791,24.657224
END:VEVENT
BEGIN:VEVENT
DTSTART;TZID=America/New_York:20271106T000000
DTEND;TZID=America/New_York:20271106T235959
DTSTAMP:20260423T092241
CREATED:20251031T142608Z
LAST-MODIFIED:20251215T115556Z
UID:10001557-1825459200-1825545599@av8maps.com
SUMMARY:Summerland Key Annual Fly-in (FD51)
DESCRIPTION:We are looking forward to seeing everyone at our annual fly-in. \nOur landing fees are waived for the weekend\, but we still request a COI from your insurance company naming us as additional insured. \nPlease take a look at our SOP for the do’s and don’t’s of our bit of aviation paradise!  If you have any questions\, please do not hesitate to contact our Airport Manager\, Matt!
URL:https://av8maps.com/event/summerland-key-annual-fly-in-fd51/2027-11-06/
LOCATION:Summerland Key Airport\, 260 W Shore Dr\, Summerland Key\, Florida\, 33042
ATTACH;FMTTYPE=image/jpeg:https://av8maps.com/wp-content/uploads/2025/10/Summerland-Key-Airport-Fly-in-e1761920592442.jpg
GEO:24.657224;-81.4424791
X-APPLE-STRUCTURED-LOCATION;VALUE=URI;X-ADDRESS=Summerland Key Airport 260 W Shore Dr Summerland Key Florida 33042;X-APPLE-RADIUS=500;X-TITLE=260 W Shore Dr:geo:-81.4424791,24.657224
END:VEVENT
BEGIN:VEVENT
DTSTART;TZID=America/New_York:20281104T000000
DTEND;TZID=America/New_York:20281104T235959
DTSTAMP:20260423T092241
CREATED:20251031T142608Z
LAST-MODIFIED:20251215T115556Z
UID:10001558-1856908800-1856995199@av8maps.com
SUMMARY:Summerland Key Annual Fly-in (FD51)
DESCRIPTION:We are looking forward to seeing everyone at our annual fly-in. \nOur landing fees are waived for the weekend\, but we still request a COI from your insurance company naming us as additional insured. \nPlease take a look at our SOP for the do’s and don’t’s of our bit of aviation paradise!  If you have any questions\, please do not hesitate to contact our Airport Manager\, Matt!
URL:https://av8maps.com/event/summerland-key-annual-fly-in-fd51/2028-11-04/
LOCATION:Summerland Key Airport\, 260 W Shore Dr\, Summerland Key\, Florida\, 33042
ATTACH;FMTTYPE=image/jpeg:https://av8maps.com/wp-content/uploads/2025/10/Summerland-Key-Airport-Fly-in-e1761920592442.jpg
GEO:24.657224;-81.4424791
X-APPLE-STRUCTURED-LOCATION;VALUE=URI;X-ADDRESS=Summerland Key Airport 260 W Shore Dr Summerland Key Florida 33042;X-APPLE-RADIUS=500;X-TITLE=260 W Shore Dr:geo:-81.4424791,24.657224
END:VEVENT
BEGIN:VEVENT
DTSTART;TZID=America/New_York:20291103T000000
DTEND;TZID=America/New_York:20291103T235959
DTSTAMP:20260423T092241
CREATED:20251031T142608Z
LAST-MODIFIED:20251215T115556Z
UID:10001559-1888358400-1888444799@av8maps.com
SUMMARY:Summerland Key Annual Fly-in (FD51)
DESCRIPTION:We are looking forward to seeing everyone at our annual fly-in. \nOur landing fees are waived for the weekend\, but we still request a COI from your insurance company naming us as additional insured. \nPlease take a look at our SOP for the do’s and don’t’s of our bit of aviation paradise!  If you have any questions\, please do not hesitate to contact our Airport Manager\, Matt!
URL:https://av8maps.com/event/summerland-key-annual-fly-in-fd51/2029-11-03/
LOCATION:Summerland Key Airport\, 260 W Shore Dr\, Summerland Key\, Florida\, 33042
ATTACH;FMTTYPE=image/jpeg:https://av8maps.com/wp-content/uploads/2025/10/Summerland-Key-Airport-Fly-in-e1761920592442.jpg
GEO:24.657224;-81.4424791
X-APPLE-STRUCTURED-LOCATION;VALUE=URI;X-ADDRESS=Summerland Key Airport 260 W Shore Dr Summerland Key Florida 33042;X-APPLE-RADIUS=500;X-TITLE=260 W Shore Dr:geo:-81.4424791,24.657224
END:VEVENT
BEGIN:VEVENT
DTSTART;TZID=America/New_York:20301102T000000
DTEND;TZID=America/New_York:20301102T235959
DTSTAMP:20260423T092241
CREATED:20251031T142608Z
LAST-MODIFIED:20251215T115556Z
UID:10005755-1919808000-1919894399@av8maps.com
SUMMARY:Summerland Key Annual Fly-in (FD51)
DESCRIPTION:We are looking forward to seeing everyone at our annual fly-in. \nOur landing fees are waived for the weekend\, but we still request a COI from your insurance company naming us as additional insured. \nPlease take a look at our SOP for the do’s and don’t’s of our bit of aviation paradise!  If you have any questions\, please do not hesitate to contact our Airport Manager\, Matt!
URL:https://av8maps.com/event/summerland-key-annual-fly-in-fd51/2030-11-02/
LOCATION:Summerland Key Airport\, 260 W Shore Dr\, Summerland Key\, Florida\, 33042
ATTACH;FMTTYPE=image/jpeg:https://av8maps.com/wp-content/uploads/2025/10/Summerland-Key-Airport-Fly-in-e1761920592442.jpg
GEO:24.657224;-81.4424791
X-APPLE-STRUCTURED-LOCATION;VALUE=URI;X-ADDRESS=Summerland Key Airport 260 W Shore Dr Summerland Key Florida 33042;X-APPLE-RADIUS=500;X-TITLE=260 W Shore Dr:geo:-81.4424791,24.657224
END:VEVENT
END:VCALENDAR