BEGIN:VCALENDAR
VERSION:2.0
PRODID:-//AV8MAPS.COM - ECPv6.15.20//NONSGML v1.0//EN
CALSCALE:GREGORIAN
METHOD:PUBLISH
X-WR-CALNAME:AV8MAPS.COM
X-ORIGINAL-URL:https://av8maps.com
X-WR-CALDESC:Events for AV8MAPS.COM
REFRESH-INTERVAL;VALUE=DURATION:PT1H
X-Robots-Tag:noindex
X-PUBLISHED-TTL:PT1H
BEGIN:VTIMEZONE
TZID:America/New_York
BEGIN:DAYLIGHT
TZOFFSETFROM:-0500
TZOFFSETTO:-0400
TZNAME:EDT
DTSTART:20250309T070000
END:DAYLIGHT
BEGIN:STANDARD
TZOFFSETFROM:-0400
TZOFFSETTO:-0500
TZNAME:EST
DTSTART:20251102T060000
END:STANDARD
BEGIN:DAYLIGHT
TZOFFSETFROM:-0500
TZOFFSETTO:-0400
TZNAME:EDT
DTSTART:20260308T070000
END:DAYLIGHT
BEGIN:STANDARD
TZOFFSETFROM:-0400
TZOFFSETTO:-0500
TZNAME:EST
DTSTART:20261101T060000
END:STANDARD
BEGIN:DAYLIGHT
TZOFFSETFROM:-0500
TZOFFSETTO:-0400
TZNAME:EDT
DTSTART:20270314T070000
END:DAYLIGHT
BEGIN:STANDARD
TZOFFSETFROM:-0400
TZOFFSETTO:-0500
TZNAME:EST
DTSTART:20271107T060000
END:STANDARD
BEGIN:DAYLIGHT
TZOFFSETFROM:-0500
TZOFFSETTO:-0400
TZNAME:EDT
DTSTART:20280312T070000
END:DAYLIGHT
BEGIN:STANDARD
TZOFFSETFROM:-0400
TZOFFSETTO:-0500
TZNAME:EST
DTSTART:20281105T060000
END:STANDARD
BEGIN:DAYLIGHT
TZOFFSETFROM:-0500
TZOFFSETTO:-0400
TZNAME:EDT
DTSTART:20290311T070000
END:DAYLIGHT
BEGIN:STANDARD
TZOFFSETFROM:-0400
TZOFFSETTO:-0500
TZNAME:EST
DTSTART:20291104T060000
END:STANDARD
BEGIN:DAYLIGHT
TZOFFSETFROM:-0500
TZOFFSETTO:-0400
TZNAME:EDT
DTSTART:20300310T070000
END:DAYLIGHT
BEGIN:STANDARD
TZOFFSETFROM:-0400
TZOFFSETTO:-0500
TZNAME:EST
DTSTART:20301103T060000
END:STANDARD
BEGIN:DAYLIGHT
TZOFFSETFROM:-0500
TZOFFSETTO:-0400
TZNAME:EDT
DTSTART:20310309T070000
END:DAYLIGHT
BEGIN:STANDARD
TZOFFSETFROM:-0400
TZOFFSETTO:-0500
TZNAME:EST
DTSTART:20311102T060000
END:STANDARD
END:VTIMEZONE
BEGIN:VEVENT
DTSTART;TZID=America/New_York:20261114T090000
DTEND;TZID=America/New_York:20261114T170000
DTSTAMP:20260425T080608
CREATED:20251215T115348Z
LAST-MODIFIED:20251215T115348Z
UID:10001564-1794646800-1794675600@av8maps.com
SUMMARY:Houston Municipal Airport Fly-in (M44)
DESCRIPTION:Come See Us.  All types of Static Airplane Displays.  Concessions.  Free Admission.
URL:https://av8maps.com/event/houston-municipal-airport-fly-in-m44-2/2026-11-14/
LOCATION:Houston Municipal Airport\, Airport Rd\, Houston\, MS\, 38851
ATTACH;FMTTYPE=image/jpeg:https://av8maps.com/wp-content/uploads/2025/10/Houston-Municipal-Airport-M44-e1761920074210.jpg
GEO:33.8888159;-89.0164499
X-APPLE-STRUCTURED-LOCATION;VALUE=URI;X-ADDRESS=Houston Municipal Airport Airport Rd Houston MS 38851;X-APPLE-RADIUS=500;X-TITLE=Airport Rd:geo:-89.0164499,33.8888159
END:VEVENT
BEGIN:VEVENT
DTSTART;TZID=America/New_York:20271113T090000
DTEND;TZID=America/New_York:20271113T170000
DTSTAMP:20260425T080608
CREATED:20251215T115348Z
LAST-MODIFIED:20251215T115348Z
UID:10005751-1826096400-1826125200@av8maps.com
SUMMARY:Houston Municipal Airport Fly-in (M44)
DESCRIPTION:Come See Us.  All types of Static Airplane Displays.  Concessions.  Free Admission.
URL:https://av8maps.com/event/houston-municipal-airport-fly-in-m44-2/2027-11-13/
LOCATION:Houston Municipal Airport\, Airport Rd\, Houston\, MS\, 38851
ATTACH;FMTTYPE=image/jpeg:https://av8maps.com/wp-content/uploads/2025/10/Houston-Municipal-Airport-M44-e1761920074210.jpg
GEO:33.8888159;-89.0164499
X-APPLE-STRUCTURED-LOCATION;VALUE=URI;X-ADDRESS=Houston Municipal Airport Airport Rd Houston MS 38851;X-APPLE-RADIUS=500;X-TITLE=Airport Rd:geo:-89.0164499,33.8888159
END:VEVENT
BEGIN:VEVENT
DTSTART;TZID=America/New_York:20281111T090000
DTEND;TZID=America/New_York:20281111T170000
DTSTAMP:20260425T080608
CREATED:20251215T115348Z
LAST-MODIFIED:20251215T115348Z
UID:10005752-1857546000-1857574800@av8maps.com
SUMMARY:Houston Municipal Airport Fly-in (M44)
DESCRIPTION:Come See Us.  All types of Static Airplane Displays.  Concessions.  Free Admission.
URL:https://av8maps.com/event/houston-municipal-airport-fly-in-m44-2/2028-11-11/
LOCATION:Houston Municipal Airport\, Airport Rd\, Houston\, MS\, 38851
ATTACH;FMTTYPE=image/jpeg:https://av8maps.com/wp-content/uploads/2025/10/Houston-Municipal-Airport-M44-e1761920074210.jpg
GEO:33.8888159;-89.0164499
X-APPLE-STRUCTURED-LOCATION;VALUE=URI;X-ADDRESS=Houston Municipal Airport Airport Rd Houston MS 38851;X-APPLE-RADIUS=500;X-TITLE=Airport Rd:geo:-89.0164499,33.8888159
END:VEVENT
BEGIN:VEVENT
DTSTART;TZID=America/New_York:20291110T090000
DTEND;TZID=America/New_York:20291110T170000
DTSTAMP:20260425T080608
CREATED:20251215T115348Z
LAST-MODIFIED:20251215T115348Z
UID:10005753-1888995600-1889024400@av8maps.com
SUMMARY:Houston Municipal Airport Fly-in (M44)
DESCRIPTION:Come See Us.  All types of Static Airplane Displays.  Concessions.  Free Admission.
URL:https://av8maps.com/event/houston-municipal-airport-fly-in-m44-2/2029-11-10/
LOCATION:Houston Municipal Airport\, Airport Rd\, Houston\, MS\, 38851
ATTACH;FMTTYPE=image/jpeg:https://av8maps.com/wp-content/uploads/2025/10/Houston-Municipal-Airport-M44-e1761920074210.jpg
GEO:33.8888159;-89.0164499
X-APPLE-STRUCTURED-LOCATION;VALUE=URI;X-ADDRESS=Houston Municipal Airport Airport Rd Houston MS 38851;X-APPLE-RADIUS=500;X-TITLE=Airport Rd:geo:-89.0164499,33.8888159
END:VEVENT
BEGIN:VEVENT
DTSTART;TZID=America/New_York:20301109T090000
DTEND;TZID=America/New_York:20301109T170000
DTSTAMP:20260425T080608
CREATED:20251215T115348Z
LAST-MODIFIED:20251215T115348Z
UID:10005754-1920445200-1920474000@av8maps.com
SUMMARY:Houston Municipal Airport Fly-in (M44)
DESCRIPTION:Come See Us.  All types of Static Airplane Displays.  Concessions.  Free Admission.
URL:https://av8maps.com/event/houston-municipal-airport-fly-in-m44-2/2030-11-09/
LOCATION:Houston Municipal Airport\, Airport Rd\, Houston\, MS\, 38851
ATTACH;FMTTYPE=image/jpeg:https://av8maps.com/wp-content/uploads/2025/10/Houston-Municipal-Airport-M44-e1761920074210.jpg
GEO:33.8888159;-89.0164499
X-APPLE-STRUCTURED-LOCATION;VALUE=URI;X-ADDRESS=Houston Municipal Airport Airport Rd Houston MS 38851;X-APPLE-RADIUS=500;X-TITLE=Airport Rd:geo:-89.0164499,33.8888159
END:VEVENT
END:VCALENDAR