BEGIN:VCALENDAR
VERSION:2.0
PRODID:-//AV8MAPS.COM - ECPv6.15.20//NONSGML v1.0//EN
CALSCALE:GREGORIAN
METHOD:PUBLISH
X-WR-CALNAME:AV8MAPS.COM
X-ORIGINAL-URL:https://av8maps.com
X-WR-CALDESC:Events for AV8MAPS.COM
REFRESH-INTERVAL;VALUE=DURATION:PT1H
X-Robots-Tag:noindex
X-PUBLISHED-TTL:PT1H
BEGIN:VTIMEZONE
TZID:America/New_York
BEGIN:DAYLIGHT
TZOFFSETFROM:-0500
TZOFFSETTO:-0400
TZNAME:EDT
DTSTART:20250309T070000
END:DAYLIGHT
BEGIN:STANDARD
TZOFFSETFROM:-0400
TZOFFSETTO:-0500
TZNAME:EST
DTSTART:20251102T060000
END:STANDARD
BEGIN:DAYLIGHT
TZOFFSETFROM:-0500
TZOFFSETTO:-0400
TZNAME:EDT
DTSTART:20260308T070000
END:DAYLIGHT
BEGIN:STANDARD
TZOFFSETFROM:-0400
TZOFFSETTO:-0500
TZNAME:EST
DTSTART:20261101T060000
END:STANDARD
BEGIN:DAYLIGHT
TZOFFSETFROM:-0500
TZOFFSETTO:-0400
TZNAME:EDT
DTSTART:20270314T070000
END:DAYLIGHT
BEGIN:STANDARD
TZOFFSETFROM:-0400
TZOFFSETTO:-0500
TZNAME:EST
DTSTART:20271107T060000
END:STANDARD
BEGIN:DAYLIGHT
TZOFFSETFROM:-0500
TZOFFSETTO:-0400
TZNAME:EDT
DTSTART:20280312T070000
END:DAYLIGHT
BEGIN:STANDARD
TZOFFSETFROM:-0400
TZOFFSETTO:-0500
TZNAME:EST
DTSTART:20281105T060000
END:STANDARD
BEGIN:DAYLIGHT
TZOFFSETFROM:-0500
TZOFFSETTO:-0400
TZNAME:EDT
DTSTART:20290311T070000
END:DAYLIGHT
BEGIN:STANDARD
TZOFFSETFROM:-0400
TZOFFSETTO:-0500
TZNAME:EST
DTSTART:20291104T060000
END:STANDARD
BEGIN:DAYLIGHT
TZOFFSETFROM:-0500
TZOFFSETTO:-0400
TZNAME:EDT
DTSTART:20300310T070000
END:DAYLIGHT
BEGIN:STANDARD
TZOFFSETFROM:-0400
TZOFFSETTO:-0500
TZNAME:EST
DTSTART:20301103T060000
END:STANDARD
END:VTIMEZONE
BEGIN:VEVENT
DTSTART;TZID=America/New_York:20261107T100000
DTEND;TZID=America/New_York:20261107T150000
DTSTAMP:20260423T165312
CREATED:20251031T152140Z
LAST-MODIFIED:20251031T152140Z
UID:10001571-1794045600-1794063600@av8maps.com
SUMMARY:Tailwind Airpark Annual Fly-in (1TA7)
DESCRIPTION:Come join us again this year for our annual Fly-in.
URL:https://av8maps.com/event/tailwind-airpark-annual-fly-in-1ta7/2026-11-07/
LOCATION:Thompson Field\, 690 VZ County Rd 3119\, Edgewood\, TX\, 75117
ATTACH;FMTTYPE=image/jpeg:https://av8maps.com/wp-content/uploads/2025/10/Tailwind-Airpark-Annual-Fly-in-1TA7-e1761923935750.jpg
GEO:32.6168708;-95.869911
X-APPLE-STRUCTURED-LOCATION;VALUE=URI;X-ADDRESS=Thompson Field 690 VZ County Rd 3119 Edgewood TX 75117;X-APPLE-RADIUS=500;X-TITLE=690 VZ County Rd 3119:geo:-95.869911,32.6168708
END:VEVENT
BEGIN:VEVENT
DTSTART;TZID=America/New_York:20271106T100000
DTEND;TZID=America/New_York:20271106T150000
DTSTAMP:20260423T165312
CREATED:20251031T152140Z
LAST-MODIFIED:20251031T152140Z
UID:10001572-1825495200-1825513200@av8maps.com
SUMMARY:Tailwind Airpark Annual Fly-in (1TA7)
DESCRIPTION:Come join us again this year for our annual Fly-in.
URL:https://av8maps.com/event/tailwind-airpark-annual-fly-in-1ta7/2027-11-06/
LOCATION:Thompson Field\, 690 VZ County Rd 3119\, Edgewood\, TX\, 75117
ATTACH;FMTTYPE=image/jpeg:https://av8maps.com/wp-content/uploads/2025/10/Tailwind-Airpark-Annual-Fly-in-1TA7-e1761923935750.jpg
GEO:32.6168708;-95.869911
X-APPLE-STRUCTURED-LOCATION;VALUE=URI;X-ADDRESS=Thompson Field 690 VZ County Rd 3119 Edgewood TX 75117;X-APPLE-RADIUS=500;X-TITLE=690 VZ County Rd 3119:geo:-95.869911,32.6168708
END:VEVENT
BEGIN:VEVENT
DTSTART;TZID=America/New_York:20281104T100000
DTEND;TZID=America/New_York:20281104T150000
DTSTAMP:20260423T165312
CREATED:20251031T152140Z
LAST-MODIFIED:20251031T152140Z
UID:10001573-1856944800-1856962800@av8maps.com
SUMMARY:Tailwind Airpark Annual Fly-in (1TA7)
DESCRIPTION:Come join us again this year for our annual Fly-in.
URL:https://av8maps.com/event/tailwind-airpark-annual-fly-in-1ta7/2028-11-04/
LOCATION:Thompson Field\, 690 VZ County Rd 3119\, Edgewood\, TX\, 75117
ATTACH;FMTTYPE=image/jpeg:https://av8maps.com/wp-content/uploads/2025/10/Tailwind-Airpark-Annual-Fly-in-1TA7-e1761923935750.jpg
GEO:32.6168708;-95.869911
X-APPLE-STRUCTURED-LOCATION;VALUE=URI;X-ADDRESS=Thompson Field 690 VZ County Rd 3119 Edgewood TX 75117;X-APPLE-RADIUS=500;X-TITLE=690 VZ County Rd 3119:geo:-95.869911,32.6168708
END:VEVENT
BEGIN:VEVENT
DTSTART;TZID=America/New_York:20291103T100000
DTEND;TZID=America/New_York:20291103T150000
DTSTAMP:20260423T165312
CREATED:20251031T152140Z
LAST-MODIFIED:20251031T152140Z
UID:10001574-1888394400-1888412400@av8maps.com
SUMMARY:Tailwind Airpark Annual Fly-in (1TA7)
DESCRIPTION:Come join us again this year for our annual Fly-in.
URL:https://av8maps.com/event/tailwind-airpark-annual-fly-in-1ta7/2029-11-03/
LOCATION:Thompson Field\, 690 VZ County Rd 3119\, Edgewood\, TX\, 75117
ATTACH;FMTTYPE=image/jpeg:https://av8maps.com/wp-content/uploads/2025/10/Tailwind-Airpark-Annual-Fly-in-1TA7-e1761923935750.jpg
GEO:32.6168708;-95.869911
X-APPLE-STRUCTURED-LOCATION;VALUE=URI;X-ADDRESS=Thompson Field 690 VZ County Rd 3119 Edgewood TX 75117;X-APPLE-RADIUS=500;X-TITLE=690 VZ County Rd 3119:geo:-95.869911,32.6168708
END:VEVENT
END:VCALENDAR