BEGIN:VCALENDAR
VERSION:2.0
PRODID:-//AV8MAPS.COM - ECPv6.15.20//NONSGML v1.0//EN
CALSCALE:GREGORIAN
METHOD:PUBLISH
X-WR-CALNAME:AV8MAPS.COM
X-ORIGINAL-URL:https://av8maps.com
X-WR-CALDESC:Events for AV8MAPS.COM
REFRESH-INTERVAL;VALUE=DURATION:PT1H
X-Robots-Tag:noindex
X-PUBLISHED-TTL:PT1H
BEGIN:VTIMEZONE
TZID:America/New_York
BEGIN:DAYLIGHT
TZOFFSETFROM:-0500
TZOFFSETTO:-0400
TZNAME:EDT
DTSTART:20250309T070000
END:DAYLIGHT
BEGIN:STANDARD
TZOFFSETFROM:-0400
TZOFFSETTO:-0500
TZNAME:EST
DTSTART:20251102T060000
END:STANDARD
BEGIN:DAYLIGHT
TZOFFSETFROM:-0500
TZOFFSETTO:-0400
TZNAME:EDT
DTSTART:20260308T070000
END:DAYLIGHT
BEGIN:STANDARD
TZOFFSETFROM:-0400
TZOFFSETTO:-0500
TZNAME:EST
DTSTART:20261101T060000
END:STANDARD
BEGIN:DAYLIGHT
TZOFFSETFROM:-0500
TZOFFSETTO:-0400
TZNAME:EDT
DTSTART:20270314T070000
END:DAYLIGHT
BEGIN:STANDARD
TZOFFSETFROM:-0400
TZOFFSETTO:-0500
TZNAME:EST
DTSTART:20271107T060000
END:STANDARD
BEGIN:DAYLIGHT
TZOFFSETFROM:-0500
TZOFFSETTO:-0400
TZNAME:EDT
DTSTART:20280312T070000
END:DAYLIGHT
BEGIN:STANDARD
TZOFFSETFROM:-0400
TZOFFSETTO:-0500
TZNAME:EST
DTSTART:20281105T060000
END:STANDARD
BEGIN:DAYLIGHT
TZOFFSETFROM:-0500
TZOFFSETTO:-0400
TZNAME:EDT
DTSTART:20290311T070000
END:DAYLIGHT
BEGIN:STANDARD
TZOFFSETFROM:-0400
TZOFFSETTO:-0500
TZNAME:EST
DTSTART:20291104T060000
END:STANDARD
BEGIN:DAYLIGHT
TZOFFSETFROM:-0500
TZOFFSETTO:-0400
TZNAME:EDT
DTSTART:20300310T070000
END:DAYLIGHT
BEGIN:STANDARD
TZOFFSETFROM:-0400
TZOFFSETTO:-0500
TZNAME:EST
DTSTART:20301103T060000
END:STANDARD
BEGIN:DAYLIGHT
TZOFFSETFROM:-0500
TZOFFSETTO:-0400
TZNAME:EDT
DTSTART:20310309T070000
END:DAYLIGHT
BEGIN:STANDARD
TZOFFSETFROM:-0400
TZOFFSETTO:-0500
TZNAME:EST
DTSTART:20311102T060000
END:STANDARD
END:VTIMEZONE
BEGIN:VEVENT
DTSTART;TZID=America/New_York:20260620T110000
DTEND;TZID=America/New_York:20260620T140000
DTSTAMP:20260424T072729
CREATED:20250509T220210Z
LAST-MODIFIED:20251031T175542Z
UID:10001587-1781953200-1781964000@av8maps.com
SUMMARY:Dragonfly Aviation Anniversary Fly In (KWDR)
DESCRIPTION:Come celebrate our 11th anniversary in business! We want to celebrate you and all your flying accomplishments – and what better way to do so with cool airplanes\, food\, and giveaways. Confirmed guests include NICHOLAS AIR\, Sensenich Propeller Company\, BMW Aviation\, and Premier Aircraft; more to come!
URL:https://av8maps.com/event/anniversary-fly-in-kwdr/2026-06-20/
LOCATION:Barrow County Airport\, 839 Ronald Wood Rd\, Winder\, GA\, 30680
ATTACH;FMTTYPE=image/jpeg:https://av8maps.com/wp-content/uploads/2025/05/Dragonfly-Aviation-e1746914830849.jpg
GEO:33.9795702;-83.675118
X-APPLE-STRUCTURED-LOCATION;VALUE=URI;X-ADDRESS=Barrow County Airport 839 Ronald Wood Rd Winder GA 30680;X-APPLE-RADIUS=500;X-TITLE=839 Ronald Wood Rd:geo:-83.675118,33.9795702
END:VEVENT
BEGIN:VEVENT
DTSTART;TZID=America/New_York:20270619T110000
DTEND;TZID=America/New_York:20270619T140000
DTSTAMP:20260424T072729
CREATED:20250509T220210Z
LAST-MODIFIED:20251031T175542Z
UID:10001588-1813402800-1813413600@av8maps.com
SUMMARY:Dragonfly Aviation Anniversary Fly In (KWDR)
DESCRIPTION:Come celebrate our 11th anniversary in business! We want to celebrate you and all your flying accomplishments – and what better way to do so with cool airplanes\, food\, and giveaways. Confirmed guests include NICHOLAS AIR\, Sensenich Propeller Company\, BMW Aviation\, and Premier Aircraft; more to come!
URL:https://av8maps.com/event/anniversary-fly-in-kwdr/2027-06-19/
LOCATION:Barrow County Airport\, 839 Ronald Wood Rd\, Winder\, GA\, 30680
ATTACH;FMTTYPE=image/jpeg:https://av8maps.com/wp-content/uploads/2025/05/Dragonfly-Aviation-e1746914830849.jpg
GEO:33.9795702;-83.675118
X-APPLE-STRUCTURED-LOCATION;VALUE=URI;X-ADDRESS=Barrow County Airport 839 Ronald Wood Rd Winder GA 30680;X-APPLE-RADIUS=500;X-TITLE=839 Ronald Wood Rd:geo:-83.675118,33.9795702
END:VEVENT
BEGIN:VEVENT
DTSTART;TZID=America/New_York:20280617T110000
DTEND;TZID=America/New_York:20280617T140000
DTSTAMP:20260424T072729
CREATED:20250509T220210Z
LAST-MODIFIED:20251031T175542Z
UID:10001589-1844852400-1844863200@av8maps.com
SUMMARY:Dragonfly Aviation Anniversary Fly In (KWDR)
DESCRIPTION:Come celebrate our 11th anniversary in business! We want to celebrate you and all your flying accomplishments – and what better way to do so with cool airplanes\, food\, and giveaways. Confirmed guests include NICHOLAS AIR\, Sensenich Propeller Company\, BMW Aviation\, and Premier Aircraft; more to come!
URL:https://av8maps.com/event/anniversary-fly-in-kwdr/2028-06-17/
LOCATION:Barrow County Airport\, 839 Ronald Wood Rd\, Winder\, GA\, 30680
ATTACH;FMTTYPE=image/jpeg:https://av8maps.com/wp-content/uploads/2025/05/Dragonfly-Aviation-e1746914830849.jpg
GEO:33.9795702;-83.675118
X-APPLE-STRUCTURED-LOCATION;VALUE=URI;X-ADDRESS=Barrow County Airport 839 Ronald Wood Rd Winder GA 30680;X-APPLE-RADIUS=500;X-TITLE=839 Ronald Wood Rd:geo:-83.675118,33.9795702
END:VEVENT
BEGIN:VEVENT
DTSTART;TZID=America/New_York:20290616T110000
DTEND;TZID=America/New_York:20290616T140000
DTSTAMP:20260424T072729
CREATED:20250509T220210Z
LAST-MODIFIED:20251031T175542Z
UID:10001590-1876302000-1876312800@av8maps.com
SUMMARY:Dragonfly Aviation Anniversary Fly In (KWDR)
DESCRIPTION:Come celebrate our 11th anniversary in business! We want to celebrate you and all your flying accomplishments – and what better way to do so with cool airplanes\, food\, and giveaways. Confirmed guests include NICHOLAS AIR\, Sensenich Propeller Company\, BMW Aviation\, and Premier Aircraft; more to come!
URL:https://av8maps.com/event/anniversary-fly-in-kwdr/2029-06-16/
LOCATION:Barrow County Airport\, 839 Ronald Wood Rd\, Winder\, GA\, 30680
ATTACH;FMTTYPE=image/jpeg:https://av8maps.com/wp-content/uploads/2025/05/Dragonfly-Aviation-e1746914830849.jpg
GEO:33.9795702;-83.675118
X-APPLE-STRUCTURED-LOCATION;VALUE=URI;X-ADDRESS=Barrow County Airport 839 Ronald Wood Rd Winder GA 30680;X-APPLE-RADIUS=500;X-TITLE=839 Ronald Wood Rd:geo:-83.675118,33.9795702
END:VEVENT
BEGIN:VEVENT
DTSTART;TZID=America/New_York:20300615T110000
DTEND;TZID=America/New_York:20300615T140000
DTSTAMP:20260424T072729
CREATED:20250509T220210Z
LAST-MODIFIED:20251031T175542Z
UID:10001591-1907751600-1907762400@av8maps.com
SUMMARY:Dragonfly Aviation Anniversary Fly In (KWDR)
DESCRIPTION:Come celebrate our 11th anniversary in business! We want to celebrate you and all your flying accomplishments – and what better way to do so with cool airplanes\, food\, and giveaways. Confirmed guests include NICHOLAS AIR\, Sensenich Propeller Company\, BMW Aviation\, and Premier Aircraft; more to come!
URL:https://av8maps.com/event/anniversary-fly-in-kwdr/2030-06-15/
LOCATION:Barrow County Airport\, 839 Ronald Wood Rd\, Winder\, GA\, 30680
ATTACH;FMTTYPE=image/jpeg:https://av8maps.com/wp-content/uploads/2025/05/Dragonfly-Aviation-e1746914830849.jpg
GEO:33.9795702;-83.675118
X-APPLE-STRUCTURED-LOCATION;VALUE=URI;X-ADDRESS=Barrow County Airport 839 Ronald Wood Rd Winder GA 30680;X-APPLE-RADIUS=500;X-TITLE=839 Ronald Wood Rd:geo:-83.675118,33.9795702
END:VEVENT
END:VCALENDAR