BEGIN:VCALENDAR
VERSION:2.0
PRODID:-//AV8MAPS.COM - ECPv6.15.20//NONSGML v1.0//EN
CALSCALE:GREGORIAN
METHOD:PUBLISH
X-WR-CALNAME:AV8MAPS.COM
X-ORIGINAL-URL:https://av8maps.com
X-WR-CALDESC:Events for AV8MAPS.COM
REFRESH-INTERVAL;VALUE=DURATION:PT1H
X-Robots-Tag:noindex
X-PUBLISHED-TTL:PT1H
BEGIN:VTIMEZONE
TZID:America/New_York
BEGIN:DAYLIGHT
TZOFFSETFROM:-0500
TZOFFSETTO:-0400
TZNAME:EDT
DTSTART:20250309T070000
END:DAYLIGHT
BEGIN:STANDARD
TZOFFSETFROM:-0400
TZOFFSETTO:-0500
TZNAME:EST
DTSTART:20251102T060000
END:STANDARD
BEGIN:DAYLIGHT
TZOFFSETFROM:-0500
TZOFFSETTO:-0400
TZNAME:EDT
DTSTART:20260308T070000
END:DAYLIGHT
BEGIN:STANDARD
TZOFFSETFROM:-0400
TZOFFSETTO:-0500
TZNAME:EST
DTSTART:20261101T060000
END:STANDARD
BEGIN:DAYLIGHT
TZOFFSETFROM:-0500
TZOFFSETTO:-0400
TZNAME:EDT
DTSTART:20270314T070000
END:DAYLIGHT
BEGIN:STANDARD
TZOFFSETFROM:-0400
TZOFFSETTO:-0500
TZNAME:EST
DTSTART:20271107T060000
END:STANDARD
BEGIN:DAYLIGHT
TZOFFSETFROM:-0500
TZOFFSETTO:-0400
TZNAME:EDT
DTSTART:20280312T070000
END:DAYLIGHT
BEGIN:STANDARD
TZOFFSETFROM:-0400
TZOFFSETTO:-0500
TZNAME:EST
DTSTART:20281105T060000
END:STANDARD
END:VTIMEZONE
BEGIN:VEVENT
DTSTART;TZID=America/New_York:20260530T100000
DTEND;TZID=America/New_York:20260530T150000
DTSTAMP:20260422T220716
CREATED:20250516T191802Z
LAST-MODIFIED:20251031T181452Z
UID:10001612-1780135200-1780153200@av8maps.com
SUMMARY:Fullerton Municipal Airport Day (KFUL)
DESCRIPTION:The City of Fullerton is proud of the rich history of the airport since its founding in 1928.  Each year in May/June\, the airport opens its doors to thousands of local visitors on Airport Day. This free event showcases the important role the airport plays where the public can walk the field and experience varied exhibits\, static and interactive displays\, model building\, and lots of fun. In addition\, food\, airplane rides and helicopter rides are available for a fee.
URL:https://av8maps.com/event/fullerton-municipal-airport-day-kful/2026-05-30/
LOCATION:Fullerton Municipal Airport\, 4011 W Commonwealth Ave\, Fullerton\, CA\, 92833
ATTACH;FMTTYPE=image/jpeg:https://av8maps.com/wp-content/uploads/2025/05/Fullerton-Municipal-e1747423066544.jpg
GEO:33.8704793;-117.9798234
X-APPLE-STRUCTURED-LOCATION;VALUE=URI;X-ADDRESS=Fullerton Municipal Airport 4011 W Commonwealth Ave Fullerton CA 92833;X-APPLE-RADIUS=500;X-TITLE=4011 W Commonwealth Ave:geo:-117.9798234,33.8704793
END:VEVENT
BEGIN:VEVENT
DTSTART;TZID=America/New_York:20270529T100000
DTEND;TZID=America/New_York:20270529T150000
DTSTAMP:20260422T220716
CREATED:20250516T191802Z
LAST-MODIFIED:20251031T181452Z
UID:10001613-1811584800-1811602800@av8maps.com
SUMMARY:Fullerton Municipal Airport Day (KFUL)
DESCRIPTION:The City of Fullerton is proud of the rich history of the airport since its founding in 1928.  Each year in May/June\, the airport opens its doors to thousands of local visitors on Airport Day. This free event showcases the important role the airport plays where the public can walk the field and experience varied exhibits\, static and interactive displays\, model building\, and lots of fun. In addition\, food\, airplane rides and helicopter rides are available for a fee.
URL:https://av8maps.com/event/fullerton-municipal-airport-day-kful/2027-05-29/
LOCATION:Fullerton Municipal Airport\, 4011 W Commonwealth Ave\, Fullerton\, CA\, 92833
ATTACH;FMTTYPE=image/jpeg:https://av8maps.com/wp-content/uploads/2025/05/Fullerton-Municipal-e1747423066544.jpg
GEO:33.8704793;-117.9798234
X-APPLE-STRUCTURED-LOCATION;VALUE=URI;X-ADDRESS=Fullerton Municipal Airport 4011 W Commonwealth Ave Fullerton CA 92833;X-APPLE-RADIUS=500;X-TITLE=4011 W Commonwealth Ave:geo:-117.9798234,33.8704793
END:VEVENT
END:VCALENDAR