BEGIN:VCALENDAR
VERSION:2.0
PRODID:-//AV8MAPS.COM - ECPv6.15.20//NONSGML v1.0//EN
CALSCALE:GREGORIAN
METHOD:PUBLISH
X-WR-CALNAME:AV8MAPS.COM
X-ORIGINAL-URL:https://av8maps.com
X-WR-CALDESC:Events for AV8MAPS.COM
REFRESH-INTERVAL;VALUE=DURATION:PT1H
X-Robots-Tag:noindex
X-PUBLISHED-TTL:PT1H
BEGIN:VTIMEZONE
TZID:America/New_York
BEGIN:DAYLIGHT
TZOFFSETFROM:-0500
TZOFFSETTO:-0400
TZNAME:EDT
DTSTART:20250309T070000
END:DAYLIGHT
BEGIN:STANDARD
TZOFFSETFROM:-0400
TZOFFSETTO:-0500
TZNAME:EST
DTSTART:20251102T060000
END:STANDARD
BEGIN:DAYLIGHT
TZOFFSETFROM:-0500
TZOFFSETTO:-0400
TZNAME:EDT
DTSTART:20260308T070000
END:DAYLIGHT
BEGIN:STANDARD
TZOFFSETFROM:-0400
TZOFFSETTO:-0500
TZNAME:EST
DTSTART:20261101T060000
END:STANDARD
BEGIN:DAYLIGHT
TZOFFSETFROM:-0500
TZOFFSETTO:-0400
TZNAME:EDT
DTSTART:20270314T070000
END:DAYLIGHT
BEGIN:STANDARD
TZOFFSETFROM:-0400
TZOFFSETTO:-0500
TZNAME:EST
DTSTART:20271107T060000
END:STANDARD
BEGIN:DAYLIGHT
TZOFFSETFROM:-0500
TZOFFSETTO:-0400
TZNAME:EDT
DTSTART:20280312T070000
END:DAYLIGHT
BEGIN:STANDARD
TZOFFSETFROM:-0400
TZOFFSETTO:-0500
TZNAME:EST
DTSTART:20281105T060000
END:STANDARD
BEGIN:DAYLIGHT
TZOFFSETFROM:-0500
TZOFFSETTO:-0400
TZNAME:EDT
DTSTART:20290311T070000
END:DAYLIGHT
BEGIN:STANDARD
TZOFFSETFROM:-0400
TZOFFSETTO:-0500
TZNAME:EST
DTSTART:20291104T060000
END:STANDARD
BEGIN:DAYLIGHT
TZOFFSETFROM:-0500
TZOFFSETTO:-0400
TZNAME:EDT
DTSTART:20300310T070000
END:DAYLIGHT
BEGIN:STANDARD
TZOFFSETFROM:-0400
TZOFFSETTO:-0500
TZNAME:EST
DTSTART:20301103T060000
END:STANDARD
BEGIN:DAYLIGHT
TZOFFSETFROM:-0500
TZOFFSETTO:-0400
TZNAME:EDT
DTSTART:20310309T070000
END:DAYLIGHT
BEGIN:STANDARD
TZOFFSETFROM:-0400
TZOFFSETTO:-0500
TZNAME:EST
DTSTART:20311102T060000
END:STANDARD
END:VTIMEZONE
BEGIN:VEVENT
DTSTART;TZID=America/New_York:20260808T110000
DTEND;TZID=America/New_York:20260808T150000
DTSTAMP:20260423T063650
CREATED:20250509T155157Z
LAST-MODIFIED:20251031T182031Z
UID:10001619-1786186800-1786201200@av8maps.com
SUMMARY:Brighton Airport Annual Fly-In and Cruise-In (45G)
DESCRIPTION:Come join us for our annual Fly-In / Cruise-In.\nPilots that Fly In eat for FREE!\nBring your Classic or Show car – No entry fee.
URL:https://av8maps.com/event/brighton-airport-45g-19th-annual-fly-in-and-cruise-in/2026-08-08/
LOCATION:Brighton Airport\, 8664 Hyne Rd\, Brighton\, MI 48114
ATTACH;FMTTYPE=image/jpeg:https://av8maps.com/wp-content/uploads/2025/05/Brighton-Airport-e1747528586905.jpg
GEO:42.5703466;-83.7773369
X-APPLE-STRUCTURED-LOCATION;VALUE=URI;X-ADDRESS=Brighton Airport 8664 Hyne Rd Brighton MI 48114;X-APPLE-RADIUS=500;X-TITLE=8664 Hyne Rd\, Brighton\, MI 48114:geo:-83.7773369,42.5703466
END:VEVENT
BEGIN:VEVENT
DTSTART;TZID=America/New_York:20270814T110000
DTEND;TZID=America/New_York:20270814T150000
DTSTAMP:20260423T063650
CREATED:20250509T155157Z
LAST-MODIFIED:20251031T182031Z
UID:10001620-1818241200-1818255600@av8maps.com
SUMMARY:Brighton Airport Annual Fly-In and Cruise-In (45G)
DESCRIPTION:Come join us for our annual Fly-In / Cruise-In.\nPilots that Fly In eat for FREE!\nBring your Classic or Show car – No entry fee.
URL:https://av8maps.com/event/brighton-airport-45g-19th-annual-fly-in-and-cruise-in/2027-08-14/
LOCATION:Brighton Airport\, 8664 Hyne Rd\, Brighton\, MI 48114
ATTACH;FMTTYPE=image/jpeg:https://av8maps.com/wp-content/uploads/2025/05/Brighton-Airport-e1747528586905.jpg
GEO:42.5703466;-83.7773369
X-APPLE-STRUCTURED-LOCATION;VALUE=URI;X-ADDRESS=Brighton Airport 8664 Hyne Rd Brighton MI 48114;X-APPLE-RADIUS=500;X-TITLE=8664 Hyne Rd\, Brighton\, MI 48114:geo:-83.7773369,42.5703466
END:VEVENT
BEGIN:VEVENT
DTSTART;TZID=America/New_York:20280812T110000
DTEND;TZID=America/New_York:20280812T150000
DTSTAMP:20260423T063650
CREATED:20250509T155157Z
LAST-MODIFIED:20251031T182031Z
UID:10001621-1849690800-1849705200@av8maps.com
SUMMARY:Brighton Airport Annual Fly-In and Cruise-In (45G)
DESCRIPTION:Come join us for our annual Fly-In / Cruise-In.\nPilots that Fly In eat for FREE!\nBring your Classic or Show car – No entry fee.
URL:https://av8maps.com/event/brighton-airport-45g-19th-annual-fly-in-and-cruise-in/2028-08-12/
LOCATION:Brighton Airport\, 8664 Hyne Rd\, Brighton\, MI 48114
ATTACH;FMTTYPE=image/jpeg:https://av8maps.com/wp-content/uploads/2025/05/Brighton-Airport-e1747528586905.jpg
GEO:42.5703466;-83.7773369
X-APPLE-STRUCTURED-LOCATION;VALUE=URI;X-ADDRESS=Brighton Airport 8664 Hyne Rd Brighton MI 48114;X-APPLE-RADIUS=500;X-TITLE=8664 Hyne Rd\, Brighton\, MI 48114:geo:-83.7773369,42.5703466
END:VEVENT
BEGIN:VEVENT
DTSTART;TZID=America/New_York:20290811T110000
DTEND;TZID=America/New_York:20290811T150000
DTSTAMP:20260423T063650
CREATED:20250509T155157Z
LAST-MODIFIED:20251031T182031Z
UID:10001622-1881140400-1881154800@av8maps.com
SUMMARY:Brighton Airport Annual Fly-In and Cruise-In (45G)
DESCRIPTION:Come join us for our annual Fly-In / Cruise-In.\nPilots that Fly In eat for FREE!\nBring your Classic or Show car – No entry fee.
URL:https://av8maps.com/event/brighton-airport-45g-19th-annual-fly-in-and-cruise-in/2029-08-11/
LOCATION:Brighton Airport\, 8664 Hyne Rd\, Brighton\, MI 48114
ATTACH;FMTTYPE=image/jpeg:https://av8maps.com/wp-content/uploads/2025/05/Brighton-Airport-e1747528586905.jpg
GEO:42.5703466;-83.7773369
X-APPLE-STRUCTURED-LOCATION;VALUE=URI;X-ADDRESS=Brighton Airport 8664 Hyne Rd Brighton MI 48114;X-APPLE-RADIUS=500;X-TITLE=8664 Hyne Rd\, Brighton\, MI 48114:geo:-83.7773369,42.5703466
END:VEVENT
BEGIN:VEVENT
DTSTART;TZID=America/New_York:20300810T110000
DTEND;TZID=America/New_York:20300810T150000
DTSTAMP:20260423T063650
CREATED:20250509T155157Z
LAST-MODIFIED:20251031T182031Z
UID:10001623-1912590000-1912604400@av8maps.com
SUMMARY:Brighton Airport Annual Fly-In and Cruise-In (45G)
DESCRIPTION:Come join us for our annual Fly-In / Cruise-In.\nPilots that Fly In eat for FREE!\nBring your Classic or Show car – No entry fee.
URL:https://av8maps.com/event/brighton-airport-45g-19th-annual-fly-in-and-cruise-in/2030-08-10/
LOCATION:Brighton Airport\, 8664 Hyne Rd\, Brighton\, MI 48114
ATTACH;FMTTYPE=image/jpeg:https://av8maps.com/wp-content/uploads/2025/05/Brighton-Airport-e1747528586905.jpg
GEO:42.5703466;-83.7773369
X-APPLE-STRUCTURED-LOCATION;VALUE=URI;X-ADDRESS=Brighton Airport 8664 Hyne Rd Brighton MI 48114;X-APPLE-RADIUS=500;X-TITLE=8664 Hyne Rd\, Brighton\, MI 48114:geo:-83.7773369,42.5703466
END:VEVENT
END:VCALENDAR