BEGIN:VCALENDAR
VERSION:2.0
PRODID:-//AV8MAPS.COM - ECPv6.15.20//NONSGML v1.0//EN
CALSCALE:GREGORIAN
METHOD:PUBLISH
X-WR-CALNAME:AV8MAPS.COM
X-ORIGINAL-URL:https://av8maps.com
X-WR-CALDESC:Events for AV8MAPS.COM
REFRESH-INTERVAL;VALUE=DURATION:PT1H
X-Robots-Tag:noindex
X-PUBLISHED-TTL:PT1H
BEGIN:VTIMEZONE
TZID:America/New_York
BEGIN:DAYLIGHT
TZOFFSETFROM:-0500
TZOFFSETTO:-0400
TZNAME:EDT
DTSTART:20250309T070000
END:DAYLIGHT
BEGIN:STANDARD
TZOFFSETFROM:-0400
TZOFFSETTO:-0500
TZNAME:EST
DTSTART:20251102T060000
END:STANDARD
BEGIN:DAYLIGHT
TZOFFSETFROM:-0500
TZOFFSETTO:-0400
TZNAME:EDT
DTSTART:20260308T070000
END:DAYLIGHT
BEGIN:STANDARD
TZOFFSETFROM:-0400
TZOFFSETTO:-0500
TZNAME:EST
DTSTART:20261101T060000
END:STANDARD
BEGIN:DAYLIGHT
TZOFFSETFROM:-0500
TZOFFSETTO:-0400
TZNAME:EDT
DTSTART:20270314T070000
END:DAYLIGHT
BEGIN:STANDARD
TZOFFSETFROM:-0400
TZOFFSETTO:-0500
TZNAME:EST
DTSTART:20271107T060000
END:STANDARD
BEGIN:DAYLIGHT
TZOFFSETFROM:-0500
TZOFFSETTO:-0400
TZNAME:EDT
DTSTART:20280312T070000
END:DAYLIGHT
BEGIN:STANDARD
TZOFFSETFROM:-0400
TZOFFSETTO:-0500
TZNAME:EST
DTSTART:20281105T060000
END:STANDARD
BEGIN:DAYLIGHT
TZOFFSETFROM:-0500
TZOFFSETTO:-0400
TZNAME:EDT
DTSTART:20290311T070000
END:DAYLIGHT
BEGIN:STANDARD
TZOFFSETFROM:-0400
TZOFFSETTO:-0500
TZNAME:EST
DTSTART:20291104T060000
END:STANDARD
BEGIN:DAYLIGHT
TZOFFSETFROM:-0500
TZOFFSETTO:-0400
TZNAME:EDT
DTSTART:20300310T070000
END:DAYLIGHT
BEGIN:STANDARD
TZOFFSETFROM:-0400
TZOFFSETTO:-0500
TZNAME:EST
DTSTART:20301103T060000
END:STANDARD
BEGIN:DAYLIGHT
TZOFFSETFROM:-0500
TZOFFSETTO:-0400
TZNAME:EDT
DTSTART:20310309T070000
END:DAYLIGHT
BEGIN:STANDARD
TZOFFSETFROM:-0400
TZOFFSETTO:-0500
TZNAME:EST
DTSTART:20311102T060000
END:STANDARD
END:VTIMEZONE
BEGIN:VEVENT
DTSTART;TZID=America/New_York:20260923T100000
DTEND;TZID=America/New_York:20260927T120000
DTSTAMP:20260423T005033
CREATED:20250509T155159Z
LAST-MODIFIED:20251031T183303Z
UID:10001638-1790157600-1790510400@av8maps.com
SUMMARY:Byrd’s Backcountry Flight Festival
DESCRIPTION:BBFF 2025\nByrds Backcountry Flight Festival\n2nd Annual\nSept 24-28\, 2025\nWednesday\, Sept 24\, 2025\nGeneral Arrivals\nSTOL Practice\nBackcountry Course\nFun Flying\nGroup Fly-Out (Fly OZ)\nThursday\, Sept 25\, 2025\nGeneral Arrivals\nSTOL Practice\nBackcountry Course\nFun Flying\nGroup Fly-Out (Fly OZ)\nFriday\, Sept 26\, 2025\nTraditional STOL\nMid-day Air Demos\nGroup Fly-Out (Sandbar)\nSaturday\, Sept 27\, 2025\nMulti Runway Timed Event\nMid-day Air Demos\nEvening Air Demos\nSunday Sept 28\nDepartures\nMark your calendars. More information coming soon!\n479-667-4066
URL:https://av8maps.com/event/byrds-backcountry-flight-festival/2026-09-23/
LOCATION:Byrd’s Adventure Center\, 7037 Cass Oak Rd\, Ozark\, AR 72949\, AR
ATTACH;FMTTYPE=image/jpeg:https://av8maps.com/wp-content/uploads/2025/05/Byrds-Backcountry-e1747534931131.jpg
GEO:35.6782844;-93.7431718
X-APPLE-STRUCTURED-LOCATION;VALUE=URI;X-ADDRESS=Byrd’s Adventure Center 7037 Cass Oak Rd Ozark AR 72949 AR;X-APPLE-RADIUS=500;X-TITLE=7037 Cass Oak Rd\, Ozark\, AR 72949:geo:-93.7431718,35.6782844
END:VEVENT
BEGIN:VEVENT
DTSTART;TZID=America/New_York:20270922T100000
DTEND;TZID=America/New_York:20270926T120000
DTSTAMP:20260423T005033
CREATED:20250509T155159Z
LAST-MODIFIED:20251031T183303Z
UID:10001639-1821607200-1821960000@av8maps.com
SUMMARY:Byrd’s Backcountry Flight Festival
DESCRIPTION:BBFF 2025\nByrds Backcountry Flight Festival\n2nd Annual\nSept 24-28\, 2025\nWednesday\, Sept 24\, 2025\nGeneral Arrivals\nSTOL Practice\nBackcountry Course\nFun Flying\nGroup Fly-Out (Fly OZ)\nThursday\, Sept 25\, 2025\nGeneral Arrivals\nSTOL Practice\nBackcountry Course\nFun Flying\nGroup Fly-Out (Fly OZ)\nFriday\, Sept 26\, 2025\nTraditional STOL\nMid-day Air Demos\nGroup Fly-Out (Sandbar)\nSaturday\, Sept 27\, 2025\nMulti Runway Timed Event\nMid-day Air Demos\nEvening Air Demos\nSunday Sept 28\nDepartures\nMark your calendars. More information coming soon!\n479-667-4066
URL:https://av8maps.com/event/byrds-backcountry-flight-festival/2027-09-22/
LOCATION:Byrd’s Adventure Center\, 7037 Cass Oak Rd\, Ozark\, AR 72949\, AR
ATTACH;FMTTYPE=image/jpeg:https://av8maps.com/wp-content/uploads/2025/05/Byrds-Backcountry-e1747534931131.jpg
GEO:35.6782844;-93.7431718
X-APPLE-STRUCTURED-LOCATION;VALUE=URI;X-ADDRESS=Byrd’s Adventure Center 7037 Cass Oak Rd Ozark AR 72949 AR;X-APPLE-RADIUS=500;X-TITLE=7037 Cass Oak Rd\, Ozark\, AR 72949:geo:-93.7431718,35.6782844
END:VEVENT
BEGIN:VEVENT
DTSTART;TZID=America/New_York:20280927T100000
DTEND;TZID=America/New_York:20281001T120000
DTSTAMP:20260423T005033
CREATED:20250509T155159Z
LAST-MODIFIED:20251031T183303Z
UID:10001640-1853661600-1854014400@av8maps.com
SUMMARY:Byrd’s Backcountry Flight Festival
DESCRIPTION:BBFF 2025\nByrds Backcountry Flight Festival\n2nd Annual\nSept 24-28\, 2025\nWednesday\, Sept 24\, 2025\nGeneral Arrivals\nSTOL Practice\nBackcountry Course\nFun Flying\nGroup Fly-Out (Fly OZ)\nThursday\, Sept 25\, 2025\nGeneral Arrivals\nSTOL Practice\nBackcountry Course\nFun Flying\nGroup Fly-Out (Fly OZ)\nFriday\, Sept 26\, 2025\nTraditional STOL\nMid-day Air Demos\nGroup Fly-Out (Sandbar)\nSaturday\, Sept 27\, 2025\nMulti Runway Timed Event\nMid-day Air Demos\nEvening Air Demos\nSunday Sept 28\nDepartures\nMark your calendars. More information coming soon!\n479-667-4066
URL:https://av8maps.com/event/byrds-backcountry-flight-festival/2028-09-27/
LOCATION:Byrd’s Adventure Center\, 7037 Cass Oak Rd\, Ozark\, AR 72949\, AR
ATTACH;FMTTYPE=image/jpeg:https://av8maps.com/wp-content/uploads/2025/05/Byrds-Backcountry-e1747534931131.jpg
GEO:35.6782844;-93.7431718
X-APPLE-STRUCTURED-LOCATION;VALUE=URI;X-ADDRESS=Byrd’s Adventure Center 7037 Cass Oak Rd Ozark AR 72949 AR;X-APPLE-RADIUS=500;X-TITLE=7037 Cass Oak Rd\, Ozark\, AR 72949:geo:-93.7431718,35.6782844
END:VEVENT
BEGIN:VEVENT
DTSTART;TZID=America/New_York:20290926T100000
DTEND;TZID=America/New_York:20290930T120000
DTSTAMP:20260423T005033
CREATED:20250509T155159Z
LAST-MODIFIED:20251031T183303Z
UID:10001641-1885111200-1885464000@av8maps.com
SUMMARY:Byrd’s Backcountry Flight Festival
DESCRIPTION:BBFF 2025\nByrds Backcountry Flight Festival\n2nd Annual\nSept 24-28\, 2025\nWednesday\, Sept 24\, 2025\nGeneral Arrivals\nSTOL Practice\nBackcountry Course\nFun Flying\nGroup Fly-Out (Fly OZ)\nThursday\, Sept 25\, 2025\nGeneral Arrivals\nSTOL Practice\nBackcountry Course\nFun Flying\nGroup Fly-Out (Fly OZ)\nFriday\, Sept 26\, 2025\nTraditional STOL\nMid-day Air Demos\nGroup Fly-Out (Sandbar)\nSaturday\, Sept 27\, 2025\nMulti Runway Timed Event\nMid-day Air Demos\nEvening Air Demos\nSunday Sept 28\nDepartures\nMark your calendars. More information coming soon!\n479-667-4066
URL:https://av8maps.com/event/byrds-backcountry-flight-festival/2029-09-26/
LOCATION:Byrd’s Adventure Center\, 7037 Cass Oak Rd\, Ozark\, AR 72949\, AR
ATTACH;FMTTYPE=image/jpeg:https://av8maps.com/wp-content/uploads/2025/05/Byrds-Backcountry-e1747534931131.jpg
GEO:35.6782844;-93.7431718
X-APPLE-STRUCTURED-LOCATION;VALUE=URI;X-ADDRESS=Byrd’s Adventure Center 7037 Cass Oak Rd Ozark AR 72949 AR;X-APPLE-RADIUS=500;X-TITLE=7037 Cass Oak Rd\, Ozark\, AR 72949:geo:-93.7431718,35.6782844
END:VEVENT
BEGIN:VEVENT
DTSTART;TZID=America/New_York:20300925T100000
DTEND;TZID=America/New_York:20300929T120000
DTSTAMP:20260423T005033
CREATED:20250509T155159Z
LAST-MODIFIED:20251031T183303Z
UID:10001642-1916560800-1916913600@av8maps.com
SUMMARY:Byrd’s Backcountry Flight Festival
DESCRIPTION:BBFF 2025\nByrds Backcountry Flight Festival\n2nd Annual\nSept 24-28\, 2025\nWednesday\, Sept 24\, 2025\nGeneral Arrivals\nSTOL Practice\nBackcountry Course\nFun Flying\nGroup Fly-Out (Fly OZ)\nThursday\, Sept 25\, 2025\nGeneral Arrivals\nSTOL Practice\nBackcountry Course\nFun Flying\nGroup Fly-Out (Fly OZ)\nFriday\, Sept 26\, 2025\nTraditional STOL\nMid-day Air Demos\nGroup Fly-Out (Sandbar)\nSaturday\, Sept 27\, 2025\nMulti Runway Timed Event\nMid-day Air Demos\nEvening Air Demos\nSunday Sept 28\nDepartures\nMark your calendars. More information coming soon!\n479-667-4066
URL:https://av8maps.com/event/byrds-backcountry-flight-festival/2030-09-25/
LOCATION:Byrd’s Adventure Center\, 7037 Cass Oak Rd\, Ozark\, AR 72949\, AR
ATTACH;FMTTYPE=image/jpeg:https://av8maps.com/wp-content/uploads/2025/05/Byrds-Backcountry-e1747534931131.jpg
GEO:35.6782844;-93.7431718
X-APPLE-STRUCTURED-LOCATION;VALUE=URI;X-ADDRESS=Byrd’s Adventure Center 7037 Cass Oak Rd Ozark AR 72949 AR;X-APPLE-RADIUS=500;X-TITLE=7037 Cass Oak Rd\, Ozark\, AR 72949:geo:-93.7431718,35.6782844
END:VEVENT
END:VCALENDAR