BEGIN:VCALENDAR
VERSION:2.0
PRODID:-//AV8MAPS.COM - ECPv6.15.20//NONSGML v1.0//EN
CALSCALE:GREGORIAN
METHOD:PUBLISH
X-WR-CALNAME:AV8MAPS.COM
X-ORIGINAL-URL:https://av8maps.com
X-WR-CALDESC:Events for AV8MAPS.COM
REFRESH-INTERVAL;VALUE=DURATION:PT1H
X-Robots-Tag:noindex
X-PUBLISHED-TTL:PT1H
BEGIN:VTIMEZONE
TZID:America/New_York
BEGIN:DAYLIGHT
TZOFFSETFROM:-0500
TZOFFSETTO:-0400
TZNAME:EDT
DTSTART:20250309T070000
END:DAYLIGHT
BEGIN:STANDARD
TZOFFSETFROM:-0400
TZOFFSETTO:-0500
TZNAME:EST
DTSTART:20251102T060000
END:STANDARD
BEGIN:DAYLIGHT
TZOFFSETFROM:-0500
TZOFFSETTO:-0400
TZNAME:EDT
DTSTART:20260308T070000
END:DAYLIGHT
BEGIN:STANDARD
TZOFFSETFROM:-0400
TZOFFSETTO:-0500
TZNAME:EST
DTSTART:20261101T060000
END:STANDARD
BEGIN:DAYLIGHT
TZOFFSETFROM:-0500
TZOFFSETTO:-0400
TZNAME:EDT
DTSTART:20270314T070000
END:DAYLIGHT
BEGIN:STANDARD
TZOFFSETFROM:-0400
TZOFFSETTO:-0500
TZNAME:EST
DTSTART:20271107T060000
END:STANDARD
BEGIN:DAYLIGHT
TZOFFSETFROM:-0500
TZOFFSETTO:-0400
TZNAME:EDT
DTSTART:20280312T070000
END:DAYLIGHT
BEGIN:STANDARD
TZOFFSETFROM:-0400
TZOFFSETTO:-0500
TZNAME:EST
DTSTART:20281105T060000
END:STANDARD
BEGIN:DAYLIGHT
TZOFFSETFROM:-0500
TZOFFSETTO:-0400
TZNAME:EDT
DTSTART:20290311T070000
END:DAYLIGHT
BEGIN:STANDARD
TZOFFSETFROM:-0400
TZOFFSETTO:-0500
TZNAME:EST
DTSTART:20291104T060000
END:STANDARD
BEGIN:DAYLIGHT
TZOFFSETFROM:-0500
TZOFFSETTO:-0400
TZNAME:EDT
DTSTART:20300310T070000
END:DAYLIGHT
BEGIN:STANDARD
TZOFFSETFROM:-0400
TZOFFSETTO:-0500
TZNAME:EST
DTSTART:20301103T060000
END:STANDARD
BEGIN:DAYLIGHT
TZOFFSETFROM:-0500
TZOFFSETTO:-0400
TZNAME:EDT
DTSTART:20310309T070000
END:DAYLIGHT
BEGIN:STANDARD
TZOFFSETFROM:-0400
TZOFFSETTO:-0500
TZNAME:EST
DTSTART:20311102T060000
END:STANDARD
END:VTIMEZONE
BEGIN:VEVENT
DTSTART;TZID=America/New_York:20261003T080000
DTEND;TZID=America/New_York:20261003T110000
DTSTAMP:20260423T021935
CREATED:20250507T234640Z
LAST-MODIFIED:20251031T183637Z
UID:10001648-1791014400-1791025200@av8maps.com
SUMMARY:VAA Chapter 3 Fall Fly-In (KCDN)
DESCRIPTION:KCDN 40 Hangar Ln\, Camden\, SC\nEarly birds are welcome to camp at the airport as early as Thursday. Stay with us the whole weekend! The main event will be Saturday the 4th. We are planning a fly out Friday for lunch and food will be available Saturday too! All are welcome. Come experience the best of South Carolina fall flying\, Antique and Classic airplanes and help support EAA-VAA Chapter 3!
URL:https://av8maps.com/event/vaa-chapter-3-fall-fly-in/2026-10-03/
LOCATION:Woodward Field Airport\, 40 Hanger Ln\, Camden\, SC 29020
ATTACH;FMTTYPE=image/jpeg:https://av8maps.com/wp-content/uploads/2025/05/VAA-Chapter-3-e1747536527218.jpg
GEO:34.2504806;-80.6082874
X-APPLE-STRUCTURED-LOCATION;VALUE=URI;X-ADDRESS=Woodward Field Airport 40 Hanger Ln Camden SC 29020;X-APPLE-RADIUS=500;X-TITLE=40 Hanger Ln\, Camden\, SC 29020:geo:-80.6082874,34.2504806
END:VEVENT
BEGIN:VEVENT
DTSTART;TZID=America/New_York:20271002T080000
DTEND;TZID=America/New_York:20271002T110000
DTSTAMP:20260423T021935
CREATED:20250507T234640Z
LAST-MODIFIED:20251031T183637Z
UID:10001649-1822464000-1822474800@av8maps.com
SUMMARY:VAA Chapter 3 Fall Fly-In (KCDN)
DESCRIPTION:KCDN 40 Hangar Ln\, Camden\, SC\nEarly birds are welcome to camp at the airport as early as Thursday. Stay with us the whole weekend! The main event will be Saturday the 4th. We are planning a fly out Friday for lunch and food will be available Saturday too! All are welcome. Come experience the best of South Carolina fall flying\, Antique and Classic airplanes and help support EAA-VAA Chapter 3!
URL:https://av8maps.com/event/vaa-chapter-3-fall-fly-in/2027-10-02/
LOCATION:Woodward Field Airport\, 40 Hanger Ln\, Camden\, SC 29020
ATTACH;FMTTYPE=image/jpeg:https://av8maps.com/wp-content/uploads/2025/05/VAA-Chapter-3-e1747536527218.jpg
GEO:34.2504806;-80.6082874
X-APPLE-STRUCTURED-LOCATION;VALUE=URI;X-ADDRESS=Woodward Field Airport 40 Hanger Ln Camden SC 29020;X-APPLE-RADIUS=500;X-TITLE=40 Hanger Ln\, Camden\, SC 29020:geo:-80.6082874,34.2504806
END:VEVENT
BEGIN:VEVENT
DTSTART;TZID=America/New_York:20281007T080000
DTEND;TZID=America/New_York:20281007T110000
DTSTAMP:20260423T021935
CREATED:20250507T234640Z
LAST-MODIFIED:20251031T183637Z
UID:10001650-1854518400-1854529200@av8maps.com
SUMMARY:VAA Chapter 3 Fall Fly-In (KCDN)
DESCRIPTION:KCDN 40 Hangar Ln\, Camden\, SC\nEarly birds are welcome to camp at the airport as early as Thursday. Stay with us the whole weekend! The main event will be Saturday the 4th. We are planning a fly out Friday for lunch and food will be available Saturday too! All are welcome. Come experience the best of South Carolina fall flying\, Antique and Classic airplanes and help support EAA-VAA Chapter 3!
URL:https://av8maps.com/event/vaa-chapter-3-fall-fly-in/2028-10-07/
LOCATION:Woodward Field Airport\, 40 Hanger Ln\, Camden\, SC 29020
ATTACH;FMTTYPE=image/jpeg:https://av8maps.com/wp-content/uploads/2025/05/VAA-Chapter-3-e1747536527218.jpg
GEO:34.2504806;-80.6082874
X-APPLE-STRUCTURED-LOCATION;VALUE=URI;X-ADDRESS=Woodward Field Airport 40 Hanger Ln Camden SC 29020;X-APPLE-RADIUS=500;X-TITLE=40 Hanger Ln\, Camden\, SC 29020:geo:-80.6082874,34.2504806
END:VEVENT
BEGIN:VEVENT
DTSTART;TZID=America/New_York:20291006T080000
DTEND;TZID=America/New_York:20291006T110000
DTSTAMP:20260423T021935
CREATED:20250507T234640Z
LAST-MODIFIED:20251031T183637Z
UID:10001651-1885968000-1885978800@av8maps.com
SUMMARY:VAA Chapter 3 Fall Fly-In (KCDN)
DESCRIPTION:KCDN 40 Hangar Ln\, Camden\, SC\nEarly birds are welcome to camp at the airport as early as Thursday. Stay with us the whole weekend! The main event will be Saturday the 4th. We are planning a fly out Friday for lunch and food will be available Saturday too! All are welcome. Come experience the best of South Carolina fall flying\, Antique and Classic airplanes and help support EAA-VAA Chapter 3!
URL:https://av8maps.com/event/vaa-chapter-3-fall-fly-in/2029-10-06/
LOCATION:Woodward Field Airport\, 40 Hanger Ln\, Camden\, SC 29020
ATTACH;FMTTYPE=image/jpeg:https://av8maps.com/wp-content/uploads/2025/05/VAA-Chapter-3-e1747536527218.jpg
GEO:34.2504806;-80.6082874
X-APPLE-STRUCTURED-LOCATION;VALUE=URI;X-ADDRESS=Woodward Field Airport 40 Hanger Ln Camden SC 29020;X-APPLE-RADIUS=500;X-TITLE=40 Hanger Ln\, Camden\, SC 29020:geo:-80.6082874,34.2504806
END:VEVENT
BEGIN:VEVENT
DTSTART;TZID=America/New_York:20301005T080000
DTEND;TZID=America/New_York:20301005T110000
DTSTAMP:20260423T021935
CREATED:20250507T234640Z
LAST-MODIFIED:20251031T183637Z
UID:10001652-1917417600-1917428400@av8maps.com
SUMMARY:VAA Chapter 3 Fall Fly-In (KCDN)
DESCRIPTION:KCDN 40 Hangar Ln\, Camden\, SC\nEarly birds are welcome to camp at the airport as early as Thursday. Stay with us the whole weekend! The main event will be Saturday the 4th. We are planning a fly out Friday for lunch and food will be available Saturday too! All are welcome. Come experience the best of South Carolina fall flying\, Antique and Classic airplanes and help support EAA-VAA Chapter 3!
URL:https://av8maps.com/event/vaa-chapter-3-fall-fly-in/2030-10-05/
LOCATION:Woodward Field Airport\, 40 Hanger Ln\, Camden\, SC 29020
ATTACH;FMTTYPE=image/jpeg:https://av8maps.com/wp-content/uploads/2025/05/VAA-Chapter-3-e1747536527218.jpg
GEO:34.2504806;-80.6082874
X-APPLE-STRUCTURED-LOCATION;VALUE=URI;X-ADDRESS=Woodward Field Airport 40 Hanger Ln Camden SC 29020;X-APPLE-RADIUS=500;X-TITLE=40 Hanger Ln\, Camden\, SC 29020:geo:-80.6082874,34.2504806
END:VEVENT
END:VCALENDAR