BEGIN:VCALENDAR
VERSION:2.0
PRODID:-//AV8MAPS.COM - ECPv6.15.20//NONSGML v1.0//EN
CALSCALE:GREGORIAN
METHOD:PUBLISH
X-WR-CALNAME:AV8MAPS.COM
X-ORIGINAL-URL:https://av8maps.com
X-WR-CALDESC:Events for AV8MAPS.COM
REFRESH-INTERVAL;VALUE=DURATION:PT1H
X-Robots-Tag:noindex
X-PUBLISHED-TTL:PT1H
BEGIN:VTIMEZONE
TZID:America/New_York
BEGIN:DAYLIGHT
TZOFFSETFROM:-0500
TZOFFSETTO:-0400
TZNAME:EDT
DTSTART:20250309T070000
END:DAYLIGHT
BEGIN:STANDARD
TZOFFSETFROM:-0400
TZOFFSETTO:-0500
TZNAME:EST
DTSTART:20251102T060000
END:STANDARD
BEGIN:DAYLIGHT
TZOFFSETFROM:-0500
TZOFFSETTO:-0400
TZNAME:EDT
DTSTART:20260308T070000
END:DAYLIGHT
BEGIN:STANDARD
TZOFFSETFROM:-0400
TZOFFSETTO:-0500
TZNAME:EST
DTSTART:20261101T060000
END:STANDARD
BEGIN:DAYLIGHT
TZOFFSETFROM:-0500
TZOFFSETTO:-0400
TZNAME:EDT
DTSTART:20270314T070000
END:DAYLIGHT
BEGIN:STANDARD
TZOFFSETFROM:-0400
TZOFFSETTO:-0500
TZNAME:EST
DTSTART:20271107T060000
END:STANDARD
BEGIN:DAYLIGHT
TZOFFSETFROM:-0500
TZOFFSETTO:-0400
TZNAME:EDT
DTSTART:20280312T070000
END:DAYLIGHT
BEGIN:STANDARD
TZOFFSETFROM:-0400
TZOFFSETTO:-0500
TZNAME:EST
DTSTART:20281105T060000
END:STANDARD
BEGIN:DAYLIGHT
TZOFFSETFROM:-0500
TZOFFSETTO:-0400
TZNAME:EDT
DTSTART:20290311T070000
END:DAYLIGHT
BEGIN:STANDARD
TZOFFSETFROM:-0400
TZOFFSETTO:-0500
TZNAME:EST
DTSTART:20291104T060000
END:STANDARD
BEGIN:DAYLIGHT
TZOFFSETFROM:-0500
TZOFFSETTO:-0400
TZNAME:EDT
DTSTART:20300310T070000
END:DAYLIGHT
BEGIN:STANDARD
TZOFFSETFROM:-0400
TZOFFSETTO:-0500
TZNAME:EST
DTSTART:20301103T060000
END:STANDARD
BEGIN:DAYLIGHT
TZOFFSETFROM:-0500
TZOFFSETTO:-0400
TZNAME:EDT
DTSTART:20310309T070000
END:DAYLIGHT
BEGIN:STANDARD
TZOFFSETFROM:-0400
TZOFFSETTO:-0500
TZNAME:EST
DTSTART:20311102T060000
END:STANDARD
END:VTIMEZONE
BEGIN:VEVENT
DTSTART;TZID=America/New_York:20261024T080000
DTEND;TZID=America/New_York:20261024T120000
DTSTAMP:20260423T063821
CREATED:20250508T025459Z
LAST-MODIFIED:20251031T183724Z
UID:10001653-1792828800-1792843200@av8maps.com
SUMMARY:Tyler County "Fall" Fly - In and Food Truck Festival (09R)
DESCRIPTION:Join us for a delightful day at the 2025 Fly-In & Food Truck Festival\, where the skies meet savory flavors! Set against the backdrop of the Tyler County Airport-09R\, this unique event is perfect for aviation enthusiasts and food lovers alike. On Saturday\, October 25th\, from 8:00 am to 5:00 pm\, experience an array of food trucks offering delicious culinary options\, while watching stunning aircraft fly in and out. Bring your friends and family for a day filled with fun\, food\, and fantastic flying! With only $5 Parking and FREE Admission\, don’t miss this chance to indulge in great food and exhilarating aviation.
URL:https://av8maps.com/event/tyler-county-fall-fly-in-and-food-truck-festival/2026-10-24/
LOCATION:Tyler County Airport\, 100 W Bluff St # A003\, Woodville\, TX\, 75979
ATTACH;FMTTYPE=image/jpeg:https://av8maps.com/wp-content/uploads/2025/05/Tyler-County-Airport-e1747537211274.jpg
GEO:30.7749771;-94.415691
X-APPLE-STRUCTURED-LOCATION;VALUE=URI;X-ADDRESS=Tyler County Airport 100 W Bluff St # A003 Woodville TX 75979;X-APPLE-RADIUS=500;X-TITLE=100 W Bluff St # A003:geo:-94.415691,30.7749771
END:VEVENT
BEGIN:VEVENT
DTSTART;TZID=America/New_York:20271023T080000
DTEND;TZID=America/New_York:20271023T120000
DTSTAMP:20260423T063821
CREATED:20250508T025459Z
LAST-MODIFIED:20251031T183724Z
UID:10001654-1824278400-1824292800@av8maps.com
SUMMARY:Tyler County "Fall" Fly - In and Food Truck Festival (09R)
DESCRIPTION:Join us for a delightful day at the 2025 Fly-In & Food Truck Festival\, where the skies meet savory flavors! Set against the backdrop of the Tyler County Airport-09R\, this unique event is perfect for aviation enthusiasts and food lovers alike. On Saturday\, October 25th\, from 8:00 am to 5:00 pm\, experience an array of food trucks offering delicious culinary options\, while watching stunning aircraft fly in and out. Bring your friends and family for a day filled with fun\, food\, and fantastic flying! With only $5 Parking and FREE Admission\, don’t miss this chance to indulge in great food and exhilarating aviation.
URL:https://av8maps.com/event/tyler-county-fall-fly-in-and-food-truck-festival/2027-10-23/
LOCATION:Tyler County Airport\, 100 W Bluff St # A003\, Woodville\, TX\, 75979
ATTACH;FMTTYPE=image/jpeg:https://av8maps.com/wp-content/uploads/2025/05/Tyler-County-Airport-e1747537211274.jpg
GEO:30.7749771;-94.415691
X-APPLE-STRUCTURED-LOCATION;VALUE=URI;X-ADDRESS=Tyler County Airport 100 W Bluff St # A003 Woodville TX 75979;X-APPLE-RADIUS=500;X-TITLE=100 W Bluff St # A003:geo:-94.415691,30.7749771
END:VEVENT
BEGIN:VEVENT
DTSTART;TZID=America/New_York:20281028T080000
DTEND;TZID=America/New_York:20281028T120000
DTSTAMP:20260423T063821
CREATED:20250508T025459Z
LAST-MODIFIED:20251031T183724Z
UID:10001655-1856332800-1856347200@av8maps.com
SUMMARY:Tyler County "Fall" Fly - In and Food Truck Festival (09R)
DESCRIPTION:Join us for a delightful day at the 2025 Fly-In & Food Truck Festival\, where the skies meet savory flavors! Set against the backdrop of the Tyler County Airport-09R\, this unique event is perfect for aviation enthusiasts and food lovers alike. On Saturday\, October 25th\, from 8:00 am to 5:00 pm\, experience an array of food trucks offering delicious culinary options\, while watching stunning aircraft fly in and out. Bring your friends and family for a day filled with fun\, food\, and fantastic flying! With only $5 Parking and FREE Admission\, don’t miss this chance to indulge in great food and exhilarating aviation.
URL:https://av8maps.com/event/tyler-county-fall-fly-in-and-food-truck-festival/2028-10-28/
LOCATION:Tyler County Airport\, 100 W Bluff St # A003\, Woodville\, TX\, 75979
ATTACH;FMTTYPE=image/jpeg:https://av8maps.com/wp-content/uploads/2025/05/Tyler-County-Airport-e1747537211274.jpg
GEO:30.7749771;-94.415691
X-APPLE-STRUCTURED-LOCATION;VALUE=URI;X-ADDRESS=Tyler County Airport 100 W Bluff St # A003 Woodville TX 75979;X-APPLE-RADIUS=500;X-TITLE=100 W Bluff St # A003:geo:-94.415691,30.7749771
END:VEVENT
BEGIN:VEVENT
DTSTART;TZID=America/New_York:20291027T080000
DTEND;TZID=America/New_York:20291027T120000
DTSTAMP:20260423T063821
CREATED:20250508T025459Z
LAST-MODIFIED:20251031T183724Z
UID:10001656-1887782400-1887796800@av8maps.com
SUMMARY:Tyler County "Fall" Fly - In and Food Truck Festival (09R)
DESCRIPTION:Join us for a delightful day at the 2025 Fly-In & Food Truck Festival\, where the skies meet savory flavors! Set against the backdrop of the Tyler County Airport-09R\, this unique event is perfect for aviation enthusiasts and food lovers alike. On Saturday\, October 25th\, from 8:00 am to 5:00 pm\, experience an array of food trucks offering delicious culinary options\, while watching stunning aircraft fly in and out. Bring your friends and family for a day filled with fun\, food\, and fantastic flying! With only $5 Parking and FREE Admission\, don’t miss this chance to indulge in great food and exhilarating aviation.
URL:https://av8maps.com/event/tyler-county-fall-fly-in-and-food-truck-festival/2029-10-27/
LOCATION:Tyler County Airport\, 100 W Bluff St # A003\, Woodville\, TX\, 75979
ATTACH;FMTTYPE=image/jpeg:https://av8maps.com/wp-content/uploads/2025/05/Tyler-County-Airport-e1747537211274.jpg
GEO:30.7749771;-94.415691
X-APPLE-STRUCTURED-LOCATION;VALUE=URI;X-ADDRESS=Tyler County Airport 100 W Bluff St # A003 Woodville TX 75979;X-APPLE-RADIUS=500;X-TITLE=100 W Bluff St # A003:geo:-94.415691,30.7749771
END:VEVENT
BEGIN:VEVENT
DTSTART;TZID=America/New_York:20301026T080000
DTEND;TZID=America/New_York:20301026T120000
DTSTAMP:20260423T063821
CREATED:20250508T025459Z
LAST-MODIFIED:20251031T183724Z
UID:10001657-1919232000-1919246400@av8maps.com
SUMMARY:Tyler County "Fall" Fly - In and Food Truck Festival (09R)
DESCRIPTION:Join us for a delightful day at the 2025 Fly-In & Food Truck Festival\, where the skies meet savory flavors! Set against the backdrop of the Tyler County Airport-09R\, this unique event is perfect for aviation enthusiasts and food lovers alike. On Saturday\, October 25th\, from 8:00 am to 5:00 pm\, experience an array of food trucks offering delicious culinary options\, while watching stunning aircraft fly in and out. Bring your friends and family for a day filled with fun\, food\, and fantastic flying! With only $5 Parking and FREE Admission\, don’t miss this chance to indulge in great food and exhilarating aviation.
URL:https://av8maps.com/event/tyler-county-fall-fly-in-and-food-truck-festival/2030-10-26/
LOCATION:Tyler County Airport\, 100 W Bluff St # A003\, Woodville\, TX\, 75979
ATTACH;FMTTYPE=image/jpeg:https://av8maps.com/wp-content/uploads/2025/05/Tyler-County-Airport-e1747537211274.jpg
GEO:30.7749771;-94.415691
X-APPLE-STRUCTURED-LOCATION;VALUE=URI;X-ADDRESS=Tyler County Airport 100 W Bluff St # A003 Woodville TX 75979;X-APPLE-RADIUS=500;X-TITLE=100 W Bluff St # A003:geo:-94.415691,30.7749771
END:VEVENT
END:VCALENDAR