BEGIN:VCALENDAR
VERSION:2.0
PRODID:-//AV8MAPS.COM - ECPv6.15.20//NONSGML v1.0//EN
CALSCALE:GREGORIAN
METHOD:PUBLISH
X-WR-CALNAME:AV8MAPS.COM
X-ORIGINAL-URL:https://av8maps.com
X-WR-CALDESC:Events for AV8MAPS.COM
REFRESH-INTERVAL;VALUE=DURATION:PT1H
X-Robots-Tag:noindex
X-PUBLISHED-TTL:PT1H
BEGIN:VTIMEZONE
TZID:America/New_York
BEGIN:DAYLIGHT
TZOFFSETFROM:-0500
TZOFFSETTO:-0400
TZNAME:EDT
DTSTART:20250309T070000
END:DAYLIGHT
BEGIN:STANDARD
TZOFFSETFROM:-0400
TZOFFSETTO:-0500
TZNAME:EST
DTSTART:20251102T060000
END:STANDARD
BEGIN:DAYLIGHT
TZOFFSETFROM:-0500
TZOFFSETTO:-0400
TZNAME:EDT
DTSTART:20260308T070000
END:DAYLIGHT
BEGIN:STANDARD
TZOFFSETFROM:-0400
TZOFFSETTO:-0500
TZNAME:EST
DTSTART:20261101T060000
END:STANDARD
BEGIN:DAYLIGHT
TZOFFSETFROM:-0500
TZOFFSETTO:-0400
TZNAME:EDT
DTSTART:20270314T070000
END:DAYLIGHT
BEGIN:STANDARD
TZOFFSETFROM:-0400
TZOFFSETTO:-0500
TZNAME:EST
DTSTART:20271107T060000
END:STANDARD
BEGIN:DAYLIGHT
TZOFFSETFROM:-0500
TZOFFSETTO:-0400
TZNAME:EDT
DTSTART:20280312T070000
END:DAYLIGHT
BEGIN:STANDARD
TZOFFSETFROM:-0400
TZOFFSETTO:-0500
TZNAME:EST
DTSTART:20281105T060000
END:STANDARD
BEGIN:DAYLIGHT
TZOFFSETFROM:-0500
TZOFFSETTO:-0400
TZNAME:EDT
DTSTART:20290311T070000
END:DAYLIGHT
BEGIN:STANDARD
TZOFFSETFROM:-0400
TZOFFSETTO:-0500
TZNAME:EST
DTSTART:20291104T060000
END:STANDARD
BEGIN:DAYLIGHT
TZOFFSETFROM:-0500
TZOFFSETTO:-0400
TZNAME:EDT
DTSTART:20300310T070000
END:DAYLIGHT
BEGIN:STANDARD
TZOFFSETFROM:-0400
TZOFFSETTO:-0500
TZNAME:EST
DTSTART:20301103T060000
END:STANDARD
BEGIN:DAYLIGHT
TZOFFSETFROM:-0500
TZOFFSETTO:-0400
TZNAME:EDT
DTSTART:20310309T070000
END:DAYLIGHT
BEGIN:STANDARD
TZOFFSETFROM:-0400
TZOFFSETTO:-0500
TZNAME:EST
DTSTART:20311102T060000
END:STANDARD
END:VTIMEZONE
BEGIN:VEVENT
DTSTART;TZID=America/New_York:20260613T090000
DTEND;TZID=America/New_York:20260613T150000
DTSTAMP:20260423T164801
CREATED:20250520T234349Z
LAST-MODIFIED:20251031T184356Z
UID:10001669-1781341200-1781362800@av8maps.com
SUMMARY:Central Mississippi Light Flyers Annual Fly-in (MS08)
DESCRIPTION: Come visit.\nThis is a fun event with great food! Come out and see our gliders and clubhouse/hangar. Orientation rides in our three place glider available. 265 lb. weight limit.\n\nCMLF Spring Fly-in
URL:https://av8maps.com/event/central-mississippi-light-flyers-annual-fly-in-ms08/2026-06-13/
LOCATION:Harrell Field\, 439 Old Hwy 43\, Brandon\, MS 39047
ATTACH;FMTTYPE=image/jpeg:https://av8maps.com/wp-content/uploads/2025/05/Central-Mississippi-Light-Flyers-e1747784451486.jpg
GEO:32.473041;-89.852121
X-APPLE-STRUCTURED-LOCATION;VALUE=URI;X-ADDRESS=Harrell Field 439 Old Hwy 43 Brandon MS 39047;X-APPLE-RADIUS=500;X-TITLE=439 Old Hwy 43\, Brandon\, MS 39047:geo:-89.852121,32.473041
END:VEVENT
BEGIN:VEVENT
DTSTART;TZID=America/New_York:20270612T090000
DTEND;TZID=America/New_York:20270612T150000
DTSTAMP:20260423T164801
CREATED:20250520T234349Z
LAST-MODIFIED:20251031T184356Z
UID:10001670-1812790800-1812812400@av8maps.com
SUMMARY:Central Mississippi Light Flyers Annual Fly-in (MS08)
DESCRIPTION: Come visit.\nThis is a fun event with great food! Come out and see our gliders and clubhouse/hangar. Orientation rides in our three place glider available. 265 lb. weight limit.\n\nCMLF Spring Fly-in
URL:https://av8maps.com/event/central-mississippi-light-flyers-annual-fly-in-ms08/2027-06-12/
LOCATION:Harrell Field\, 439 Old Hwy 43\, Brandon\, MS 39047
ATTACH;FMTTYPE=image/jpeg:https://av8maps.com/wp-content/uploads/2025/05/Central-Mississippi-Light-Flyers-e1747784451486.jpg
GEO:32.473041;-89.852121
X-APPLE-STRUCTURED-LOCATION;VALUE=URI;X-ADDRESS=Harrell Field 439 Old Hwy 43 Brandon MS 39047;X-APPLE-RADIUS=500;X-TITLE=439 Old Hwy 43\, Brandon\, MS 39047:geo:-89.852121,32.473041
END:VEVENT
BEGIN:VEVENT
DTSTART;TZID=America/New_York:20280610T090000
DTEND;TZID=America/New_York:20280610T150000
DTSTAMP:20260423T164801
CREATED:20250520T234349Z
LAST-MODIFIED:20251031T184356Z
UID:10001671-1844240400-1844262000@av8maps.com
SUMMARY:Central Mississippi Light Flyers Annual Fly-in (MS08)
DESCRIPTION: Come visit.\nThis is a fun event with great food! Come out and see our gliders and clubhouse/hangar. Orientation rides in our three place glider available. 265 lb. weight limit.\n\nCMLF Spring Fly-in
URL:https://av8maps.com/event/central-mississippi-light-flyers-annual-fly-in-ms08/2028-06-10/
LOCATION:Harrell Field\, 439 Old Hwy 43\, Brandon\, MS 39047
ATTACH;FMTTYPE=image/jpeg:https://av8maps.com/wp-content/uploads/2025/05/Central-Mississippi-Light-Flyers-e1747784451486.jpg
GEO:32.473041;-89.852121
X-APPLE-STRUCTURED-LOCATION;VALUE=URI;X-ADDRESS=Harrell Field 439 Old Hwy 43 Brandon MS 39047;X-APPLE-RADIUS=500;X-TITLE=439 Old Hwy 43\, Brandon\, MS 39047:geo:-89.852121,32.473041
END:VEVENT
BEGIN:VEVENT
DTSTART;TZID=America/New_York:20290609T090000
DTEND;TZID=America/New_York:20290609T150000
DTSTAMP:20260423T164801
CREATED:20250520T234349Z
LAST-MODIFIED:20251031T184356Z
UID:10001672-1875690000-1875711600@av8maps.com
SUMMARY:Central Mississippi Light Flyers Annual Fly-in (MS08)
DESCRIPTION: Come visit.\nThis is a fun event with great food! Come out and see our gliders and clubhouse/hangar. Orientation rides in our three place glider available. 265 lb. weight limit.\n\nCMLF Spring Fly-in
URL:https://av8maps.com/event/central-mississippi-light-flyers-annual-fly-in-ms08/2029-06-09/
LOCATION:Harrell Field\, 439 Old Hwy 43\, Brandon\, MS 39047
ATTACH;FMTTYPE=image/jpeg:https://av8maps.com/wp-content/uploads/2025/05/Central-Mississippi-Light-Flyers-e1747784451486.jpg
GEO:32.473041;-89.852121
X-APPLE-STRUCTURED-LOCATION;VALUE=URI;X-ADDRESS=Harrell Field 439 Old Hwy 43 Brandon MS 39047;X-APPLE-RADIUS=500;X-TITLE=439 Old Hwy 43\, Brandon\, MS 39047:geo:-89.852121,32.473041
END:VEVENT
BEGIN:VEVENT
DTSTART;TZID=America/New_York:20300608T090000
DTEND;TZID=America/New_York:20300608T150000
DTSTAMP:20260423T164801
CREATED:20250520T234349Z
LAST-MODIFIED:20251031T184356Z
UID:10001673-1907139600-1907161200@av8maps.com
SUMMARY:Central Mississippi Light Flyers Annual Fly-in (MS08)
DESCRIPTION: Come visit.\nThis is a fun event with great food! Come out and see our gliders and clubhouse/hangar. Orientation rides in our three place glider available. 265 lb. weight limit.\n\nCMLF Spring Fly-in
URL:https://av8maps.com/event/central-mississippi-light-flyers-annual-fly-in-ms08/2030-06-08/
LOCATION:Harrell Field\, 439 Old Hwy 43\, Brandon\, MS 39047
ATTACH;FMTTYPE=image/jpeg:https://av8maps.com/wp-content/uploads/2025/05/Central-Mississippi-Light-Flyers-e1747784451486.jpg
GEO:32.473041;-89.852121
X-APPLE-STRUCTURED-LOCATION;VALUE=URI;X-ADDRESS=Harrell Field 439 Old Hwy 43 Brandon MS 39047;X-APPLE-RADIUS=500;X-TITLE=439 Old Hwy 43\, Brandon\, MS 39047:geo:-89.852121,32.473041
END:VEVENT
END:VCALENDAR