BEGIN:VCALENDAR
VERSION:2.0
PRODID:-//AV8MAPS.COM - ECPv6.15.20//NONSGML v1.0//EN
CALSCALE:GREGORIAN
METHOD:PUBLISH
X-WR-CALNAME:AV8MAPS.COM
X-ORIGINAL-URL:https://av8maps.com
X-WR-CALDESC:Events for AV8MAPS.COM
REFRESH-INTERVAL;VALUE=DURATION:PT1H
X-Robots-Tag:noindex
X-PUBLISHED-TTL:PT1H
BEGIN:VTIMEZONE
TZID:America/New_York
BEGIN:DAYLIGHT
TZOFFSETFROM:-0500
TZOFFSETTO:-0400
TZNAME:EDT
DTSTART:20250309T070000
END:DAYLIGHT
BEGIN:STANDARD
TZOFFSETFROM:-0400
TZOFFSETTO:-0500
TZNAME:EST
DTSTART:20251102T060000
END:STANDARD
BEGIN:DAYLIGHT
TZOFFSETFROM:-0500
TZOFFSETTO:-0400
TZNAME:EDT
DTSTART:20260308T070000
END:DAYLIGHT
BEGIN:STANDARD
TZOFFSETFROM:-0400
TZOFFSETTO:-0500
TZNAME:EST
DTSTART:20261101T060000
END:STANDARD
BEGIN:DAYLIGHT
TZOFFSETFROM:-0500
TZOFFSETTO:-0400
TZNAME:EDT
DTSTART:20270314T070000
END:DAYLIGHT
BEGIN:STANDARD
TZOFFSETFROM:-0400
TZOFFSETTO:-0500
TZNAME:EST
DTSTART:20271107T060000
END:STANDARD
BEGIN:DAYLIGHT
TZOFFSETFROM:-0500
TZOFFSETTO:-0400
TZNAME:EDT
DTSTART:20280312T070000
END:DAYLIGHT
BEGIN:STANDARD
TZOFFSETFROM:-0400
TZOFFSETTO:-0500
TZNAME:EST
DTSTART:20281105T060000
END:STANDARD
END:VTIMEZONE
BEGIN:VEVENT
DTSTART;TZID=America/New_York:20260530T073000
DTEND;TZID=America/New_York:20260530T110000
DTSTAMP:20260422T220812
CREATED:20250521T190206Z
LAST-MODIFIED:20251031T184843Z
UID:10001674-1780126200-1780138800@av8maps.com
SUMMARY:Annual Fly-in Pancake Breakfast (5E9)
DESCRIPTION:Join us at Ohio 5E9 for a Pancake breakfast sponsored by Packer & Associates.\nFly in to one of the nicest grass strips in Ohio. Check out some of the aircraft that call this field home and most important grab some pancakes.
URL:https://av8maps.com/event/fly-in-pancake-breakfast-2/2026-05-30/
LOCATION:Packer Airport\, 5266 Mooney Rd\, Radnor\, OH 43066\, OH
ATTACH;FMTTYPE=image/jpeg:https://av8maps.com/wp-content/uploads/2025/05/Packer-Airport-e1747874204224.jpg
GEO:40.4076738;-83.2168027
X-APPLE-STRUCTURED-LOCATION;VALUE=URI;X-ADDRESS=Packer Airport 5266 Mooney Rd Radnor OH 43066 OH;X-APPLE-RADIUS=500;X-TITLE=5266 Mooney Rd\, Radnor\, OH 43066:geo:-83.2168027,40.4076738
END:VEVENT
BEGIN:VEVENT
DTSTART;TZID=America/New_York:20270529T073000
DTEND;TZID=America/New_York:20270529T110000
DTSTAMP:20260422T220812
CREATED:20250521T190206Z
LAST-MODIFIED:20251031T184843Z
UID:10001675-1811575800-1811588400@av8maps.com
SUMMARY:Annual Fly-in Pancake Breakfast (5E9)
DESCRIPTION:Join us at Ohio 5E9 for a Pancake breakfast sponsored by Packer & Associates.\nFly in to one of the nicest grass strips in Ohio. Check out some of the aircraft that call this field home and most important grab some pancakes.
URL:https://av8maps.com/event/fly-in-pancake-breakfast-2/2027-05-29/
LOCATION:Packer Airport\, 5266 Mooney Rd\, Radnor\, OH 43066\, OH
ATTACH;FMTTYPE=image/jpeg:https://av8maps.com/wp-content/uploads/2025/05/Packer-Airport-e1747874204224.jpg
GEO:40.4076738;-83.2168027
X-APPLE-STRUCTURED-LOCATION;VALUE=URI;X-ADDRESS=Packer Airport 5266 Mooney Rd Radnor OH 43066 OH;X-APPLE-RADIUS=500;X-TITLE=5266 Mooney Rd\, Radnor\, OH 43066:geo:-83.2168027,40.4076738
END:VEVENT
END:VCALENDAR