BEGIN:VCALENDAR
VERSION:2.0
PRODID:-//AV8MAPS.COM - ECPv6.15.20//NONSGML v1.0//EN
CALSCALE:GREGORIAN
METHOD:PUBLISH
X-WR-CALNAME:AV8MAPS.COM
X-ORIGINAL-URL:https://av8maps.com
X-WR-CALDESC:Events for AV8MAPS.COM
REFRESH-INTERVAL;VALUE=DURATION:PT1H
X-Robots-Tag:noindex
X-PUBLISHED-TTL:PT1H
BEGIN:VTIMEZONE
TZID:America/New_York
BEGIN:DAYLIGHT
TZOFFSETFROM:-0500
TZOFFSETTO:-0400
TZNAME:EDT
DTSTART:20250309T070000
END:DAYLIGHT
BEGIN:STANDARD
TZOFFSETFROM:-0400
TZOFFSETTO:-0500
TZNAME:EST
DTSTART:20251102T060000
END:STANDARD
BEGIN:DAYLIGHT
TZOFFSETFROM:-0500
TZOFFSETTO:-0400
TZNAME:EDT
DTSTART:20260308T070000
END:DAYLIGHT
BEGIN:STANDARD
TZOFFSETFROM:-0400
TZOFFSETTO:-0500
TZNAME:EST
DTSTART:20261101T060000
END:STANDARD
BEGIN:DAYLIGHT
TZOFFSETFROM:-0500
TZOFFSETTO:-0400
TZNAME:EDT
DTSTART:20270314T070000
END:DAYLIGHT
BEGIN:STANDARD
TZOFFSETFROM:-0400
TZOFFSETTO:-0500
TZNAME:EST
DTSTART:20271107T060000
END:STANDARD
BEGIN:DAYLIGHT
TZOFFSETFROM:-0500
TZOFFSETTO:-0400
TZNAME:EDT
DTSTART:20280312T070000
END:DAYLIGHT
BEGIN:STANDARD
TZOFFSETFROM:-0400
TZOFFSETTO:-0500
TZNAME:EST
DTSTART:20281105T060000
END:STANDARD
BEGIN:DAYLIGHT
TZOFFSETFROM:-0500
TZOFFSETTO:-0400
TZNAME:EDT
DTSTART:20290311T070000
END:DAYLIGHT
BEGIN:STANDARD
TZOFFSETFROM:-0400
TZOFFSETTO:-0500
TZNAME:EST
DTSTART:20291104T060000
END:STANDARD
BEGIN:DAYLIGHT
TZOFFSETFROM:-0500
TZOFFSETTO:-0400
TZNAME:EDT
DTSTART:20300310T070000
END:DAYLIGHT
BEGIN:STANDARD
TZOFFSETFROM:-0400
TZOFFSETTO:-0500
TZNAME:EST
DTSTART:20301103T060000
END:STANDARD
BEGIN:DAYLIGHT
TZOFFSETFROM:-0500
TZOFFSETTO:-0400
TZNAME:EDT
DTSTART:20310309T070000
END:DAYLIGHT
BEGIN:STANDARD
TZOFFSETFROM:-0400
TZOFFSETTO:-0500
TZNAME:EST
DTSTART:20311102T060000
END:STANDARD
END:VTIMEZONE
BEGIN:VEVENT
DTSTART;TZID=America/New_York:20260609T000000
DTEND;TZID=America/New_York:20260614T235959
DTSTAMP:20260422T222722
CREATED:20260226T224005Z
LAST-MODIFIED:20260226T225748Z
UID:10001676-1780963200-1781481599@av8maps.com
SUMMARY:The Annual Sentimental Journey Fly-in (KLHV)
DESCRIPTION:Calling all pilots!! \nJOIN US! For the Annual Sentimental Journey to Cub Haven!\n\n\nLock Haven isn’t just a dot on the map—it’s where Piper was born but general aviation lives. Every June\, pilots\, families\, and aviation enthusiasts gather in Lock Haven\, PA\, to celebrate the airplanes\, people\, and moments that shaped general aviation.\n\n\nFrom classic Cubs to modern taildraggers\, this isn’t “just another fly-in”—it’s a return to where it all began. Grass runways. Camping under the wings. Stories shared across generations.\n\n\nWhether you fly in\, drive in\, or just love aviation—you belong here.\n\nwww.sjflyin.com
URL:https://av8maps.com/event/the-39th-annual-sentimental-journey-fly-in-klhv-2/2026-06-09/
LOCATION:William T Piper Memorial Airport\, 353 Proctor St\, Lock haven\, PA\, 17745
ATTACH;FMTTYPE=image/png:https://av8maps.com/wp-content/uploads/2026/02/Sentimental-Journey-KLHV.png
GEO:41.1359742;-77.4228625
X-APPLE-STRUCTURED-LOCATION;VALUE=URI;X-ADDRESS=William T Piper Memorial Airport 353 Proctor St Lock haven PA 17745;X-APPLE-RADIUS=500;X-TITLE=353 Proctor St:geo:-77.4228625,41.1359742
END:VEVENT
BEGIN:VEVENT
DTSTART;TZID=America/New_York:20270608T000000
DTEND;TZID=America/New_York:20270613T235959
DTSTAMP:20260422T222722
CREATED:20260226T224005Z
LAST-MODIFIED:20260226T225748Z
UID:10006309-1812412800-1812931199@av8maps.com
SUMMARY:The Annual Sentimental Journey Fly-in (KLHV)
DESCRIPTION:Calling all pilots!! \nJOIN US! For the Annual Sentimental Journey to Cub Haven!\n\n\nLock Haven isn’t just a dot on the map—it’s where Piper was born but general aviation lives. Every June\, pilots\, families\, and aviation enthusiasts gather in Lock Haven\, PA\, to celebrate the airplanes\, people\, and moments that shaped general aviation.\n\n\nFrom classic Cubs to modern taildraggers\, this isn’t “just another fly-in”—it’s a return to where it all began. Grass runways. Camping under the wings. Stories shared across generations.\n\n\nWhether you fly in\, drive in\, or just love aviation—you belong here.\n\nwww.sjflyin.com
URL:https://av8maps.com/event/the-39th-annual-sentimental-journey-fly-in-klhv-2/2027-06-08/
LOCATION:William T Piper Memorial Airport\, 353 Proctor St\, Lock haven\, PA\, 17745
ATTACH;FMTTYPE=image/png:https://av8maps.com/wp-content/uploads/2026/02/Sentimental-Journey-KLHV.png
GEO:41.1359742;-77.4228625
X-APPLE-STRUCTURED-LOCATION;VALUE=URI;X-ADDRESS=William T Piper Memorial Airport 353 Proctor St Lock haven PA 17745;X-APPLE-RADIUS=500;X-TITLE=353 Proctor St:geo:-77.4228625,41.1359742
END:VEVENT
BEGIN:VEVENT
DTSTART;TZID=America/New_York:20280613T000000
DTEND;TZID=America/New_York:20280618T235959
DTSTAMP:20260422T222722
CREATED:20260226T224005Z
LAST-MODIFIED:20260226T225748Z
UID:10006310-1844467200-1844985599@av8maps.com
SUMMARY:The Annual Sentimental Journey Fly-in (KLHV)
DESCRIPTION:Calling all pilots!! \nJOIN US! For the Annual Sentimental Journey to Cub Haven!\n\n\nLock Haven isn’t just a dot on the map—it’s where Piper was born but general aviation lives. Every June\, pilots\, families\, and aviation enthusiasts gather in Lock Haven\, PA\, to celebrate the airplanes\, people\, and moments that shaped general aviation.\n\n\nFrom classic Cubs to modern taildraggers\, this isn’t “just another fly-in”—it’s a return to where it all began. Grass runways. Camping under the wings. Stories shared across generations.\n\n\nWhether you fly in\, drive in\, or just love aviation—you belong here.\n\nwww.sjflyin.com
URL:https://av8maps.com/event/the-39th-annual-sentimental-journey-fly-in-klhv-2/2028-06-13/
LOCATION:William T Piper Memorial Airport\, 353 Proctor St\, Lock haven\, PA\, 17745
ATTACH;FMTTYPE=image/png:https://av8maps.com/wp-content/uploads/2026/02/Sentimental-Journey-KLHV.png
GEO:41.1359742;-77.4228625
X-APPLE-STRUCTURED-LOCATION;VALUE=URI;X-ADDRESS=William T Piper Memorial Airport 353 Proctor St Lock haven PA 17745;X-APPLE-RADIUS=500;X-TITLE=353 Proctor St:geo:-77.4228625,41.1359742
END:VEVENT
BEGIN:VEVENT
DTSTART;TZID=America/New_York:20290612T000000
DTEND;TZID=America/New_York:20290617T235959
DTSTAMP:20260422T222722
CREATED:20260226T224005Z
LAST-MODIFIED:20260226T225748Z
UID:10006311-1875916800-1876435199@av8maps.com
SUMMARY:The Annual Sentimental Journey Fly-in (KLHV)
DESCRIPTION:Calling all pilots!! \nJOIN US! For the Annual Sentimental Journey to Cub Haven!\n\n\nLock Haven isn’t just a dot on the map—it’s where Piper was born but general aviation lives. Every June\, pilots\, families\, and aviation enthusiasts gather in Lock Haven\, PA\, to celebrate the airplanes\, people\, and moments that shaped general aviation.\n\n\nFrom classic Cubs to modern taildraggers\, this isn’t “just another fly-in”—it’s a return to where it all began. Grass runways. Camping under the wings. Stories shared across generations.\n\n\nWhether you fly in\, drive in\, or just love aviation—you belong here.\n\nwww.sjflyin.com
URL:https://av8maps.com/event/the-39th-annual-sentimental-journey-fly-in-klhv-2/2029-06-12/
LOCATION:William T Piper Memorial Airport\, 353 Proctor St\, Lock haven\, PA\, 17745
ATTACH;FMTTYPE=image/png:https://av8maps.com/wp-content/uploads/2026/02/Sentimental-Journey-KLHV.png
GEO:41.1359742;-77.4228625
X-APPLE-STRUCTURED-LOCATION;VALUE=URI;X-ADDRESS=William T Piper Memorial Airport 353 Proctor St Lock haven PA 17745;X-APPLE-RADIUS=500;X-TITLE=353 Proctor St:geo:-77.4228625,41.1359742
END:VEVENT
BEGIN:VEVENT
DTSTART;TZID=America/New_York:20300611T000000
DTEND;TZID=America/New_York:20300616T235959
DTSTAMP:20260422T222722
CREATED:20260226T224005Z
LAST-MODIFIED:20260226T225748Z
UID:10006312-1907366400-1907884799@av8maps.com
SUMMARY:The Annual Sentimental Journey Fly-in (KLHV)
DESCRIPTION:Calling all pilots!! \nJOIN US! For the Annual Sentimental Journey to Cub Haven!\n\n\nLock Haven isn’t just a dot on the map—it’s where Piper was born but general aviation lives. Every June\, pilots\, families\, and aviation enthusiasts gather in Lock Haven\, PA\, to celebrate the airplanes\, people\, and moments that shaped general aviation.\n\n\nFrom classic Cubs to modern taildraggers\, this isn’t “just another fly-in”—it’s a return to where it all began. Grass runways. Camping under the wings. Stories shared across generations.\n\n\nWhether you fly in\, drive in\, or just love aviation—you belong here.\n\nwww.sjflyin.com
URL:https://av8maps.com/event/the-39th-annual-sentimental-journey-fly-in-klhv-2/2030-06-11/
LOCATION:William T Piper Memorial Airport\, 353 Proctor St\, Lock haven\, PA\, 17745
ATTACH;FMTTYPE=image/png:https://av8maps.com/wp-content/uploads/2026/02/Sentimental-Journey-KLHV.png
GEO:41.1359742;-77.4228625
X-APPLE-STRUCTURED-LOCATION;VALUE=URI;X-ADDRESS=William T Piper Memorial Airport 353 Proctor St Lock haven PA 17745;X-APPLE-RADIUS=500;X-TITLE=353 Proctor St:geo:-77.4228625,41.1359742
END:VEVENT
END:VCALENDAR