BEGIN:VCALENDAR
VERSION:2.0
PRODID:-//AV8MAPS.COM - ECPv6.15.20//NONSGML v1.0//EN
CALSCALE:GREGORIAN
METHOD:PUBLISH
X-WR-CALNAME:AV8MAPS.COM
X-ORIGINAL-URL:https://av8maps.com
X-WR-CALDESC:Events for AV8MAPS.COM
REFRESH-INTERVAL;VALUE=DURATION:PT1H
X-Robots-Tag:noindex
X-PUBLISHED-TTL:PT1H
BEGIN:VTIMEZONE
TZID:America/New_York
BEGIN:DAYLIGHT
TZOFFSETFROM:-0500
TZOFFSETTO:-0400
TZNAME:EDT
DTSTART:20250309T070000
END:DAYLIGHT
BEGIN:STANDARD
TZOFFSETFROM:-0400
TZOFFSETTO:-0500
TZNAME:EST
DTSTART:20251102T060000
END:STANDARD
BEGIN:DAYLIGHT
TZOFFSETFROM:-0500
TZOFFSETTO:-0400
TZNAME:EDT
DTSTART:20260308T070000
END:DAYLIGHT
BEGIN:STANDARD
TZOFFSETFROM:-0400
TZOFFSETTO:-0500
TZNAME:EST
DTSTART:20261101T060000
END:STANDARD
BEGIN:DAYLIGHT
TZOFFSETFROM:-0500
TZOFFSETTO:-0400
TZNAME:EDT
DTSTART:20270314T070000
END:DAYLIGHT
BEGIN:STANDARD
TZOFFSETFROM:-0400
TZOFFSETTO:-0500
TZNAME:EST
DTSTART:20271107T060000
END:STANDARD
END:VTIMEZONE
BEGIN:VEVENT
DTSTART;TZID=America/New_York:20260425T110000
DTEND;TZID=America/New_York:20260425T130000
DTSTAMP:20260422T195640
CREATED:20250523T223152Z
LAST-MODIFIED:20251031T194228Z
UID:10001687-1777114800-1777122000@av8maps.com
SUMMARY:4th Friday Lunch on the Fly (KPPO)
DESCRIPTION:Join us for Lunch on the Fly!\nFly in or Drive in.\n$5/person\nWe’ll have hot dogs\, hamburgers\, usually chicken\, plus several sides and dessert! Come hang out with fellow aviation enthusiasts\, rain or shine.
URL:https://av8maps.com/event/lunch-on-the-fly-6/2026-04-25/
LOCATION:La Porte Municipal Airport\, 2341 IN-39\, La Porte\, IN 46350\, IN
ATTACH;FMTTYPE=image/jpeg:https://av8maps.com/wp-content/uploads/2025/05/Lunch-on-the-Fly-e1748042301219.jpg
GEO:41.57259;-86.734657
X-APPLE-STRUCTURED-LOCATION;VALUE=URI;X-ADDRESS=La Porte Municipal Airport 2341 IN-39 La Porte IN 46350 IN;X-APPLE-RADIUS=500;X-TITLE=2341 IN-39\, La Porte\, IN 46350:geo:-86.734657,41.57259
END:VEVENT
BEGIN:VEVENT
DTSTART;TZID=America/New_York:20260523T110000
DTEND;TZID=America/New_York:20260523T130000
DTSTAMP:20260422T195640
CREATED:20250523T223152Z
LAST-MODIFIED:20251031T194228Z
UID:10001688-1779534000-1779541200@av8maps.com
SUMMARY:4th Friday Lunch on the Fly (KPPO)
DESCRIPTION:Join us for Lunch on the Fly!\nFly in or Drive in.\n$5/person\nWe’ll have hot dogs\, hamburgers\, usually chicken\, plus several sides and dessert! Come hang out with fellow aviation enthusiasts\, rain or shine.
URL:https://av8maps.com/event/lunch-on-the-fly-6/2026-05-23/
LOCATION:La Porte Municipal Airport\, 2341 IN-39\, La Porte\, IN 46350\, IN
ATTACH;FMTTYPE=image/jpeg:https://av8maps.com/wp-content/uploads/2025/05/Lunch-on-the-Fly-e1748042301219.jpg
GEO:41.57259;-86.734657
X-APPLE-STRUCTURED-LOCATION;VALUE=URI;X-ADDRESS=La Porte Municipal Airport 2341 IN-39 La Porte IN 46350 IN;X-APPLE-RADIUS=500;X-TITLE=2341 IN-39\, La Porte\, IN 46350:geo:-86.734657,41.57259
END:VEVENT
BEGIN:VEVENT
DTSTART;TZID=America/New_York:20260627T110000
DTEND;TZID=America/New_York:20260627T130000
DTSTAMP:20260422T195640
CREATED:20250523T223152Z
LAST-MODIFIED:20251031T194228Z
UID:10001689-1782558000-1782565200@av8maps.com
SUMMARY:4th Friday Lunch on the Fly (KPPO)
DESCRIPTION:Join us for Lunch on the Fly!\nFly in or Drive in.\n$5/person\nWe’ll have hot dogs\, hamburgers\, usually chicken\, plus several sides and dessert! Come hang out with fellow aviation enthusiasts\, rain or shine.
URL:https://av8maps.com/event/lunch-on-the-fly-6/2026-06-27/
LOCATION:La Porte Municipal Airport\, 2341 IN-39\, La Porte\, IN 46350\, IN
ATTACH;FMTTYPE=image/jpeg:https://av8maps.com/wp-content/uploads/2025/05/Lunch-on-the-Fly-e1748042301219.jpg
GEO:41.57259;-86.734657
X-APPLE-STRUCTURED-LOCATION;VALUE=URI;X-ADDRESS=La Porte Municipal Airport 2341 IN-39 La Porte IN 46350 IN;X-APPLE-RADIUS=500;X-TITLE=2341 IN-39\, La Porte\, IN 46350:geo:-86.734657,41.57259
END:VEVENT
BEGIN:VEVENT
DTSTART;TZID=America/New_York:20260725T110000
DTEND;TZID=America/New_York:20260725T130000
DTSTAMP:20260422T195640
CREATED:20250523T223152Z
LAST-MODIFIED:20251031T194228Z
UID:10001690-1784977200-1784984400@av8maps.com
SUMMARY:4th Friday Lunch on the Fly (KPPO)
DESCRIPTION:Join us for Lunch on the Fly!\nFly in or Drive in.\n$5/person\nWe’ll have hot dogs\, hamburgers\, usually chicken\, plus several sides and dessert! Come hang out with fellow aviation enthusiasts\, rain or shine.
URL:https://av8maps.com/event/lunch-on-the-fly-6/2026-07-25/
LOCATION:La Porte Municipal Airport\, 2341 IN-39\, La Porte\, IN 46350\, IN
ATTACH;FMTTYPE=image/jpeg:https://av8maps.com/wp-content/uploads/2025/05/Lunch-on-the-Fly-e1748042301219.jpg
GEO:41.57259;-86.734657
X-APPLE-STRUCTURED-LOCATION;VALUE=URI;X-ADDRESS=La Porte Municipal Airport 2341 IN-39 La Porte IN 46350 IN;X-APPLE-RADIUS=500;X-TITLE=2341 IN-39\, La Porte\, IN 46350:geo:-86.734657,41.57259
END:VEVENT
BEGIN:VEVENT
DTSTART;TZID=America/New_York:20260822T110000
DTEND;TZID=America/New_York:20260822T130000
DTSTAMP:20260422T195640
CREATED:20250523T223152Z
LAST-MODIFIED:20251031T194228Z
UID:10001691-1787396400-1787403600@av8maps.com
SUMMARY:4th Friday Lunch on the Fly (KPPO)
DESCRIPTION:Join us for Lunch on the Fly!\nFly in or Drive in.\n$5/person\nWe’ll have hot dogs\, hamburgers\, usually chicken\, plus several sides and dessert! Come hang out with fellow aviation enthusiasts\, rain or shine.
URL:https://av8maps.com/event/lunch-on-the-fly-6/2026-08-22/
LOCATION:La Porte Municipal Airport\, 2341 IN-39\, La Porte\, IN 46350\, IN
ATTACH;FMTTYPE=image/jpeg:https://av8maps.com/wp-content/uploads/2025/05/Lunch-on-the-Fly-e1748042301219.jpg
GEO:41.57259;-86.734657
X-APPLE-STRUCTURED-LOCATION;VALUE=URI;X-ADDRESS=La Porte Municipal Airport 2341 IN-39 La Porte IN 46350 IN;X-APPLE-RADIUS=500;X-TITLE=2341 IN-39\, La Porte\, IN 46350:geo:-86.734657,41.57259
END:VEVENT
BEGIN:VEVENT
DTSTART;TZID=America/New_York:20260926T110000
DTEND;TZID=America/New_York:20260926T130000
DTSTAMP:20260422T195640
CREATED:20250523T223152Z
LAST-MODIFIED:20251031T194228Z
UID:10001692-1790420400-1790427600@av8maps.com
SUMMARY:4th Friday Lunch on the Fly (KPPO)
DESCRIPTION:Join us for Lunch on the Fly!\nFly in or Drive in.\n$5/person\nWe’ll have hot dogs\, hamburgers\, usually chicken\, plus several sides and dessert! Come hang out with fellow aviation enthusiasts\, rain or shine.
URL:https://av8maps.com/event/lunch-on-the-fly-6/2026-09-26/
LOCATION:La Porte Municipal Airport\, 2341 IN-39\, La Porte\, IN 46350\, IN
ATTACH;FMTTYPE=image/jpeg:https://av8maps.com/wp-content/uploads/2025/05/Lunch-on-the-Fly-e1748042301219.jpg
GEO:41.57259;-86.734657
X-APPLE-STRUCTURED-LOCATION;VALUE=URI;X-ADDRESS=La Porte Municipal Airport 2341 IN-39 La Porte IN 46350 IN;X-APPLE-RADIUS=500;X-TITLE=2341 IN-39\, La Porte\, IN 46350:geo:-86.734657,41.57259
END:VEVENT
BEGIN:VEVENT
DTSTART;TZID=America/New_York:20261024T110000
DTEND;TZID=America/New_York:20261024T130000
DTSTAMP:20260422T195640
CREATED:20250523T223152Z
LAST-MODIFIED:20251031T194228Z
UID:10001693-1792839600-1792846800@av8maps.com
SUMMARY:4th Friday Lunch on the Fly (KPPO)
DESCRIPTION:Join us for Lunch on the Fly!\nFly in or Drive in.\n$5/person\nWe’ll have hot dogs\, hamburgers\, usually chicken\, plus several sides and dessert! Come hang out with fellow aviation enthusiasts\, rain or shine.
URL:https://av8maps.com/event/lunch-on-the-fly-6/2026-10-24/
LOCATION:La Porte Municipal Airport\, 2341 IN-39\, La Porte\, IN 46350\, IN
ATTACH;FMTTYPE=image/jpeg:https://av8maps.com/wp-content/uploads/2025/05/Lunch-on-the-Fly-e1748042301219.jpg
GEO:41.57259;-86.734657
X-APPLE-STRUCTURED-LOCATION;VALUE=URI;X-ADDRESS=La Porte Municipal Airport 2341 IN-39 La Porte IN 46350 IN;X-APPLE-RADIUS=500;X-TITLE=2341 IN-39\, La Porte\, IN 46350:geo:-86.734657,41.57259
END:VEVENT
END:VCALENDAR