BEGIN:VCALENDAR
VERSION:2.0
PRODID:-//AV8MAPS.COM - ECPv6.15.20//NONSGML v1.0//EN
CALSCALE:GREGORIAN
METHOD:PUBLISH
X-WR-CALNAME:AV8MAPS.COM
X-ORIGINAL-URL:https://av8maps.com
X-WR-CALDESC:Events for AV8MAPS.COM
REFRESH-INTERVAL;VALUE=DURATION:PT1H
X-Robots-Tag:noindex
X-PUBLISHED-TTL:PT1H
BEGIN:VTIMEZONE
TZID:America/New_York
BEGIN:DAYLIGHT
TZOFFSETFROM:-0500
TZOFFSETTO:-0400
TZNAME:EDT
DTSTART:20250309T070000
END:DAYLIGHT
BEGIN:STANDARD
TZOFFSETFROM:-0400
TZOFFSETTO:-0500
TZNAME:EST
DTSTART:20251102T060000
END:STANDARD
BEGIN:DAYLIGHT
TZOFFSETFROM:-0500
TZOFFSETTO:-0400
TZNAME:EDT
DTSTART:20260308T070000
END:DAYLIGHT
BEGIN:STANDARD
TZOFFSETFROM:-0400
TZOFFSETTO:-0500
TZNAME:EST
DTSTART:20261101T060000
END:STANDARD
BEGIN:DAYLIGHT
TZOFFSETFROM:-0500
TZOFFSETTO:-0400
TZNAME:EDT
DTSTART:20270314T070000
END:DAYLIGHT
BEGIN:STANDARD
TZOFFSETFROM:-0400
TZOFFSETTO:-0500
TZNAME:EST
DTSTART:20271107T060000
END:STANDARD
BEGIN:DAYLIGHT
TZOFFSETFROM:-0500
TZOFFSETTO:-0400
TZNAME:EDT
DTSTART:20280312T070000
END:DAYLIGHT
BEGIN:STANDARD
TZOFFSETFROM:-0400
TZOFFSETTO:-0500
TZNAME:EST
DTSTART:20281105T060000
END:STANDARD
BEGIN:DAYLIGHT
TZOFFSETFROM:-0500
TZOFFSETTO:-0400
TZNAME:EDT
DTSTART:20290311T070000
END:DAYLIGHT
BEGIN:STANDARD
TZOFFSETFROM:-0400
TZOFFSETTO:-0500
TZNAME:EST
DTSTART:20291104T060000
END:STANDARD
BEGIN:DAYLIGHT
TZOFFSETFROM:-0500
TZOFFSETTO:-0400
TZNAME:EDT
DTSTART:20300310T070000
END:DAYLIGHT
BEGIN:STANDARD
TZOFFSETFROM:-0400
TZOFFSETTO:-0500
TZNAME:EST
DTSTART:20301103T060000
END:STANDARD
BEGIN:DAYLIGHT
TZOFFSETFROM:-0500
TZOFFSETTO:-0400
TZNAME:EDT
DTSTART:20310309T070000
END:DAYLIGHT
BEGIN:STANDARD
TZOFFSETFROM:-0400
TZOFFSETTO:-0500
TZNAME:EST
DTSTART:20311102T060000
END:STANDARD
END:VTIMEZONE
BEGIN:VEVENT
DTSTART;TZID=America/New_York:20260828T140000
DTEND;TZID=America/New_York:20260830T140000
DTSTAMP:20260423T035245
CREATED:20250525T183238Z
LAST-MODIFIED:20251031T190336Z
UID:10001706-1787925600-1788098400@av8maps.com
SUMMARY:Annual Camp and Rock Out and Aviation Celebration Weekend (KRNP)
DESCRIPTION:I wish you all knew the excitement we have to bring this year. Let’s say it has something big to do with airplanes!!!! But trust us\, if you are interested in Aviation you will not want to miss Saturday.
URL:https://av8maps.com/event/5th-annual-camp-and-rock-out-and-newly-added-aviation-celebration-weekend/2026-08-28/
LOCATION:Owosso Community Airport\, 205 Airport Dr\, Owosso\, MI 48867
ATTACH;FMTTYPE=image/jpeg:https://av8maps.com/wp-content/uploads/2025/05/Joe-Lees-Crosswind-Cafe-e1748201902123.jpg
GEO:42.9961753;-84.1421398
X-APPLE-STRUCTURED-LOCATION;VALUE=URI;X-ADDRESS=Owosso Community Airport 205 Airport Dr Owosso MI 48867;X-APPLE-RADIUS=500;X-TITLE=205 Airport Dr\, Owosso\, MI 48867:geo:-84.1421398,42.9961753
END:VEVENT
BEGIN:VEVENT
DTSTART;TZID=America/New_York:20270827T140000
DTEND;TZID=America/New_York:20270829T140000
DTSTAMP:20260423T035245
CREATED:20250525T183238Z
LAST-MODIFIED:20251031T190336Z
UID:10001707-1819375200-1819548000@av8maps.com
SUMMARY:Annual Camp and Rock Out and Aviation Celebration Weekend (KRNP)
DESCRIPTION:I wish you all knew the excitement we have to bring this year. Let’s say it has something big to do with airplanes!!!! But trust us\, if you are interested in Aviation you will not want to miss Saturday.
URL:https://av8maps.com/event/5th-annual-camp-and-rock-out-and-newly-added-aviation-celebration-weekend/2027-08-27/
LOCATION:Owosso Community Airport\, 205 Airport Dr\, Owosso\, MI 48867
ATTACH;FMTTYPE=image/jpeg:https://av8maps.com/wp-content/uploads/2025/05/Joe-Lees-Crosswind-Cafe-e1748201902123.jpg
GEO:42.9961753;-84.1421398
X-APPLE-STRUCTURED-LOCATION;VALUE=URI;X-ADDRESS=Owosso Community Airport 205 Airport Dr Owosso MI 48867;X-APPLE-RADIUS=500;X-TITLE=205 Airport Dr\, Owosso\, MI 48867:geo:-84.1421398,42.9961753
END:VEVENT
BEGIN:VEVENT
DTSTART;TZID=America/New_York:20280825T140000
DTEND;TZID=America/New_York:20280827T140000
DTSTAMP:20260423T035245
CREATED:20250525T183238Z
LAST-MODIFIED:20251031T190336Z
UID:10001708-1850824800-1850997600@av8maps.com
SUMMARY:Annual Camp and Rock Out and Aviation Celebration Weekend (KRNP)
DESCRIPTION:I wish you all knew the excitement we have to bring this year. Let’s say it has something big to do with airplanes!!!! But trust us\, if you are interested in Aviation you will not want to miss Saturday.
URL:https://av8maps.com/event/5th-annual-camp-and-rock-out-and-newly-added-aviation-celebration-weekend/2028-08-25/
LOCATION:Owosso Community Airport\, 205 Airport Dr\, Owosso\, MI 48867
ATTACH;FMTTYPE=image/jpeg:https://av8maps.com/wp-content/uploads/2025/05/Joe-Lees-Crosswind-Cafe-e1748201902123.jpg
GEO:42.9961753;-84.1421398
X-APPLE-STRUCTURED-LOCATION;VALUE=URI;X-ADDRESS=Owosso Community Airport 205 Airport Dr Owosso MI 48867;X-APPLE-RADIUS=500;X-TITLE=205 Airport Dr\, Owosso\, MI 48867:geo:-84.1421398,42.9961753
END:VEVENT
BEGIN:VEVENT
DTSTART;TZID=America/New_York:20290824T140000
DTEND;TZID=America/New_York:20290826T140000
DTSTAMP:20260423T035245
CREATED:20250525T183238Z
LAST-MODIFIED:20251031T190336Z
UID:10001709-1882274400-1882447200@av8maps.com
SUMMARY:Annual Camp and Rock Out and Aviation Celebration Weekend (KRNP)
DESCRIPTION:I wish you all knew the excitement we have to bring this year. Let’s say it has something big to do with airplanes!!!! But trust us\, if you are interested in Aviation you will not want to miss Saturday.
URL:https://av8maps.com/event/5th-annual-camp-and-rock-out-and-newly-added-aviation-celebration-weekend/2029-08-24/
LOCATION:Owosso Community Airport\, 205 Airport Dr\, Owosso\, MI 48867
ATTACH;FMTTYPE=image/jpeg:https://av8maps.com/wp-content/uploads/2025/05/Joe-Lees-Crosswind-Cafe-e1748201902123.jpg
GEO:42.9961753;-84.1421398
X-APPLE-STRUCTURED-LOCATION;VALUE=URI;X-ADDRESS=Owosso Community Airport 205 Airport Dr Owosso MI 48867;X-APPLE-RADIUS=500;X-TITLE=205 Airport Dr\, Owosso\, MI 48867:geo:-84.1421398,42.9961753
END:VEVENT
BEGIN:VEVENT
DTSTART;TZID=America/New_York:20300823T140000
DTEND;TZID=America/New_York:20300825T140000
DTSTAMP:20260423T035245
CREATED:20250525T183238Z
LAST-MODIFIED:20251031T190336Z
UID:10001710-1913724000-1913896800@av8maps.com
SUMMARY:Annual Camp and Rock Out and Aviation Celebration Weekend (KRNP)
DESCRIPTION:I wish you all knew the excitement we have to bring this year. Let’s say it has something big to do with airplanes!!!! But trust us\, if you are interested in Aviation you will not want to miss Saturday.
URL:https://av8maps.com/event/5th-annual-camp-and-rock-out-and-newly-added-aviation-celebration-weekend/2030-08-23/
LOCATION:Owosso Community Airport\, 205 Airport Dr\, Owosso\, MI 48867
ATTACH;FMTTYPE=image/jpeg:https://av8maps.com/wp-content/uploads/2025/05/Joe-Lees-Crosswind-Cafe-e1748201902123.jpg
GEO:42.9961753;-84.1421398
X-APPLE-STRUCTURED-LOCATION;VALUE=URI;X-ADDRESS=Owosso Community Airport 205 Airport Dr Owosso MI 48867;X-APPLE-RADIUS=500;X-TITLE=205 Airport Dr\, Owosso\, MI 48867:geo:-84.1421398,42.9961753
END:VEVENT
END:VCALENDAR