BEGIN:VCALENDAR
VERSION:2.0
PRODID:-//AV8MAPS.COM - ECPv6.15.20//NONSGML v1.0//EN
CALSCALE:GREGORIAN
METHOD:PUBLISH
X-WR-CALNAME:AV8MAPS.COM
X-ORIGINAL-URL:https://av8maps.com
X-WR-CALDESC:Events for AV8MAPS.COM
REFRESH-INTERVAL;VALUE=DURATION:PT1H
X-Robots-Tag:noindex
X-PUBLISHED-TTL:PT1H
BEGIN:VTIMEZONE
TZID:America/New_York
BEGIN:DAYLIGHT
TZOFFSETFROM:-0500
TZOFFSETTO:-0400
TZNAME:EDT
DTSTART:20250309T070000
END:DAYLIGHT
BEGIN:STANDARD
TZOFFSETFROM:-0400
TZOFFSETTO:-0500
TZNAME:EST
DTSTART:20251102T060000
END:STANDARD
BEGIN:DAYLIGHT
TZOFFSETFROM:-0500
TZOFFSETTO:-0400
TZNAME:EDT
DTSTART:20260308T070000
END:DAYLIGHT
BEGIN:STANDARD
TZOFFSETFROM:-0400
TZOFFSETTO:-0500
TZNAME:EST
DTSTART:20261101T060000
END:STANDARD
BEGIN:DAYLIGHT
TZOFFSETFROM:-0500
TZOFFSETTO:-0400
TZNAME:EDT
DTSTART:20270314T070000
END:DAYLIGHT
BEGIN:STANDARD
TZOFFSETFROM:-0400
TZOFFSETTO:-0500
TZNAME:EST
DTSTART:20271107T060000
END:STANDARD
BEGIN:DAYLIGHT
TZOFFSETFROM:-0500
TZOFFSETTO:-0400
TZNAME:EDT
DTSTART:20280312T070000
END:DAYLIGHT
BEGIN:STANDARD
TZOFFSETFROM:-0400
TZOFFSETTO:-0500
TZNAME:EST
DTSTART:20281105T060000
END:STANDARD
BEGIN:DAYLIGHT
TZOFFSETFROM:-0500
TZOFFSETTO:-0400
TZNAME:EDT
DTSTART:20290311T070000
END:DAYLIGHT
BEGIN:STANDARD
TZOFFSETFROM:-0400
TZOFFSETTO:-0500
TZNAME:EST
DTSTART:20291104T060000
END:STANDARD
BEGIN:DAYLIGHT
TZOFFSETFROM:-0500
TZOFFSETTO:-0400
TZNAME:EDT
DTSTART:20300310T070000
END:DAYLIGHT
BEGIN:STANDARD
TZOFFSETFROM:-0400
TZOFFSETTO:-0500
TZNAME:EST
DTSTART:20301103T060000
END:STANDARD
BEGIN:DAYLIGHT
TZOFFSETFROM:-0500
TZOFFSETTO:-0400
TZNAME:EDT
DTSTART:20310309T070000
END:DAYLIGHT
BEGIN:STANDARD
TZOFFSETFROM:-0400
TZOFFSETTO:-0500
TZNAME:EST
DTSTART:20311102T060000
END:STANDARD
END:VTIMEZONE
BEGIN:VEVENT
DTSTART;TZID=America/New_York:20261024T090000
DTEND;TZID=America/New_York:20261025T150000
DTSTAMP:20260423T164816
CREATED:20250527T232535Z
LAST-MODIFIED:20251031T190425Z
UID:10001711-1792832400-1792940400@av8maps.com
SUMMARY:Brownwood Fly in Fair (KBWD)
DESCRIPTION:A Fly In and Fair.Aircraft\, Antiques\, Crafts…etc
URL:https://av8maps.com/event/brownwood-fly-in-fair-kbwd/2026-10-24/
LOCATION:Brownwood Regional Airport\, 6240 Airport Rd\, Brownwood\, TX 76802
ATTACH;FMTTYPE=image/jpeg:https://av8maps.com/wp-content/uploads/2025/05/Brownwood-Fly-in-e1748388315373.jpg
GEO:31.7925238;-98.9518198
X-APPLE-STRUCTURED-LOCATION;VALUE=URI;X-ADDRESS=Brownwood Regional Airport 6240 Airport Rd Brownwood TX 76802;X-APPLE-RADIUS=500;X-TITLE=6240 Airport Rd\, Brownwood\, TX 76802:geo:-98.9518198,31.7925238
END:VEVENT
BEGIN:VEVENT
DTSTART;TZID=America/New_York:20271023T090000
DTEND;TZID=America/New_York:20271024T150000
DTSTAMP:20260423T164816
CREATED:20250527T232535Z
LAST-MODIFIED:20251031T190425Z
UID:10001712-1824282000-1824390000@av8maps.com
SUMMARY:Brownwood Fly in Fair (KBWD)
DESCRIPTION:A Fly In and Fair.Aircraft\, Antiques\, Crafts…etc
URL:https://av8maps.com/event/brownwood-fly-in-fair-kbwd/2027-10-23/
LOCATION:Brownwood Regional Airport\, 6240 Airport Rd\, Brownwood\, TX 76802
ATTACH;FMTTYPE=image/jpeg:https://av8maps.com/wp-content/uploads/2025/05/Brownwood-Fly-in-e1748388315373.jpg
GEO:31.7925238;-98.9518198
X-APPLE-STRUCTURED-LOCATION;VALUE=URI;X-ADDRESS=Brownwood Regional Airport 6240 Airport Rd Brownwood TX 76802;X-APPLE-RADIUS=500;X-TITLE=6240 Airport Rd\, Brownwood\, TX 76802:geo:-98.9518198,31.7925238
END:VEVENT
BEGIN:VEVENT
DTSTART;TZID=America/New_York:20281028T090000
DTEND;TZID=America/New_York:20281029T150000
DTSTAMP:20260423T164816
CREATED:20250527T232535Z
LAST-MODIFIED:20251031T190425Z
UID:10001713-1856336400-1856444400@av8maps.com
SUMMARY:Brownwood Fly in Fair (KBWD)
DESCRIPTION:A Fly In and Fair.Aircraft\, Antiques\, Crafts…etc
URL:https://av8maps.com/event/brownwood-fly-in-fair-kbwd/2028-10-28/
LOCATION:Brownwood Regional Airport\, 6240 Airport Rd\, Brownwood\, TX 76802
ATTACH;FMTTYPE=image/jpeg:https://av8maps.com/wp-content/uploads/2025/05/Brownwood-Fly-in-e1748388315373.jpg
GEO:31.7925238;-98.9518198
X-APPLE-STRUCTURED-LOCATION;VALUE=URI;X-ADDRESS=Brownwood Regional Airport 6240 Airport Rd Brownwood TX 76802;X-APPLE-RADIUS=500;X-TITLE=6240 Airport Rd\, Brownwood\, TX 76802:geo:-98.9518198,31.7925238
END:VEVENT
BEGIN:VEVENT
DTSTART;TZID=America/New_York:20291027T090000
DTEND;TZID=America/New_York:20291028T150000
DTSTAMP:20260423T164816
CREATED:20250527T232535Z
LAST-MODIFIED:20251031T190425Z
UID:10001714-1887786000-1887894000@av8maps.com
SUMMARY:Brownwood Fly in Fair (KBWD)
DESCRIPTION:A Fly In and Fair.Aircraft\, Antiques\, Crafts…etc
URL:https://av8maps.com/event/brownwood-fly-in-fair-kbwd/2029-10-27/
LOCATION:Brownwood Regional Airport\, 6240 Airport Rd\, Brownwood\, TX 76802
ATTACH;FMTTYPE=image/jpeg:https://av8maps.com/wp-content/uploads/2025/05/Brownwood-Fly-in-e1748388315373.jpg
GEO:31.7925238;-98.9518198
X-APPLE-STRUCTURED-LOCATION;VALUE=URI;X-ADDRESS=Brownwood Regional Airport 6240 Airport Rd Brownwood TX 76802;X-APPLE-RADIUS=500;X-TITLE=6240 Airport Rd\, Brownwood\, TX 76802:geo:-98.9518198,31.7925238
END:VEVENT
BEGIN:VEVENT
DTSTART;TZID=America/New_York:20301026T090000
DTEND;TZID=America/New_York:20301027T150000
DTSTAMP:20260423T164816
CREATED:20250527T232535Z
LAST-MODIFIED:20251031T190425Z
UID:10001715-1919235600-1919343600@av8maps.com
SUMMARY:Brownwood Fly in Fair (KBWD)
DESCRIPTION:A Fly In and Fair.Aircraft\, Antiques\, Crafts…etc
URL:https://av8maps.com/event/brownwood-fly-in-fair-kbwd/2030-10-26/
LOCATION:Brownwood Regional Airport\, 6240 Airport Rd\, Brownwood\, TX 76802
ATTACH;FMTTYPE=image/jpeg:https://av8maps.com/wp-content/uploads/2025/05/Brownwood-Fly-in-e1748388315373.jpg
GEO:31.7925238;-98.9518198
X-APPLE-STRUCTURED-LOCATION;VALUE=URI;X-ADDRESS=Brownwood Regional Airport 6240 Airport Rd Brownwood TX 76802;X-APPLE-RADIUS=500;X-TITLE=6240 Airport Rd\, Brownwood\, TX 76802:geo:-98.9518198,31.7925238
END:VEVENT
END:VCALENDAR