BEGIN:VCALENDAR
VERSION:2.0
PRODID:-//AV8MAPS.COM - ECPv6.15.20//NONSGML v1.0//EN
CALSCALE:GREGORIAN
METHOD:PUBLISH
X-WR-CALNAME:AV8MAPS.COM
X-ORIGINAL-URL:https://av8maps.com
X-WR-CALDESC:Events for AV8MAPS.COM
REFRESH-INTERVAL;VALUE=DURATION:PT1H
X-Robots-Tag:noindex
X-PUBLISHED-TTL:PT1H
BEGIN:VTIMEZONE
TZID:America/New_York
BEGIN:DAYLIGHT
TZOFFSETFROM:-0500
TZOFFSETTO:-0400
TZNAME:EDT
DTSTART:20250309T070000
END:DAYLIGHT
BEGIN:STANDARD
TZOFFSETFROM:-0400
TZOFFSETTO:-0500
TZNAME:EST
DTSTART:20251102T060000
END:STANDARD
BEGIN:DAYLIGHT
TZOFFSETFROM:-0500
TZOFFSETTO:-0400
TZNAME:EDT
DTSTART:20260308T070000
END:DAYLIGHT
BEGIN:STANDARD
TZOFFSETFROM:-0400
TZOFFSETTO:-0500
TZNAME:EST
DTSTART:20261101T060000
END:STANDARD
BEGIN:DAYLIGHT
TZOFFSETFROM:-0500
TZOFFSETTO:-0400
TZNAME:EDT
DTSTART:20270314T070000
END:DAYLIGHT
BEGIN:STANDARD
TZOFFSETFROM:-0400
TZOFFSETTO:-0500
TZNAME:EST
DTSTART:20271107T060000
END:STANDARD
BEGIN:DAYLIGHT
TZOFFSETFROM:-0500
TZOFFSETTO:-0400
TZNAME:EDT
DTSTART:20280312T070000
END:DAYLIGHT
BEGIN:STANDARD
TZOFFSETFROM:-0400
TZOFFSETTO:-0500
TZNAME:EST
DTSTART:20281105T060000
END:STANDARD
BEGIN:DAYLIGHT
TZOFFSETFROM:-0500
TZOFFSETTO:-0400
TZNAME:EDT
DTSTART:20290311T070000
END:DAYLIGHT
BEGIN:STANDARD
TZOFFSETFROM:-0400
TZOFFSETTO:-0500
TZNAME:EST
DTSTART:20291104T060000
END:STANDARD
BEGIN:DAYLIGHT
TZOFFSETFROM:-0500
TZOFFSETTO:-0400
TZNAME:EDT
DTSTART:20300310T070000
END:DAYLIGHT
BEGIN:STANDARD
TZOFFSETFROM:-0400
TZOFFSETTO:-0500
TZNAME:EST
DTSTART:20301103T060000
END:STANDARD
BEGIN:DAYLIGHT
TZOFFSETFROM:-0500
TZOFFSETTO:-0400
TZNAME:EDT
DTSTART:20310309T070000
END:DAYLIGHT
BEGIN:STANDARD
TZOFFSETFROM:-0400
TZOFFSETTO:-0500
TZNAME:EST
DTSTART:20311102T060000
END:STANDARD
END:VTIMEZONE
BEGIN:VEVENT
DTSTART;TZID=America/New_York:20260613T080000
DTEND;TZID=America/New_York:20260613T110000
DTSTAMP:20260423T021917
CREATED:20250528T194716Z
LAST-MODIFIED:20260220T185804Z
UID:10001721-1781337600-1781348400@av8maps.com
SUMMARY:Cheat River Spring Fly-In (56WV)
DESCRIPTION:Cheat River Fly-In \nJoin us for an unforgettable day of aviation\, adventure\, and great food in the heart of wild and wonderful West Virginia. Whether you’re flying in or driving in\, this is an event you don’t want to miss.\nScenic Location – Experience the beauty of Cheat River and its stunning surroundings.\nGreat Food – Enjoy delicious eats while watching aircraft come and go.\nAviation Fun – See a variety of airplanes\, meet fellow pilots\, and chat with aviation enthusiasts.\nWeekend Camping – Arrive Friday and stay for the weekend if you’d like.\nIf you’re driving in\, park on the mainland\, and a shuttle will ferry you across the river to the island.\nBring your friends\, family\, and love for aviation—we can’t wait to see you there.\nPilots: Airport is 56WV\, CTAF 122.9\nCome camp for a few days\, or just come for lunch on Saturday\, but come!\nContact Dave for any questions you may have\n717/648-5375
URL:https://av8maps.com/event/cheat-river-spring-fly-in/2026-06-13/
LOCATION:Cheat River Island Airport\, 149 Hamilton Ln\, Rowlsburg\, WV\, 26425
ATTACH;FMTTYPE=image/jpeg:https://av8maps.com/wp-content/uploads/2025/05/Cheat-River-e1748564163171.jpg
GEO:39.3201851;-79.6527314
X-APPLE-STRUCTURED-LOCATION;VALUE=URI;X-ADDRESS=Cheat River Island Airport 149 Hamilton Ln Rowlsburg WV 26425;X-APPLE-RADIUS=500;X-TITLE=149 Hamilton Ln:geo:-79.6527314,39.3201851
END:VEVENT
BEGIN:VEVENT
DTSTART;TZID=America/New_York:20261010T080000
DTEND;TZID=America/New_York:20261010T110000
DTSTAMP:20260423T021917
CREATED:20260220T152109Z
LAST-MODIFIED:20260220T152109Z
UID:10006217-1791619200-1791630000@av8maps.com
SUMMARY:Cheat River Spring Fly-In (56WV)
DESCRIPTION:Cheat River Fly-In \nJoin us for an unforgettable day of aviation\, adventure\, and great food in the heart of wild and wonderful West Virginia. Whether you’re flying in or driving in\, this is an event you don’t want to miss.\nScenic Location – Experience the beauty of Cheat River and its stunning surroundings.\nGreat Food – Enjoy delicious eats while watching aircraft come and go.\nAviation Fun – See a variety of airplanes\, meet fellow pilots\, and chat with aviation enthusiasts.\nWeekend Camping – Arrive Friday and stay for the weekend if you’d like.\nIf you’re driving in\, park on the mainland\, and a shuttle will ferry you across the river to the island.\nBring your friends\, family\, and love for aviation—we can’t wait to see you there.\nPilots: Airport is 56WV\, CTAF 122.9\nCome camp for a few days\, or just come for lunch on Saturday\, but come!\nContact Dave for any questions you may have\n717/648-5375
URL:https://av8maps.com/event/cheat-river-spring-fly-in-56wv/2026-10-10/
LOCATION:Cheat River Island Airport\, 149 Hamilton Ln\, Rowlsburg\, WV\, 26425
ATTACH;FMTTYPE=image/jpeg:https://av8maps.com/wp-content/uploads/2025/05/Cheat-River-e1748564163171.jpg
GEO:39.3201851;-79.6527314
X-APPLE-STRUCTURED-LOCATION;VALUE=URI;X-ADDRESS=Cheat River Island Airport 149 Hamilton Ln Rowlsburg WV 26425;X-APPLE-RADIUS=500;X-TITLE=149 Hamilton Ln:geo:-79.6527314,39.3201851
END:VEVENT
BEGIN:VEVENT
DTSTART;TZID=America/New_York:20270612T080000
DTEND;TZID=America/New_York:20270612T110000
DTSTAMP:20260423T021917
CREATED:20250528T194716Z
LAST-MODIFIED:20260220T185804Z
UID:10001722-1812787200-1812798000@av8maps.com
SUMMARY:Cheat River Spring Fly-In (56WV)
DESCRIPTION:Cheat River Fly-In \nJoin us for an unforgettable day of aviation\, adventure\, and great food in the heart of wild and wonderful West Virginia. Whether you’re flying in or driving in\, this is an event you don’t want to miss.\nScenic Location – Experience the beauty of Cheat River and its stunning surroundings.\nGreat Food – Enjoy delicious eats while watching aircraft come and go.\nAviation Fun – See a variety of airplanes\, meet fellow pilots\, and chat with aviation enthusiasts.\nWeekend Camping – Arrive Friday and stay for the weekend if you’d like.\nIf you’re driving in\, park on the mainland\, and a shuttle will ferry you across the river to the island.\nBring your friends\, family\, and love for aviation—we can’t wait to see you there.\nPilots: Airport is 56WV\, CTAF 122.9\nCome camp for a few days\, or just come for lunch on Saturday\, but come!\nContact Dave for any questions you may have\n717/648-5375
URL:https://av8maps.com/event/cheat-river-spring-fly-in/2027-06-12/
LOCATION:Cheat River Island Airport\, 149 Hamilton Ln\, Rowlsburg\, WV\, 26425
ATTACH;FMTTYPE=image/jpeg:https://av8maps.com/wp-content/uploads/2025/05/Cheat-River-e1748564163171.jpg
GEO:39.3201851;-79.6527314
X-APPLE-STRUCTURED-LOCATION;VALUE=URI;X-ADDRESS=Cheat River Island Airport 149 Hamilton Ln Rowlsburg WV 26425;X-APPLE-RADIUS=500;X-TITLE=149 Hamilton Ln:geo:-79.6527314,39.3201851
END:VEVENT
BEGIN:VEVENT
DTSTART;TZID=America/New_York:20271009T080000
DTEND;TZID=America/New_York:20271009T110000
DTSTAMP:20260423T021917
CREATED:20260220T152109Z
LAST-MODIFIED:20260220T152109Z
UID:10006222-1823068800-1823079600@av8maps.com
SUMMARY:Cheat River Spring Fly-In (56WV)
DESCRIPTION:Cheat River Fly-In \nJoin us for an unforgettable day of aviation\, adventure\, and great food in the heart of wild and wonderful West Virginia. Whether you’re flying in or driving in\, this is an event you don’t want to miss.\nScenic Location – Experience the beauty of Cheat River and its stunning surroundings.\nGreat Food – Enjoy delicious eats while watching aircraft come and go.\nAviation Fun – See a variety of airplanes\, meet fellow pilots\, and chat with aviation enthusiasts.\nWeekend Camping – Arrive Friday and stay for the weekend if you’d like.\nIf you’re driving in\, park on the mainland\, and a shuttle will ferry you across the river to the island.\nBring your friends\, family\, and love for aviation—we can’t wait to see you there.\nPilots: Airport is 56WV\, CTAF 122.9\nCome camp for a few days\, or just come for lunch on Saturday\, but come!\nContact Dave for any questions you may have\n717/648-5375
URL:https://av8maps.com/event/cheat-river-spring-fly-in-56wv/2027-10-09/
LOCATION:Cheat River Island Airport\, 149 Hamilton Ln\, Rowlsburg\, WV\, 26425
ATTACH;FMTTYPE=image/jpeg:https://av8maps.com/wp-content/uploads/2025/05/Cheat-River-e1748564163171.jpg
GEO:39.3201851;-79.6527314
X-APPLE-STRUCTURED-LOCATION;VALUE=URI;X-ADDRESS=Cheat River Island Airport 149 Hamilton Ln Rowlsburg WV 26425;X-APPLE-RADIUS=500;X-TITLE=149 Hamilton Ln:geo:-79.6527314,39.3201851
END:VEVENT
BEGIN:VEVENT
DTSTART;TZID=America/New_York:20280610T080000
DTEND;TZID=America/New_York:20280610T110000
DTSTAMP:20260423T021917
CREATED:20250528T194716Z
LAST-MODIFIED:20260220T185804Z
UID:10001723-1844236800-1844247600@av8maps.com
SUMMARY:Cheat River Spring Fly-In (56WV)
DESCRIPTION:Cheat River Fly-In \nJoin us for an unforgettable day of aviation\, adventure\, and great food in the heart of wild and wonderful West Virginia. Whether you’re flying in or driving in\, this is an event you don’t want to miss.\nScenic Location – Experience the beauty of Cheat River and its stunning surroundings.\nGreat Food – Enjoy delicious eats while watching aircraft come and go.\nAviation Fun – See a variety of airplanes\, meet fellow pilots\, and chat with aviation enthusiasts.\nWeekend Camping – Arrive Friday and stay for the weekend if you’d like.\nIf you’re driving in\, park on the mainland\, and a shuttle will ferry you across the river to the island.\nBring your friends\, family\, and love for aviation—we can’t wait to see you there.\nPilots: Airport is 56WV\, CTAF 122.9\nCome camp for a few days\, or just come for lunch on Saturday\, but come!\nContact Dave for any questions you may have\n717/648-5375
URL:https://av8maps.com/event/cheat-river-spring-fly-in/2028-06-10/
LOCATION:Cheat River Island Airport\, 149 Hamilton Ln\, Rowlsburg\, WV\, 26425
ATTACH;FMTTYPE=image/jpeg:https://av8maps.com/wp-content/uploads/2025/05/Cheat-River-e1748564163171.jpg
GEO:39.3201851;-79.6527314
X-APPLE-STRUCTURED-LOCATION;VALUE=URI;X-ADDRESS=Cheat River Island Airport 149 Hamilton Ln Rowlsburg WV 26425;X-APPLE-RADIUS=500;X-TITLE=149 Hamilton Ln:geo:-79.6527314,39.3201851
END:VEVENT
BEGIN:VEVENT
DTSTART;TZID=America/New_York:20281014T080000
DTEND;TZID=America/New_York:20281014T110000
DTSTAMP:20260423T021917
CREATED:20260220T152109Z
LAST-MODIFIED:20260220T152109Z
UID:10006223-1855123200-1855134000@av8maps.com
SUMMARY:Cheat River Spring Fly-In (56WV)
DESCRIPTION:Cheat River Fly-In \nJoin us for an unforgettable day of aviation\, adventure\, and great food in the heart of wild and wonderful West Virginia. Whether you’re flying in or driving in\, this is an event you don’t want to miss.\nScenic Location – Experience the beauty of Cheat River and its stunning surroundings.\nGreat Food – Enjoy delicious eats while watching aircraft come and go.\nAviation Fun – See a variety of airplanes\, meet fellow pilots\, and chat with aviation enthusiasts.\nWeekend Camping – Arrive Friday and stay for the weekend if you’d like.\nIf you’re driving in\, park on the mainland\, and a shuttle will ferry you across the river to the island.\nBring your friends\, family\, and love for aviation—we can’t wait to see you there.\nPilots: Airport is 56WV\, CTAF 122.9\nCome camp for a few days\, or just come for lunch on Saturday\, but come!\nContact Dave for any questions you may have\n717/648-5375
URL:https://av8maps.com/event/cheat-river-spring-fly-in-56wv/2028-10-14/
LOCATION:Cheat River Island Airport\, 149 Hamilton Ln\, Rowlsburg\, WV\, 26425
ATTACH;FMTTYPE=image/jpeg:https://av8maps.com/wp-content/uploads/2025/05/Cheat-River-e1748564163171.jpg
GEO:39.3201851;-79.6527314
X-APPLE-STRUCTURED-LOCATION;VALUE=URI;X-ADDRESS=Cheat River Island Airport 149 Hamilton Ln Rowlsburg WV 26425;X-APPLE-RADIUS=500;X-TITLE=149 Hamilton Ln:geo:-79.6527314,39.3201851
END:VEVENT
BEGIN:VEVENT
DTSTART;TZID=America/New_York:20290609T080000
DTEND;TZID=America/New_York:20290609T110000
DTSTAMP:20260423T021917
CREATED:20250528T194716Z
LAST-MODIFIED:20260220T185804Z
UID:10001724-1875686400-1875697200@av8maps.com
SUMMARY:Cheat River Spring Fly-In (56WV)
DESCRIPTION:Cheat River Fly-In \nJoin us for an unforgettable day of aviation\, adventure\, and great food in the heart of wild and wonderful West Virginia. Whether you’re flying in or driving in\, this is an event you don’t want to miss.\nScenic Location – Experience the beauty of Cheat River and its stunning surroundings.\nGreat Food – Enjoy delicious eats while watching aircraft come and go.\nAviation Fun – See a variety of airplanes\, meet fellow pilots\, and chat with aviation enthusiasts.\nWeekend Camping – Arrive Friday and stay for the weekend if you’d like.\nIf you’re driving in\, park on the mainland\, and a shuttle will ferry you across the river to the island.\nBring your friends\, family\, and love for aviation—we can’t wait to see you there.\nPilots: Airport is 56WV\, CTAF 122.9\nCome camp for a few days\, or just come for lunch on Saturday\, but come!\nContact Dave for any questions you may have\n717/648-5375
URL:https://av8maps.com/event/cheat-river-spring-fly-in/2029-06-09/
LOCATION:Cheat River Island Airport\, 149 Hamilton Ln\, Rowlsburg\, WV\, 26425
ATTACH;FMTTYPE=image/jpeg:https://av8maps.com/wp-content/uploads/2025/05/Cheat-River-e1748564163171.jpg
GEO:39.3201851;-79.6527314
X-APPLE-STRUCTURED-LOCATION;VALUE=URI;X-ADDRESS=Cheat River Island Airport 149 Hamilton Ln Rowlsburg WV 26425;X-APPLE-RADIUS=500;X-TITLE=149 Hamilton Ln:geo:-79.6527314,39.3201851
END:VEVENT
BEGIN:VEVENT
DTSTART;TZID=America/New_York:20291013T080000
DTEND;TZID=America/New_York:20291013T110000
DTSTAMP:20260423T021917
CREATED:20260220T152109Z
LAST-MODIFIED:20260220T152109Z
UID:10006224-1886572800-1886583600@av8maps.com
SUMMARY:Cheat River Spring Fly-In (56WV)
DESCRIPTION:Cheat River Fly-In \nJoin us for an unforgettable day of aviation\, adventure\, and great food in the heart of wild and wonderful West Virginia. Whether you’re flying in or driving in\, this is an event you don’t want to miss.\nScenic Location – Experience the beauty of Cheat River and its stunning surroundings.\nGreat Food – Enjoy delicious eats while watching aircraft come and go.\nAviation Fun – See a variety of airplanes\, meet fellow pilots\, and chat with aviation enthusiasts.\nWeekend Camping – Arrive Friday and stay for the weekend if you’d like.\nIf you’re driving in\, park on the mainland\, and a shuttle will ferry you across the river to the island.\nBring your friends\, family\, and love for aviation—we can’t wait to see you there.\nPilots: Airport is 56WV\, CTAF 122.9\nCome camp for a few days\, or just come for lunch on Saturday\, but come!\nContact Dave for any questions you may have\n717/648-5375
URL:https://av8maps.com/event/cheat-river-spring-fly-in-56wv/2029-10-13/
LOCATION:Cheat River Island Airport\, 149 Hamilton Ln\, Rowlsburg\, WV\, 26425
ATTACH;FMTTYPE=image/jpeg:https://av8maps.com/wp-content/uploads/2025/05/Cheat-River-e1748564163171.jpg
GEO:39.3201851;-79.6527314
X-APPLE-STRUCTURED-LOCATION;VALUE=URI;X-ADDRESS=Cheat River Island Airport 149 Hamilton Ln Rowlsburg WV 26425;X-APPLE-RADIUS=500;X-TITLE=149 Hamilton Ln:geo:-79.6527314,39.3201851
END:VEVENT
BEGIN:VEVENT
DTSTART;TZID=America/New_York:20300608T080000
DTEND;TZID=America/New_York:20300608T110000
DTSTAMP:20260423T021917
CREATED:20250528T194716Z
LAST-MODIFIED:20260220T185804Z
UID:10001725-1907136000-1907146800@av8maps.com
SUMMARY:Cheat River Spring Fly-In (56WV)
DESCRIPTION:Cheat River Fly-In \nJoin us for an unforgettable day of aviation\, adventure\, and great food in the heart of wild and wonderful West Virginia. Whether you’re flying in or driving in\, this is an event you don’t want to miss.\nScenic Location – Experience the beauty of Cheat River and its stunning surroundings.\nGreat Food – Enjoy delicious eats while watching aircraft come and go.\nAviation Fun – See a variety of airplanes\, meet fellow pilots\, and chat with aviation enthusiasts.\nWeekend Camping – Arrive Friday and stay for the weekend if you’d like.\nIf you’re driving in\, park on the mainland\, and a shuttle will ferry you across the river to the island.\nBring your friends\, family\, and love for aviation—we can’t wait to see you there.\nPilots: Airport is 56WV\, CTAF 122.9\nCome camp for a few days\, or just come for lunch on Saturday\, but come!\nContact Dave for any questions you may have\n717/648-5375
URL:https://av8maps.com/event/cheat-river-spring-fly-in/2030-06-08/
LOCATION:Cheat River Island Airport\, 149 Hamilton Ln\, Rowlsburg\, WV\, 26425
ATTACH;FMTTYPE=image/jpeg:https://av8maps.com/wp-content/uploads/2025/05/Cheat-River-e1748564163171.jpg
GEO:39.3201851;-79.6527314
X-APPLE-STRUCTURED-LOCATION;VALUE=URI;X-ADDRESS=Cheat River Island Airport 149 Hamilton Ln Rowlsburg WV 26425;X-APPLE-RADIUS=500;X-TITLE=149 Hamilton Ln:geo:-79.6527314,39.3201851
END:VEVENT
BEGIN:VEVENT
DTSTART;TZID=America/New_York:20301012T080000
DTEND;TZID=America/New_York:20301012T110000
DTSTAMP:20260423T021917
CREATED:20260220T152109Z
LAST-MODIFIED:20260220T152109Z
UID:10006225-1918022400-1918033200@av8maps.com
SUMMARY:Cheat River Spring Fly-In (56WV)
DESCRIPTION:Cheat River Fly-In \nJoin us for an unforgettable day of aviation\, adventure\, and great food in the heart of wild and wonderful West Virginia. Whether you’re flying in or driving in\, this is an event you don’t want to miss.\nScenic Location – Experience the beauty of Cheat River and its stunning surroundings.\nGreat Food – Enjoy delicious eats while watching aircraft come and go.\nAviation Fun – See a variety of airplanes\, meet fellow pilots\, and chat with aviation enthusiasts.\nWeekend Camping – Arrive Friday and stay for the weekend if you’d like.\nIf you’re driving in\, park on the mainland\, and a shuttle will ferry you across the river to the island.\nBring your friends\, family\, and love for aviation—we can’t wait to see you there.\nPilots: Airport is 56WV\, CTAF 122.9\nCome camp for a few days\, or just come for lunch on Saturday\, but come!\nContact Dave for any questions you may have\n717/648-5375
URL:https://av8maps.com/event/cheat-river-spring-fly-in-56wv/2030-10-12/
LOCATION:Cheat River Island Airport\, 149 Hamilton Ln\, Rowlsburg\, WV\, 26425
ATTACH;FMTTYPE=image/jpeg:https://av8maps.com/wp-content/uploads/2025/05/Cheat-River-e1748564163171.jpg
GEO:39.3201851;-79.6527314
X-APPLE-STRUCTURED-LOCATION;VALUE=URI;X-ADDRESS=Cheat River Island Airport 149 Hamilton Ln Rowlsburg WV 26425;X-APPLE-RADIUS=500;X-TITLE=149 Hamilton Ln:geo:-79.6527314,39.3201851
END:VEVENT
END:VCALENDAR