BEGIN:VCALENDAR
VERSION:2.0
PRODID:-//AV8MAPS.COM - ECPv6.15.20//NONSGML v1.0//EN
CALSCALE:GREGORIAN
METHOD:PUBLISH
X-WR-CALNAME:AV8MAPS.COM
X-ORIGINAL-URL:https://av8maps.com
X-WR-CALDESC:Events for AV8MAPS.COM
REFRESH-INTERVAL;VALUE=DURATION:PT1H
X-Robots-Tag:noindex
X-PUBLISHED-TTL:PT1H
BEGIN:VTIMEZONE
TZID:America/New_York
BEGIN:DAYLIGHT
TZOFFSETFROM:-0500
TZOFFSETTO:-0400
TZNAME:EDT
DTSTART:20250309T070000
END:DAYLIGHT
BEGIN:STANDARD
TZOFFSETFROM:-0400
TZOFFSETTO:-0500
TZNAME:EST
DTSTART:20251102T060000
END:STANDARD
BEGIN:DAYLIGHT
TZOFFSETFROM:-0500
TZOFFSETTO:-0400
TZNAME:EDT
DTSTART:20260308T070000
END:DAYLIGHT
BEGIN:STANDARD
TZOFFSETFROM:-0400
TZOFFSETTO:-0500
TZNAME:EST
DTSTART:20261101T060000
END:STANDARD
BEGIN:DAYLIGHT
TZOFFSETFROM:-0500
TZOFFSETTO:-0400
TZNAME:EDT
DTSTART:20270314T070000
END:DAYLIGHT
BEGIN:STANDARD
TZOFFSETFROM:-0400
TZOFFSETTO:-0500
TZNAME:EST
DTSTART:20271107T060000
END:STANDARD
BEGIN:DAYLIGHT
TZOFFSETFROM:-0500
TZOFFSETTO:-0400
TZNAME:EDT
DTSTART:20280312T070000
END:DAYLIGHT
BEGIN:STANDARD
TZOFFSETFROM:-0400
TZOFFSETTO:-0500
TZNAME:EST
DTSTART:20281105T060000
END:STANDARD
BEGIN:DAYLIGHT
TZOFFSETFROM:-0500
TZOFFSETTO:-0400
TZNAME:EDT
DTSTART:20290311T070000
END:DAYLIGHT
BEGIN:STANDARD
TZOFFSETFROM:-0400
TZOFFSETTO:-0500
TZNAME:EST
DTSTART:20291104T060000
END:STANDARD
BEGIN:DAYLIGHT
TZOFFSETFROM:-0500
TZOFFSETTO:-0400
TZNAME:EDT
DTSTART:20300310T070000
END:DAYLIGHT
BEGIN:STANDARD
TZOFFSETFROM:-0400
TZOFFSETTO:-0500
TZNAME:EST
DTSTART:20301103T060000
END:STANDARD
BEGIN:DAYLIGHT
TZOFFSETFROM:-0500
TZOFFSETTO:-0400
TZNAME:EDT
DTSTART:20310309T070000
END:DAYLIGHT
BEGIN:STANDARD
TZOFFSETFROM:-0400
TZOFFSETTO:-0500
TZNAME:EST
DTSTART:20311102T060000
END:STANDARD
END:VTIMEZONE
BEGIN:VEVENT
DTSTART;TZID=America/New_York:20261003T080000
DTEND;TZID=America/New_York:20261003T110000
DTSTAMP:20260425T101430
CREATED:20250531T211235Z
LAST-MODIFIED:20251031T192026Z
UID:10001746-1791014400-1791025200@av8maps.com
SUMMARY:Crow Island Pancake Breakfast (8MA4)
DESCRIPTION:Get your Tail over to Crow Island! \nNew faces are always welcome\, you don’t have to be a member to attend our meetings or events. \nIf you are driving in please refer to the Crow Island website.
URL:https://av8maps.com/event/crow-island-pancake-breakfast-8ma4/2026-10-03/
LOCATION:Crow Island Airport\, 42.417155\, -71.494817
ATTACH;FMTTYPE=image/jpeg:https://av8maps.com/wp-content/uploads/2025/05/Crow-Island-Pancake-Breakfast-1-3-e1757032262438.jpg
GEO:42.4170365;-71.4944952
X-APPLE-STRUCTURED-LOCATION;VALUE=URI;X-ADDRESS=Crow Island Airport 42.417155 -71.494817;X-APPLE-RADIUS=500;X-TITLE=42.417155\, -71.494817:geo:-71.4944952,42.4170365
END:VEVENT
BEGIN:VEVENT
DTSTART;TZID=America/New_York:20271002T080000
DTEND;TZID=America/New_York:20271002T110000
DTSTAMP:20260425T101430
CREATED:20250531T211235Z
LAST-MODIFIED:20251031T192026Z
UID:10001747-1822464000-1822474800@av8maps.com
SUMMARY:Crow Island Pancake Breakfast (8MA4)
DESCRIPTION:Get your Tail over to Crow Island! \nNew faces are always welcome\, you don’t have to be a member to attend our meetings or events. \nIf you are driving in please refer to the Crow Island website.
URL:https://av8maps.com/event/crow-island-pancake-breakfast-8ma4/2027-10-02/
LOCATION:Crow Island Airport\, 42.417155\, -71.494817
ATTACH;FMTTYPE=image/jpeg:https://av8maps.com/wp-content/uploads/2025/05/Crow-Island-Pancake-Breakfast-1-3-e1757032262438.jpg
GEO:42.4170365;-71.4944952
X-APPLE-STRUCTURED-LOCATION;VALUE=URI;X-ADDRESS=Crow Island Airport 42.417155 -71.494817;X-APPLE-RADIUS=500;X-TITLE=42.417155\, -71.494817:geo:-71.4944952,42.4170365
END:VEVENT
BEGIN:VEVENT
DTSTART;TZID=America/New_York:20281007T080000
DTEND;TZID=America/New_York:20281007T110000
DTSTAMP:20260425T101430
CREATED:20250531T211235Z
LAST-MODIFIED:20251031T192026Z
UID:10001748-1854518400-1854529200@av8maps.com
SUMMARY:Crow Island Pancake Breakfast (8MA4)
DESCRIPTION:Get your Tail over to Crow Island! \nNew faces are always welcome\, you don’t have to be a member to attend our meetings or events. \nIf you are driving in please refer to the Crow Island website.
URL:https://av8maps.com/event/crow-island-pancake-breakfast-8ma4/2028-10-07/
LOCATION:Crow Island Airport\, 42.417155\, -71.494817
ATTACH;FMTTYPE=image/jpeg:https://av8maps.com/wp-content/uploads/2025/05/Crow-Island-Pancake-Breakfast-1-3-e1757032262438.jpg
GEO:42.4170365;-71.4944952
X-APPLE-STRUCTURED-LOCATION;VALUE=URI;X-ADDRESS=Crow Island Airport 42.417155 -71.494817;X-APPLE-RADIUS=500;X-TITLE=42.417155\, -71.494817:geo:-71.4944952,42.4170365
END:VEVENT
BEGIN:VEVENT
DTSTART;TZID=America/New_York:20291006T080000
DTEND;TZID=America/New_York:20291006T110000
DTSTAMP:20260425T101430
CREATED:20250531T211235Z
LAST-MODIFIED:20251031T192026Z
UID:10001749-1885968000-1885978800@av8maps.com
SUMMARY:Crow Island Pancake Breakfast (8MA4)
DESCRIPTION:Get your Tail over to Crow Island! \nNew faces are always welcome\, you don’t have to be a member to attend our meetings or events. \nIf you are driving in please refer to the Crow Island website.
URL:https://av8maps.com/event/crow-island-pancake-breakfast-8ma4/2029-10-06/
LOCATION:Crow Island Airport\, 42.417155\, -71.494817
ATTACH;FMTTYPE=image/jpeg:https://av8maps.com/wp-content/uploads/2025/05/Crow-Island-Pancake-Breakfast-1-3-e1757032262438.jpg
GEO:42.4170365;-71.4944952
X-APPLE-STRUCTURED-LOCATION;VALUE=URI;X-ADDRESS=Crow Island Airport 42.417155 -71.494817;X-APPLE-RADIUS=500;X-TITLE=42.417155\, -71.494817:geo:-71.4944952,42.4170365
END:VEVENT
BEGIN:VEVENT
DTSTART;TZID=America/New_York:20301005T080000
DTEND;TZID=America/New_York:20301005T110000
DTSTAMP:20260425T101430
CREATED:20250531T211235Z
LAST-MODIFIED:20251031T192026Z
UID:10001750-1917417600-1917428400@av8maps.com
SUMMARY:Crow Island Pancake Breakfast (8MA4)
DESCRIPTION:Get your Tail over to Crow Island! \nNew faces are always welcome\, you don’t have to be a member to attend our meetings or events. \nIf you are driving in please refer to the Crow Island website.
URL:https://av8maps.com/event/crow-island-pancake-breakfast-8ma4/2030-10-05/
LOCATION:Crow Island Airport\, 42.417155\, -71.494817
ATTACH;FMTTYPE=image/jpeg:https://av8maps.com/wp-content/uploads/2025/05/Crow-Island-Pancake-Breakfast-1-3-e1757032262438.jpg
GEO:42.4170365;-71.4944952
X-APPLE-STRUCTURED-LOCATION;VALUE=URI;X-ADDRESS=Crow Island Airport 42.417155 -71.494817;X-APPLE-RADIUS=500;X-TITLE=42.417155\, -71.494817:geo:-71.4944952,42.4170365
END:VEVENT
END:VCALENDAR