BEGIN:VCALENDAR
VERSION:2.0
PRODID:-//AV8MAPS.COM - ECPv6.15.20//NONSGML v1.0//EN
CALSCALE:GREGORIAN
METHOD:PUBLISH
X-WR-CALNAME:AV8MAPS.COM
X-ORIGINAL-URL:https://av8maps.com
X-WR-CALDESC:Events for AV8MAPS.COM
REFRESH-INTERVAL;VALUE=DURATION:PT1H
X-Robots-Tag:noindex
X-PUBLISHED-TTL:PT1H
BEGIN:VTIMEZONE
TZID:America/New_York
BEGIN:DAYLIGHT
TZOFFSETFROM:-0500
TZOFFSETTO:-0400
TZNAME:EDT
DTSTART:20250309T070000
END:DAYLIGHT
BEGIN:STANDARD
TZOFFSETFROM:-0400
TZOFFSETTO:-0500
TZNAME:EST
DTSTART:20251102T060000
END:STANDARD
BEGIN:DAYLIGHT
TZOFFSETFROM:-0500
TZOFFSETTO:-0400
TZNAME:EDT
DTSTART:20260308T070000
END:DAYLIGHT
BEGIN:STANDARD
TZOFFSETFROM:-0400
TZOFFSETTO:-0500
TZNAME:EST
DTSTART:20261101T060000
END:STANDARD
BEGIN:DAYLIGHT
TZOFFSETFROM:-0500
TZOFFSETTO:-0400
TZNAME:EDT
DTSTART:20270314T070000
END:DAYLIGHT
BEGIN:STANDARD
TZOFFSETFROM:-0400
TZOFFSETTO:-0500
TZNAME:EST
DTSTART:20271107T060000
END:STANDARD
BEGIN:DAYLIGHT
TZOFFSETFROM:-0500
TZOFFSETTO:-0400
TZNAME:EDT
DTSTART:20280312T070000
END:DAYLIGHT
BEGIN:STANDARD
TZOFFSETFROM:-0400
TZOFFSETTO:-0500
TZNAME:EST
DTSTART:20281105T060000
END:STANDARD
BEGIN:DAYLIGHT
TZOFFSETFROM:-0500
TZOFFSETTO:-0400
TZNAME:EDT
DTSTART:20290311T070000
END:DAYLIGHT
BEGIN:STANDARD
TZOFFSETFROM:-0400
TZOFFSETTO:-0500
TZNAME:EST
DTSTART:20291104T060000
END:STANDARD
BEGIN:DAYLIGHT
TZOFFSETFROM:-0500
TZOFFSETTO:-0400
TZNAME:EDT
DTSTART:20300310T070000
END:DAYLIGHT
BEGIN:STANDARD
TZOFFSETFROM:-0400
TZOFFSETTO:-0500
TZNAME:EST
DTSTART:20301103T060000
END:STANDARD
BEGIN:DAYLIGHT
TZOFFSETFROM:-0500
TZOFFSETTO:-0400
TZNAME:EDT
DTSTART:20310309T070000
END:DAYLIGHT
BEGIN:STANDARD
TZOFFSETFROM:-0400
TZOFFSETTO:-0500
TZNAME:EST
DTSTART:20311102T060000
END:STANDARD
END:VTIMEZONE
BEGIN:VEVENT
DTSTART;TZID=America/New_York:20260613T183000
DTEND;TZID=America/New_York:20260613T230000
DTSTAMP:20260423T083857
CREATED:20250516T194709Z
LAST-MODIFIED:20251031T192734Z
UID:10001781-1781375400-1781391600@av8maps.com
SUMMARY:Commemorative Airforce Annual Marie Wicke Dinner Dance
DESCRIPTION:For more information or to purchase tickets. https://www.facebook.com/CAFHOA/
URL:https://av8maps.com/event/commemorative-airforce-annual-marie-wicke-dinner-dance/2026-06-13/
LOCATION:New Century AirCenter Airport\, 6 Aero Plaza\, New Century\, KS 66031\, KS
ATTACH;FMTTYPE=image/jpeg:https://av8maps.com/wp-content/uploads/2025/05/IMG_9563-e1748986607602.jpeg
GEO:38.8384297;-94.8865377
X-APPLE-STRUCTURED-LOCATION;VALUE=URI;X-ADDRESS=New Century AirCenter Airport 6 Aero Plaza New Century KS 66031 KS;X-APPLE-RADIUS=500;X-TITLE=6 Aero Plaza\, New Century\, KS 66031:geo:-94.8865377,38.8384297
END:VEVENT
BEGIN:VEVENT
DTSTART;TZID=America/New_York:20270612T183000
DTEND;TZID=America/New_York:20270612T230000
DTSTAMP:20260423T083857
CREATED:20250516T194709Z
LAST-MODIFIED:20251031T192734Z
UID:10001782-1812825000-1812841200@av8maps.com
SUMMARY:Commemorative Airforce Annual Marie Wicke Dinner Dance
DESCRIPTION:For more information or to purchase tickets. https://www.facebook.com/CAFHOA/
URL:https://av8maps.com/event/commemorative-airforce-annual-marie-wicke-dinner-dance/2027-06-12/
LOCATION:New Century AirCenter Airport\, 6 Aero Plaza\, New Century\, KS 66031\, KS
ATTACH;FMTTYPE=image/jpeg:https://av8maps.com/wp-content/uploads/2025/05/IMG_9563-e1748986607602.jpeg
GEO:38.8384297;-94.8865377
X-APPLE-STRUCTURED-LOCATION;VALUE=URI;X-ADDRESS=New Century AirCenter Airport 6 Aero Plaza New Century KS 66031 KS;X-APPLE-RADIUS=500;X-TITLE=6 Aero Plaza\, New Century\, KS 66031:geo:-94.8865377,38.8384297
END:VEVENT
BEGIN:VEVENT
DTSTART;TZID=America/New_York:20280610T183000
DTEND;TZID=America/New_York:20280610T230000
DTSTAMP:20260423T083857
CREATED:20250516T194709Z
LAST-MODIFIED:20251031T192734Z
UID:10001783-1844274600-1844290800@av8maps.com
SUMMARY:Commemorative Airforce Annual Marie Wicke Dinner Dance
DESCRIPTION:For more information or to purchase tickets. https://www.facebook.com/CAFHOA/
URL:https://av8maps.com/event/commemorative-airforce-annual-marie-wicke-dinner-dance/2028-06-10/
LOCATION:New Century AirCenter Airport\, 6 Aero Plaza\, New Century\, KS 66031\, KS
ATTACH;FMTTYPE=image/jpeg:https://av8maps.com/wp-content/uploads/2025/05/IMG_9563-e1748986607602.jpeg
GEO:38.8384297;-94.8865377
X-APPLE-STRUCTURED-LOCATION;VALUE=URI;X-ADDRESS=New Century AirCenter Airport 6 Aero Plaza New Century KS 66031 KS;X-APPLE-RADIUS=500;X-TITLE=6 Aero Plaza\, New Century\, KS 66031:geo:-94.8865377,38.8384297
END:VEVENT
BEGIN:VEVENT
DTSTART;TZID=America/New_York:20290609T183000
DTEND;TZID=America/New_York:20290609T230000
DTSTAMP:20260423T083857
CREATED:20250516T194709Z
LAST-MODIFIED:20251031T192734Z
UID:10001784-1875724200-1875740400@av8maps.com
SUMMARY:Commemorative Airforce Annual Marie Wicke Dinner Dance
DESCRIPTION:For more information or to purchase tickets. https://www.facebook.com/CAFHOA/
URL:https://av8maps.com/event/commemorative-airforce-annual-marie-wicke-dinner-dance/2029-06-09/
LOCATION:New Century AirCenter Airport\, 6 Aero Plaza\, New Century\, KS 66031\, KS
ATTACH;FMTTYPE=image/jpeg:https://av8maps.com/wp-content/uploads/2025/05/IMG_9563-e1748986607602.jpeg
GEO:38.8384297;-94.8865377
X-APPLE-STRUCTURED-LOCATION;VALUE=URI;X-ADDRESS=New Century AirCenter Airport 6 Aero Plaza New Century KS 66031 KS;X-APPLE-RADIUS=500;X-TITLE=6 Aero Plaza\, New Century\, KS 66031:geo:-94.8865377,38.8384297
END:VEVENT
BEGIN:VEVENT
DTSTART;TZID=America/New_York:20300608T183000
DTEND;TZID=America/New_York:20300608T230000
DTSTAMP:20260423T083857
CREATED:20250516T194709Z
LAST-MODIFIED:20251031T192734Z
UID:10001785-1907173800-1907190000@av8maps.com
SUMMARY:Commemorative Airforce Annual Marie Wicke Dinner Dance
DESCRIPTION:For more information or to purchase tickets. https://www.facebook.com/CAFHOA/
URL:https://av8maps.com/event/commemorative-airforce-annual-marie-wicke-dinner-dance/2030-06-08/
LOCATION:New Century AirCenter Airport\, 6 Aero Plaza\, New Century\, KS 66031\, KS
ATTACH;FMTTYPE=image/jpeg:https://av8maps.com/wp-content/uploads/2025/05/IMG_9563-e1748986607602.jpeg
GEO:38.8384297;-94.8865377
X-APPLE-STRUCTURED-LOCATION;VALUE=URI;X-ADDRESS=New Century AirCenter Airport 6 Aero Plaza New Century KS 66031 KS;X-APPLE-RADIUS=500;X-TITLE=6 Aero Plaza\, New Century\, KS 66031:geo:-94.8865377,38.8384297
END:VEVENT
END:VCALENDAR